Workbook

Sheet Genel Özet
A1: Kaynaklı ST52 Grubu – Genel Maliyet Özeti (sipariş bazında)
A2: Tüm değerler 'Maliyet Analizi' sayfasından formülle hesaplanır.
A4: Kalem | B4: Tutar (€) | C4: Pay
A5: Sac maliyeti (fire düşülmüş) | B5: =SUMPRODUCT('Maliyet Analizi'!$J$5:$J$199,'Maliyet Analizi'!$F$5:$F$199) -> 50365.115 | C5: =IF($B$13=0,0,B5/$B$13) -> 0.24339953
A6: Satınalma malzeme (Satınalma Parçaları) | B6: =SUMPRODUCT('Maliyet Analizi'!$K$5:$K$199,'Maliyet Analizi'!$F$5:$F$199) -> 17860.027 | C6: =IF($B$13=0,0,B6/$B$13) -> 0.086312167
A7: Malzeme toplamı | B7: =B5+B6 -> 68225.142 | C7: =IF($B$13=0,0,B7/$B$13) -> 0.3297117
A8: Büküm işçiliği | B8: =SUMPRODUCT('Maliyet Analizi'!$M$5:$M$199,'Maliyet Analizi'!$F$5:$F$199) -> 14971.77 | C8: =IF($B$13=0,0,B8/$B$13) -> 0.072354083
A9: Puntalama işçiliği | B9: =SUMPRODUCT('Maliyet Analizi'!$N$5:$N$199,'Maliyet Analizi'!$F$5:$F$199) -> 26654.927 | C9: =IF($B$13=0,0,B9/$B$13) -> 0.12881529
A10: Kaynak işçiliği | B10: =SUMPRODUCT('Maliyet Analizi'!$O$5:$O$199,'Maliyet Analizi'!$F$5:$F$199) -> 18562.649 | C10: =IF($B$13=0,0,B10/$B$13) -> 0.089707729
A11: İşçilik toplamı | B11: =B8+B9+B10 -> 60189.346 | C11: =IF($B$13=0,0,B11/$B$13) -> 0.2908771
A12: Boya / kaplama | B12: =SUM('Maliyet Analizi'!$AH$5:$AH$199)-B7-B11 -> 78509.141 | C12: =IF($B$13=0,0,B12/$B$13) -> 0.3794112
A13: GENEL TOPLAM | B13: =B7+B11+B12 -> 206923.63 | C13: =IF($B$13=0,0,B13/$B$13) -> 1
A15: Kırılımlar
A16: Grup | B16: Ürün sayısı | C16: Sipariş adedi | D16: Malzeme € | E16: İşçilik € | F16: Boya € | G16: Toplam € | H16: Pay
A17: STEP modelinden | B17: =COUNTIF('Maliyet Analizi'!$D$5:$D$199,"STEP") -> 58 | C17: =SUMIF('Maliyet Analizi'!$D$5:$D$199,"STEP",'Maliyet Analizi'!$F$5:$F$199) -> 1820 | D17: =SUMPRODUCT('Maliyet Analizi'!$L$5:$L$199,'Maliyet Analizi'!$F$5:$F$199,--('Maliyet Analizi'!$D$5:$D$199="STEP")) -> 55703.164 | E17: =SUMPRODUCT('Maliyet Analizi'!$P$5:$P$199,'Maliyet Analizi'!$F$5:$F$199,--('Maliyet Analizi'!$D$5:$D$199="STEP")) -> 28592.235 | F17: =G17-D17-E17 -> 41493.64 | G17: =SUMIF('Maliyet Analizi'!$D$5:$D$199,"STEP",'Maliyet Analizi'!$AH$5:$AH$199) -> 125789.04 | H17: =IF($B$13=0,0,G17/$B$13) -> 0.6079008
A18: Resimden tahmin | B18: =COUNTIF('Maliyet Analizi'!$D$5:$D$199,"Resimden tahmin") -> 137 | C18: =SUMIF('Maliyet Analizi'!$D$5:$D$199,"Resimden tahmin",'Maliyet Analizi'!$F$5:$F$199) -> 6043 | D18: =SUMPRODUCT('Maliyet Analizi'!$L$5:$L$199,'Maliyet Analizi'!$F$5:$F$199,--('Maliyet Analizi'!$D$5:$D$199="Resimden tahmin")) -> 12521.977 | E18: =SUMPRODUCT('Maliyet Analizi'!$P$5:$P$199,'Maliyet Analizi'!$F$5:$F$199,--('Maliyet Analizi'!$D$5:$D$199="Resimden tahmin")) -> 31597.111 | F18: =G18-D18-E18 -> 37015.501 | G18: =SUMIF('Maliyet Analizi'!$D$5:$D$199,"Resimden tahmin",'Maliyet Analizi'!$AH$5:$AH$199) -> 81134.59 | H18: =IF($B$13=0,0,G18/$B$13) -> 0.3920992
A19: Boya: Yaş boya | B19: =COUNTIF('Maliyet Analizi'!$E$5:$E$199,"Yaş boya") -> 120 | C19: =SUMIF('Maliyet Analizi'!$E$5:$E$199,"Yaş boya",'Maliyet Analizi'!$F$5:$F$199) -> 4345 | D19: =SUMPRODUCT('Maliyet Analizi'!$L$5:$L$199,'Maliyet Analizi'!$F$5:$F$199,--('Maliyet Analizi'!$E$5:$E$199="Yaş boya")) -> 44089.46 | E19: =SUMPRODUCT('Maliyet Analizi'!$P$5:$P$199,'Maliyet Analizi'!$F$5:$F$199,--('Maliyet Analizi'!$E$5:$E$199="Yaş boya")) -> 34684.237 | F19: =G19-D19-E19 -> 66160 | G19: =SUMIF('Maliyet Analizi'!$E$5:$E$199,"Yaş boya",'Maliyet Analizi'!$AH$5:$AH$199) -> 144933.7 | H19: =IF($B$13=0,0,G19/$B$13) -> 0.70042121
A20: Boya: Kataforez | B20: =COUNTIF('Maliyet Analizi'!$E$5:$E$199,"Kataforez") -> 17 | C20: =SUMIF('Maliyet Analizi'!$E$5:$E$199,"Kataforez",'Maliyet Analizi'!$F$5:$F$199) -> 1865 | D20: =SUMPRODUCT('Maliyet Analizi'!$L$5:$L$199,'Maliyet Analizi'!$F$5:$F$199,--('Maliyet Analizi'!$E$5:$E$199="Kataforez")) -> 14746.594 | E20: =SUMPRODUCT('Maliyet Analizi'!$P$5:$P$199,'Maliyet Analizi'!$F$5:$F$199,--('Maliyet Analizi'!$E$5:$E$199="Kataforez")) -> 16124.367 | F20: =G20-D20-E20 -> 12349.141 | G20: =SUMIF('Maliyet Analizi'!$E$5:$E$199,"Kataforez",'Maliyet Analizi'!$AH$5:$AH$199) -> 43220.102 | H20: =IF($B$13=0,0,G20/$B$13) -> 0.20886983
A21: Boya: Yok | B21: =COUNTIF('Maliyet Analizi'!$E$5:$E$199,"Yok") -> 58 | C21: =SUMIF('Maliyet Analizi'!$E$5:$E$199,"Yok",'Maliyet Analizi'!$F$5:$F$199) -> 1653 | D21: =SUMPRODUCT('Maliyet Analizi'!$L$5:$L$199,'Maliyet Analizi'!$F$5:$F$199,--('Maliyet Analizi'!$E$5:$E$199="Yok")) -> 9389.0873 | E21: =SUMPRODUCT('Maliyet Analizi'!$P$5:$P$199,'Maliyet Analizi'!$F$5:$F$199,--('Maliyet Analizi'!$E$5:$E$199="Yok")) -> 9380.7418 | F21: =G21-D21-E21 -> 1.4551915e-11 | G21: =SUMIF('Maliyet Analizi'!$E$5:$E$199,"Yok",'Maliyet Analizi'!$AH$5:$AH$199) -> 18769.829 | H21: =IF($B$13=0,0,G21/$B$13) -> 0.090708969
A22: Not: ilk iki satır (STEP / tahmin) ve son üç satır (boya yöntemi) ayrı ayrı toplama verir.
A24: Kontrol listesi
A25: Satınalma kalemi olup tutarı 0 olan ürün | B25: =COUNTIFS('Maliyet Analizi'!$K$5:$K$199,0,'Maliyet Analizi'!$AD$5:$AD$199,"*satınalma kalemi*") -> 30
A26: Satınalma kalemi olan ürün sayısı | B26: =COUNTIF('Maliyet Analizi'!$AD$5:$AD$199,"*satınalma kalemi*") -> 61
A27: Kataforez fiyatı tahmini olan ürün (teklif yok) | B27: =COUNTIF('Maliyet Analizi'!$AD$5:$AD$199,"*TAHMİN*") -> 2
A28: Toplam iş saati (sipariş, h) | B28: =SUM('Maliyet Analizi'!$W$5:$W$199) -> 3009.4673
A29: Toplam brüt sac (kg, sipariş) | B29: =SUMPRODUCT('Maliyet Analizi'!$H$5:$H$199,'Maliyet Analizi'!$F$5:$F$199) -> 72463.192
A30: Toplam hurda (kg, sipariş) | B30: =SUMPRODUCT('Maliyet Analizi'!$I$5:$I$199,'Maliyet Analizi'!$F$5:$F$199) -> 23238.849
A31: Fiyatı girilmemiş satınalma kalemi (Satınalma Parçaları, 'Evet' olanlar) | B31: =COUNTIFS('Satınalma Parçaları'!$H$2:$H$107,"Evet")-SUMPRODUCT(('Satınalma Parçaları'!$H$2:$H$107="Evet")*ISNUMBER('Satınalma Parçaları'!$K$2:$K$107)) -> 7
A32: Satış bedeli toplamı (€, Maliyet Analizi AB) | B32: ='Maliyet Analizi'!AB200 -> 289180.74

Sheet Maliyet Analizi
A1: Kaynaklı ST52 Grubu – Özet Maliyet Analizi
A2: 195 ürün · işçilik: "İşçilik Özet" · sac: "Sac Özet" (31.10.2026 güncellemeleri dahil) · satınalma: Satınalma Parçaları · boya: Yaş Boya Listesi (80 €/araba) ve Kataforez Teklifleri · tüm kaynaklar bu dosyada, birleştirme 31.10.2026
A3: ÜRÜN | H3: MALZEME (€ / ürün) | M3: İŞÇİLİK (€ / ürün) | Q3: BOYA / KAPLAMA | S3: TOPLAM | X3: KG MALİYETİ (€ / kg) | AA3: SATIŞ | AC3: BİLGİ | AE3: SÜRE VERİSİ (ch / ürün) | AH3: SİPARİŞ
A4: Kod | B4: Ürün | C4: Rev. | D4: Veri kaynağı | E4: Boya yöntemi | F4: Adet (sipariş) | G4: Birim ağırlık (kg) | H4: Brüt sac (kg) | I4: Fire / hurda (kg) | J4: Sac maliyeti | K4: Satınalma malzeme | L4: Malzeme toplam | M4: Büküm | N4: Puntalama | O4: Kaynak | P4: İşçilik toplam | Q4: Boya değeri (€/parça ya da parça/araba) | R4: Boya €/ürün | S4: Birim maliyet (€/ürün) | T4: Malzeme payı | U4: İşçilik payı | V4: Boya payı | W4: İş saati (sipariş, h) | X4: Sac maliyeti (€/kg) | Y4: Birim maliyet (€/kg) | Z4: Malzeme toplam (€/kg) | AA4: Satış fiyatı (€/ürün) | AB4: Toplam satış bedeli (€) | AC4: Satınalma kalemleri (sac dışı) | AD4: Not | AE4: Büküm ch | AF4: Punta ch | AG4: Kaynak ch | AH4: Sipariş toplamı (€)
A5: 1343489 | B5: Izgara 1202X839 (Yeni Switch) | C5: B | D5: STEP | E5: Yaş boya | F5: 119 | G5: 59.956 | H5: =INDEX('Sac Özet'!$L$5:$L$199,MATCH($A5&"",'Sac Özet'!$A$5:$A$199,0)) -> 49.473645 | I5: =INDEX('Sac Özet'!$M$5:$M$199,MATCH($A5&"",'Sac Özet'!$A$5:$A$199,0)) -> 13.886864 | J5: =INDEX('Sac Özet'!$N$5:$N$199,MATCH($A5&"",'Sac Özet'!$A$5:$A$199,0)) -> 35.034125 | K5: =SUMPRODUCT((--'Satınalma Parçaları'!$A$2:$A$107=--$A5)*'Satınalma Parçaları'!$L$2:$L$107) -> 133.50109 | L5: =J5+N(K5) -> 168.53522 | M5: =AE5/100*Parametreler!$B$7 -> 10.488 | N5: =AF5/100*Parametreler!$B$8 -> 19 | O5: =AG5/100*Parametreler!$B$9 -> 1.7504 | P5: =SUM(M5:O5) -> 31.2384 | Q5: =VLOOKUP($A5,'Yaş Boya Listesi'!$B$6:$L$131,11,FALSE()) -> 1 | R5: =IF(E5="Kataforez",N(Q5),IF(E5="Yaş boya",Parametreler!$B$10/MAX(1,ROUND(IF(ISNUMBER(Q5),Q5,Parametreler!$B$11),0)),0)) -> 80 | S5: =L5+P5+R5 -> 279.77362 | T5: =IF(S5=0,0,L5/S5) -> 0.60239853 | U5: =IF(S5=0,0,P5/S5) -> 0.11165599 | V5: =IF(S5=0,0,R5/S5) -> 0.28594548 | W5: =SUM(AE5:AG5)/100*F5 -> 185.86848 | X5: =IF($G5=0,0,J5/$G5) -> 0.58433059 | Y5: =IF($G5=0,0,S5/$G5) -> 4.6663156 | Z5: =IF($G5=0,0,L5/$G5) -> 2.8109816 | AA5: =S5*Parametreler!$B$12 -> 400.07627 | AB5: =AA5*F5 -> 47609.076 | AC5: 1343554 Ø30 MIL TRANSMISYON L:1243mm ×1; 655949 Ø30 MIL TRANSMISYON L:1172mm ×1; 1057048 Tutamak ×2; H300.00067 ARMUT TAKOZ ×2; 655833 Ara boru Ø38×Ø30,8 L50 ×40; H900.00013 DIN125 M8 Rondela ×2; H900.00014 DIN985 M8 Somun ×2; H900.00064 DIN125 M10 Rondela ×8; H900.00069 DIN985 M10 Somun ×4; H900.00024 DIN933 M10x25 8.8 Civata ×4; 655972 DIN935 M30x3.5 ×4; H411.00015 DIN94 5x80 GUPILYA ×4 | AD5: 12 satınalma kalemi | AE5: =INDEX('İşçilik Özet'!$W$6:$W$200,MATCH($A5&"",'İşçilik Özet'!$A$6:$A$200,0)) -> 52.44 | AF5: =INDEX('İşçilik Özet'!$X$6:$X$200,MATCH($A5&"",'İşçilik Özet'!$A$6:$A$200,0)) -> 95 | AG5: =INDEX('İşçilik Özet'!$Y$6:$Y$200,MATCH($A5&"",'İşçilik Özet'!$A$6:$A$200,0)) -> 8.752 | AH5: =(L5+P5)*F5+IF(E5="Kataforez",N(Q5)*F5,IF(E5="Yaş boya",ROUNDUP(F5/MAX(1,ROUND(IF(ISNUMBER(Q5),Q5,Parametreler!$B$11),0)),0)*Parametreler!$B$10,0)) -> 33293.06
A6: 0913348 | B6: H40 Arka Bom Desteği | C6: A.2 | D6: STEP | E6: Kataforez | F6: 56 | G6: 62.123 | H6: =INDEX('Sac Özet'!$L$5:$L$199,MATCH($A6&"",'Sac Özet'!$A$5:$A$199,0)) -> 129.4846 | I6: =INDEX('Sac Özet'!$M$5:$M$199,MATCH($A6&"",'Sac Özet'!$A$5:$A$199,0)) -> 67.440551 | J6: =INDEX('Sac Özet'!$N$5:$N$199,MATCH($A6&"",'Sac Özet'!$A$5:$A$199,0)) -> 81.51623 | K6: =SUMPRODUCT((--'Satınalma Parçaları'!$A$2:$A$107=--$A6)*'Satınalma Parçaları'!$L$2:$L$107) -> 0.22509091 | L6: =J6+N(K6) -> 81.741321 | M6: =AE6/100*Parametreler!$B$7 -> 10.419 | N6: =AF6/100*Parametreler!$B$8 -> 13.75 | O6: =AG6/100*Parametreler!$B$9 -> 18.2552 | P6: =SUM(M6:O6) -> 42.4242 | Q6: =IFERROR(INDEX('Kataforez Teklifleri'!$G$6:$G$50,MATCH($A6&"",'Kataforez Teklifleri'!$A$6:$A$50,0)),"") -> 45.96 | R6: =IF(E6="Kataforez",N(Q6),IF(E6="Yaş boya",Parametreler!$B$10/MAX(1,ROUND(IF(ISNUMBER(Q6),Q6,Parametreler!$B$11),0)),0)) -> 45.96 | S6: =L6+P6+R6 -> 170.12552 | T6: =IF(S6=0,0,L6/S6) -> 0.48047654 | U6: =IF(S6=0,0,P6/S6) -> 0.24936999 | V6: =IF(S6=0,0,R6/S6) -> 0.27015347 | W6: =SUM(AE6:AG6)/100*F6 -> 118.78776 | X6: =IF($G6=0,0,J6/$G6) -> 1.3121747 | Y6: =IF($G6=0,0,S6/$G6) -> 2.7385271 | Z6: =IF($G6=0,0,L6/$G6) -> 1.315798 | AA6: =S6*Parametreler!$B$12 -> 243.27949 | AB6: =AA6*F6 -> 13623.652 | AC6: 323753 DIN 929 M10 kaynak somunu ×8; H900.680347 DIN 929 M8 kaynak somunu ×3 | AD6: 2 satınalma kalemi | AE6: =INDEX('İşçilik Özet'!$W$6:$W$200,MATCH($A6&"",'İşçilik Özet'!$A$6:$A$200,0)) -> 52.095 | AF6: =INDEX('İşçilik Özet'!$X$6:$X$200,MATCH($A6&"",'İşçilik Özet'!$A$6:$A$200,0)) -> 68.75 | AG6: =INDEX('İşçilik Özet'!$Y$6:$Y$200,MATCH($A6&"",'İşçilik Özet'!$A$6:$A$200,0)) -> 91.276 | AH6: =(L6+P6)*F6+IF(E6="Kataforez",N(Q6)*F6,IF(E6="Yaş boya",ROUNDUP(F6/MAX(1,ROUND(IF(ISNUMBER(Q6),Q6,Parametreler!$B$11),0)),0)*Parametreler!$B$10,0)) -> 9527.0292
A7: 103116 | B7: Pto Pompa Salıncağı | C7: A.19 | D7: STEP | E7: Yaş boya | F7: 83 | G7: 33.158 | H7: =INDEX('Sac Özet'!$L$5:$L$199,MATCH($A7&"",'Sac Özet'!$A$5:$A$199,0)) -> 45.420767 | I7: =INDEX('Sac Özet'!$M$5:$M$199,MATCH($A7&"",'Sac Özet'!$A$5:$A$199,0)) -> 12.728029 | J7: =INDEX('Sac Özet'!$N$5:$N$199,MATCH($A7&"",'Sac Özet'!$A$5:$A$199,0)) -> 32.171077 | K7: =SUMPRODUCT((--'Satınalma Parçaları'!$A$2:$A$107=--$A7)*'Satınalma Parçaları'!$L$2:$L$107) -> 0 | L7: =J7+N(K7) -> 32.171077 | M7: =AE7/100*Parametreler!$B$7 -> 6.4515 | N7: =AF7/100*Parametreler!$B$8 -> 8 | O7: =AG7/100*Parametreler!$B$9 -> 9.635 | P7: =SUM(M7:O7) -> 24.0865 | Q7: =VLOOKUP($A7,'Yaş Boya Listesi'!$B$6:$L$131,11,FALSE()) -> 2 | R7: =IF(E7="Kataforez",N(Q7),IF(E7="Yaş boya",Parametreler!$B$10/MAX(1,ROUND(IF(ISNUMBER(Q7),Q7,Parametreler!$B$11),0)),0)) -> 40 | S7: =L7+P7+R7 -> 96.257577 | T7: =IF(S7=0,0,L7/S7) -> 0.33421865 | U7: =IF(S7=0,0,P7/S7) -> 0.25022965 | V7: =IF(S7=0,0,R7/S7) -> 0.4155517 | W7: =SUM(AE7:AG7)/100*F7 -> 99.958975 | X7: =IF($G7=0,0,J7/$G7) -> 0.97023575 | Y7: =IF($G7=0,0,S7/$G7) -> 2.9029971 | Z7: =IF($G7=0,0,L7/$G7) -> 0.97023575 | AA7: =S7*Parametreler!$B$12 -> 137.64834 | AB7: =AA7*F7 -> 11424.812 | AE7: =INDEX('İşçilik Özet'!$W$6:$W$200,MATCH($A7&"",'İşçilik Özet'!$A$6:$A$200,0)) -> 32.2575 | AF7: =INDEX('İşçilik Özet'!$X$6:$X$200,MATCH($A7&"",'İşçilik Özet'!$A$6:$A$200,0)) -> 40 | AG7: =INDEX('İşçilik Özet'!$Y$6:$Y$200,MATCH($A7&"",'İşçilik Özet'!$A$6:$A$200,0)) -> 48.175 | AH7: =(L7+P7)*F7+IF(E7="Kataforez",N(Q7)*F7,IF(E7="Yaş boya",ROUNDUP(F7/MAX(1,ROUND(IF(ISNUMBER(Q7),Q7,Parametreler!$B$11),0)),0)*Parametreler!$B$10,0)) -> 8029.3789
A8: 112616 | B8: Tampon Basamağı | C8: B.4 | D8: Resimden tahmin | E8: Yaş boya | F8: 139 | G8: 4.078 | H8: =INDEX('Sac Özet'!$L$5:$L$199,MATCH($A8&"",'Sac Özet'!$A$5:$A$199,0)) -> 5.0436396 | I8: =INDEX('Sac Özet'!$M$5:$M$199,MATCH($A8&"",'Sac Özet'!$A$5:$A$199,0)) -> 0.96576873 | J8: =INDEX('Sac Özet'!$N$5:$N$199,MATCH($A8&"",'Sac Özet'!$A$5:$A$199,0)) -> 3.7188419 | K8: =SUMPRODUCT((--'Satınalma Parçaları'!$A$2:$A$107=--$A8)*'Satınalma Parçaları'!$L$2:$L$107) -> 0 | L8: =J8+N(K8) -> 3.7188419 | M8: =AE8/100*Parametreler!$B$7 -> 6.555 | N8: =AF8/100*Parametreler!$B$8 -> 11.5825 | O8: =AG8/100*Parametreler!$B$9 -> 6.474 | P8: =SUM(M8:O8) -> 24.6115 | Q8: =VLOOKUP($A8,'Yaş Boya Listesi'!$B$6:$L$131,11,FALSE()) -> 4 | R8: =IF(E8="Kataforez",N(Q8),IF(E8="Yaş boya",Parametreler!$B$10/MAX(1,ROUND(IF(ISNUMBER(Q8),Q8,Parametreler!$B$11),0)),0)) -> 20 | S8: =L8+P8+R8 -> 48.330342 | T8: =IF(S8=0,0,L8/S8) -> 0.07694632 | U8: =IF(S8=0,0,P8/S8) -> 0.50923497 | V8: =IF(S8=0,0,R8/S8) -> 0.41381872 | W8: =SUM(AE8:AG8)/100*F8 -> 171.04993 | X8: =IF($G8=0,0,J8/$G8) -> 0.91192789 | Y8: =IF($G8=0,0,S8/$G8) -> 11.851482 | Z8: =IF($G8=0,0,L8/$G8) -> 0.91192789 | AA8: =S8*Parametreler!$B$12 -> 69.112389 | AB8: =AA8*F8 -> 9606.6221 | AD8: STEP yok – resimden tahmin | AE8: =INDEX('İşçilik Özet'!$W$6:$W$200,MATCH($A8&"",'İşçilik Özet'!$A$6:$A$200,0)) -> 32.775 | AF8: =INDEX('İşçilik Özet'!$X$6:$X$200,MATCH($A8&"",'İşçilik Özet'!$A$6:$A$200,0)) -> 57.9125 | AG8: =INDEX('İşçilik Özet'!$Y$6:$Y$200,MATCH($A8&"",'İşçilik Özet'!$A$6:$A$200,0)) -> 32.37 | AH8: =(L8+P8)*F8+IF(E8="Kataforez",N(Q8)*F8,IF(E8="Yaş boya",ROUNDUP(F8/MAX(1,ROUND(IF(ISNUMBER(Q8),Q8,Parametreler!$B$11),0)),0)*Parametreler!$B$10,0)) -> 6737.9175
A9: 701340 | B9: Civatalı Profil Tampon | C9: A.3 | D9: STEP | E9: Yaş boya | F9: 78 | G9: 38.878 | H9: =INDEX('Sac Özet'!$L$5:$L$199,MATCH($A9&"",'Sac Özet'!$A$5:$A$199,0)) -> 40.674901 | I9: =INDEX('Sac Özet'!$M$5:$M$199,MATCH($A9&"",'Sac Özet'!$A$5:$A$199,0)) -> 1.7861262 | J9: =INDEX('Sac Özet'!$N$5:$N$199,MATCH($A9&"",'Sac Özet'!$A$5:$A$199,0)) -> 31.95537 | K9: =SUMPRODUCT((--'Satınalma Parçaları'!$A$2:$A$107=--$A9)*'Satınalma Parçaları'!$L$2:$L$107) -> 0 | L9: =J9+N(K9) -> 31.95537 | M9: =AE9/100*Parametreler!$B$7 -> 4.7495 | N9: =AF9/100*Parametreler!$B$8 -> 4.5 | O9: =AG9/100*Parametreler!$B$9 -> 7.2656 | P9: =SUM(M9:O9) -> 16.5151 | Q9: =VLOOKUP($A9,'Yaş Boya Listesi'!$B$6:$L$131,11,FALSE()) -> 2 | R9: =IF(E9="Kataforez",N(Q9),IF(E9="Yaş boya",Parametreler!$B$10/MAX(1,ROUND(IF(ISNUMBER(Q9),Q9,Parametreler!$B$11),0)),0)) -> 40 | S9: =L9+P9+R9 -> 88.47047 | T9: =IF(S9=0,0,L9/S9) -> 0.36119815 | U9: =IF(S9=0,0,P9/S9) -> 0.18667359 | V9: =IF(S9=0,0,R9/S9) -> 0.45212826 | W9: =SUM(AE9:AG9)/100*F9 -> 64.40889 | X9: =IF($G9=0,0,J9/$G9) -> 0.82193966 | Y9: =IF($G9=0,0,S9/$G9) -> 2.2755921 | Z9: =IF($G9=0,0,L9/$G9) -> 0.82193966 | AA9: =S9*Parametreler!$B$12 -> 126.51277 | AB9: =AA9*F9 -> 9867.9962 | AE9: =INDEX('İşçilik Özet'!$W$6:$W$200,MATCH($A9&"",'İşçilik Özet'!$A$6:$A$200,0)) -> 23.7475 | AF9: =INDEX('İşçilik Özet'!$X$6:$X$200,MATCH($A9&"",'İşçilik Özet'!$A$6:$A$200,0)) -> 22.5 | AG9: =INDEX('İşçilik Özet'!$Y$6:$Y$200,MATCH($A9&"",'İşçilik Özet'!$A$6:$A$200,0)) -> 36.328 | AH9: =(L9+P9)*F9+IF(E9="Kataforez",N(Q9)*F9,IF(E9="Yaş boya",ROUNDUP(F9/MAX(1,ROUND(IF(ISNUMBER(Q9),Q9,Parametreler!$B$11),0)),0)*Parametreler!$B$10,0)) -> 6900.6967
A10: 475599 | B10: 60MM Takozluk | C10: F | D10: STEP | E10: Kataforez | F10: 124 | G10: 17.844 | H10: =INDEX('Sac Özet'!$L$5:$L$199,MATCH($A10&"",'Sac Özet'!$A$5:$A$199,0)) -> 29.946092 | I10: =INDEX('Sac Özet'!$M$5:$M$199,MATCH($A10&"",'Sac Özet'!$A$5:$A$199,0)) -> 12.083817 | J10: =INDEX('Sac Özet'!$N$5:$N$199,MATCH($A10&"",'Sac Özet'!$A$5:$A$199,0)) -> 20.00217 | K10: =SUMPRODUCT((--'Satınalma Parçaları'!$A$2:$A$107=--$A10)*'Satınalma Parçaları'!$L$2:$L$107) -> 0 | L10: =J10+N(K10) -> 20.00217 | M10: =AE10/100*Parametreler!$B$7 -> 6.9115 | N10: =AF10/100*Parametreler!$B$8 -> 4.3325 | O10: =AG10/100*Parametreler!$B$9 -> 3.176 | P10: =SUM(M10:O10) -> 14.42 | Q10: =IFERROR(INDEX('Kataforez Teklifleri'!$G$6:$G$50,MATCH($A10&"",'Kataforez Teklifleri'!$A$6:$A$50,0)),"") -> 14.29 | R10: =IF(E10="Kataforez",N(Q10),IF(E10="Yaş boya",Parametreler!$B$10/MAX(1,ROUND(IF(ISNUMBER(Q10),Q10,Parametreler!$B$11),0)),0)) -> 14.29 | S10: =L10+P10+R10 -> 48.71217 | T10: =IF(S10=0,0,L10/S10) -> 0.41061956 | U10: =IF(S10=0,0,P10/S10) -> 0.29602459 | V10: =IF(S10=0,0,R10/S10) -> 0.29335585 | W10: =SUM(AE10:AG10)/100*F10 -> 89.404 | X10: =IF($G10=0,0,J10/$G10) -> 1.1209465 | Y10: =IF($G10=0,0,S10/$G10) -> 2.7298907 | Z10: =IF($G10=0,0,L10/$G10) -> 1.1209465 | AA10: =S10*Parametreler!$B$12 -> 69.658403 | AB10: =AA10*F10 -> 8637.6419 | AE10: =INDEX('İşçilik Özet'!$W$6:$W$200,MATCH($A10&"",'İşçilik Özet'!$A$6:$A$200,0)) -> 34.5575 | AF10: =INDEX('İşçilik Özet'!$X$6:$X$200,MATCH($A10&"",'İşçilik Özet'!$A$6:$A$200,0)) -> 21.6625 | AG10: =INDEX('İşçilik Özet'!$Y$6:$Y$200,MATCH($A10&"",'İşçilik Özet'!$A$6:$A$200,0)) -> 15.88 | AH10: =(L10+P10)*F10+IF(E10="Kataforez",N(Q10)*F10,IF(E10="Yaş boya",ROUNDUP(F10/MAX(1,ROUND(IF(ISNUMBER(Q10),Q10,Parametreler!$B$11),0)),0)*Parametreler!$B$10,0)) -> 6040.3091
A11: 404443 | B11: Bisikletlik Şase Bağlantı Profili (60010086) | C11: A.7 | D11: Resimden tahmin | E11: Kataforez | F11: 652 | G11: 4.059 | H11: =INDEX('Sac Özet'!$L$5:$L$199,MATCH($A11&"",'Sac Özet'!$A$5:$A$199,0)) -> 1.5000393 | I11: =INDEX('Sac Özet'!$M$5:$M$199,MATCH($A11&"",'Sac Özet'!$A$5:$A$199,0)) -> 0.27000707 | J11: =INDEX('Sac Özet'!$N$5:$N$199,MATCH($A11&"",'Sac Özet'!$A$5:$A$199,0)) -> 1.1116655 | K11: =SUMPRODUCT((--'Satınalma Parçaları'!$A$2:$A$107=--$A11)*'Satınalma Parçaları'!$L$2:$L$107) -> 0 | L11: =J11+N(K11) -> 1.1116655 | M11: =AE11/100*Parametreler!$B$7 -> 0 | N11: =AF11/100*Parametreler!$B$8 -> 2.8325 | O11: =AG11/100*Parametreler!$B$9 -> 1.4608 | P11: =SUM(M11:O11) -> 4.2933 | Q11: =IFERROR(INDEX('Kataforez Teklifleri'!$G$6:$G$50,MATCH($A11&"",'Kataforez Teklifleri'!$A$6:$A$50,0)),"") -> 3.25 | R11: =IF(E11="Kataforez",N(Q11),IF(E11="Yaş boya",Parametreler!$B$10/MAX(1,ROUND(IF(ISNUMBER(Q11),Q11,Parametreler!$B$11),0)),0)) -> 3.25 | S11: =L11+P11+R11 -> 8.6549655 | T11: =IF(S11=0,0,L11/S11) -> 0.12844251 | U11: =IF(S11=0,0,P11/S11) -> 0.49605051 | V11: =IF(S11=0,0,R11/S11) -> 0.37550699 | W11: =SUM(AE11:AG11)/100*F11 -> 139.96158 | X11: =IF($G11=0,0,J11/$G11) -> 0.27387669 | Y11: =IF($G11=0,0,S11/$G11) -> 2.1322901 | Z11: =IF($G11=0,0,L11/$G11) -> 0.27387669 | AA11: =S11*Parametreler!$B$12 -> 12.376601 | AB11: =AA11*F11 -> 8069.5436 | AC11: 117806 Kutu Profil: 40x40x4 ×1 | AD11: STEP yok – resimden tahmin · 1 satınalma kalemi | AE11: =INDEX('İşçilik Özet'!$W$6:$W$200,MATCH($A11&"",'İşçilik Özet'!$A$6:$A$200,0)) -> 0 | AF11: =INDEX('İşçilik Özet'!$X$6:$X$200,MATCH($A11&"",'İşçilik Özet'!$A$6:$A$200,0)) -> 14.1625 | AG11: =INDEX('İşçilik Özet'!$Y$6:$Y$200,MATCH($A11&"",'İşçilik Özet'!$A$6:$A$200,0)) -> 7.304 | AH11: =(L11+P11)*F11+IF(E11="Kataforez",N(Q11)*F11,IF(E11="Yaş boya",ROUNDUP(F11/MAX(1,ROUND(IF(ISNUMBER(Q11),Q11,Parametreler!$B$11),0)),0)*Parametreler!$B$10,0)) -> 5643.0375
A12: 384255 | B12: Takozluk | C12: F | D12: STEP | E12: Kataforez | F12: 106 | G12: 18.62 | H12: =INDEX('Sac Özet'!$L$5:$L$199,MATCH($A12&"",'Sac Özet'!$A$5:$A$199,0)) -> 30.788224 | I12: =INDEX('Sac Özet'!$M$5:$M$199,MATCH($A12&"",'Sac Özet'!$A$5:$A$199,0)) -> 12.152003 | J12: =INDEX('Sac Özet'!$N$5:$N$199,MATCH($A12&"",'Sac Özet'!$A$5:$A$199,0)) -> 20.65356 | K12: =SUMPRODUCT((--'Satınalma Parçaları'!$A$2:$A$107=--$A12)*'Satınalma Parçaları'!$L$2:$L$107) -> 0 | L12: =J12+N(K12) -> 20.65356 | M12: =AE12/100*Parametreler!$B$7 -> 6.9115 | N12: =AF12/100*Parametreler!$B$8 -> 4.3325 | O12: =AG12/100*Parametreler!$B$9 -> 3.176 | P12: =SUM(M12:O12) -> 14.42 | Q12: =IFERROR(INDEX('Kataforez Teklifleri'!$G$6:$G$50,MATCH($A12&"",'Kataforez Teklifleri'!$A$6:$A$50,0)),"") -> 14.9 | R12: =IF(E12="Kataforez",N(Q12),IF(E12="Yaş boya",Parametreler!$B$10/MAX(1,ROUND(IF(ISNUMBER(Q12),Q12,Parametreler!$B$11),0)),0)) -> 14.9 | S12: =L12+P12+R12 -> 49.97356 | T12: =IF(S12=0,0,L12/S12) -> 0.41328975 | U12: =IF(S12=0,0,P12/S12) -> 0.28855258 | V12: =IF(S12=0,0,R12/S12) -> 0.29815766 | W12: =SUM(AE12:AG12)/100*F12 -> 76.426 | X12: =IF($G12=0,0,J12/$G12) -> 1.1092138 | Y12: =IF($G12=0,0,S12/$G12) -> 2.6838647 | Z12: =IF($G12=0,0,L12/$G12) -> 1.1092138 | AA12: =S12*Parametreler!$B$12 -> 71.462192 | AB12: =AA12*F12 -> 7574.9923 | AE12: =INDEX('İşçilik Özet'!$W$6:$W$200,MATCH($A12&"",'İşçilik Özet'!$A$6:$A$200,0)) -> 34.5575 | AF12: =INDEX('İşçilik Özet'!$X$6:$X$200,MATCH($A12&"",'İşçilik Özet'!$A$6:$A$200,0)) -> 21.6625 | AG12: =INDEX('İşçilik Özet'!$Y$6:$Y$200,MATCH($A12&"",'İşçilik Özet'!$A$6:$A$200,0)) -> 15.88 | AH12: =(L12+P12)*F12+IF(E12="Kataforez",N(Q12)*F12,IF(E12="Yaş boya",ROUNDUP(F12/MAX(1,ROUND(IF(ISNUMBER(Q12),Q12,Parametreler!$B$11),0)),0)*Parametreler!$B$10,0)) -> 5297.1974
A13: 677216 | B13: Tampon Bağlantı Sag | C13: A.9 | D13: STEP | E13: Yaş boya | F13: 78 | G13: 13.018 | H13: =INDEX('Sac Özet'!$L$5:$L$199,MATCH($A13&"",'Sac Özet'!$A$5:$A$199,0)) -> 19.576851 | I13: =INDEX('Sac Özet'!$M$5:$M$199,MATCH($A13&"",'Sac Özet'!$A$5:$A$199,0)) -> 6.5464004 | J13: =INDEX('Sac Özet'!$N$5:$N$199,MATCH($A13&"",'Sac Özet'!$A$5:$A$199,0)) -> 13.519022 | K13: =SUMPRODUCT((--'Satınalma Parçaları'!$A$2:$A$107=--$A13)*'Satınalma Parçaları'!$L$2:$L$107) -> 0 | L13: =J13+N(K13) -> 13.519022 | M13: =AE13/100*Parametreler!$B$7 -> 5.244 | N13: =AF13/100*Parametreler!$B$8 -> 6.3325 | O13: =AG13/100*Parametreler!$B$9 -> 6.2496 | P13: =SUM(M13:O13) -> 17.8261 | Q13: =VLOOKUP($A13,'Yaş Boya Listesi'!$B$6:$L$131,11,FALSE()) -> 4 | R13: =IF(E13="Kataforez",N(Q13),IF(E13="Yaş boya",Parametreler!$B$10/MAX(1,ROUND(IF(ISNUMBER(Q13),Q13,Parametreler!$B$11),0)),0)) -> 20 | S13: =L13+P13+R13 -> 51.345122 | T13: =IF(S13=0,0,L13/S13) -> 0.26329711 | U13: =IF(S13=0,0,P13/S13) -> 0.34718196 | V13: =IF(S13=0,0,R13/S13) -> 0.38952093 | W13: =SUM(AE13:AG13)/100*F13 -> 69.52179 | X13: =IF($G13=0,0,J13/$G13) -> 1.0384869 | Y13: =IF($G13=0,0,S13/$G13) -> 3.9441637 | Z13: =IF($G13=0,0,L13/$G13) -> 1.0384869 | AA13: =S13*Parametreler!$B$12 -> 73.423525 | AB13: =AA13*F13 -> 5727.035 | AE13: =INDEX('İşçilik Özet'!$W$6:$W$200,MATCH($A13&"",'İşçilik Özet'!$A$6:$A$200,0)) -> 26.22 | AF13: =INDEX('İşçilik Özet'!$X$6:$X$200,MATCH($A13&"",'İşçilik Özet'!$A$6:$A$200,0)) -> 31.6625 | AG13: =INDEX('İşçilik Özet'!$Y$6:$Y$200,MATCH($A13&"",'İşçilik Özet'!$A$6:$A$200,0)) -> 31.248 | AH13: =(L13+P13)*F13+IF(E13="Kataforez",N(Q13)*F13,IF(E13="Yaş boya",ROUNDUP(F13/MAX(1,ROUND(IF(ISNUMBER(Q13),Q13,Parametreler!$B$11),0)),0)*Parametreler!$B$10,0)) -> 4044.9195
A14: 678436 | B14: Tampon Bağlantı Sol | C14: A.9 | D14: STEP | E14: Yaş boya | F14: 78 | G14: 13.018 | H14: =INDEX('Sac Özet'!$L$5:$L$199,MATCH($A14&"",'Sac Özet'!$A$5:$A$199,0)) -> 19.576851 | I14: =INDEX('Sac Özet'!$M$5:$M$199,MATCH($A14&"",'Sac Özet'!$A$5:$A$199,0)) -> 6.5477663 | J14: =INDEX('Sac Özet'!$N$5:$N$199,MATCH($A14&"",'Sac Özet'!$A$5:$A$199,0)) -> 13.518575 | K14: =SUMPRODUCT((--'Satınalma Parçaları'!$A$2:$A$107=--$A14)*'Satınalma Parçaları'!$L$2:$L$107) -> 0 | L14: =J14+N(K14) -> 13.518575 | M14: =AE14/100*Parametreler!$B$7 -> 5.244 | N14: =AF14/100*Parametreler!$B$8 -> 6.3325 | O14: =AG14/100*Parametreler!$B$9 -> 6.2496 | P14: =SUM(M14:O14) -> 17.8261 | Q14: =VLOOKUP($A14,'Yaş Boya Listesi'!$B$6:$L$131,11,FALSE()) -> 4 | R14: =IF(E14="Kataforez",N(Q14),IF(E14="Yaş boya",Parametreler!$B$10/MAX(1,ROUND(IF(ISNUMBER(Q14),Q14,Parametreler!$B$11),0)),0)) -> 20 | S14: =L14+P14+R14 -> 51.344675 | T14: =IF(S14=0,0,L14/S14) -> 0.2632907 | U14: =IF(S14=0,0,P14/S14) -> 0.34718498 | V14: =IF(S14=0,0,R14/S14) -> 0.38952432 | W14: =SUM(AE14:AG14)/100*F14 -> 69.52179 | X14: =IF($G14=0,0,J14/$G14) -> 1.0384526 | Y14: =IF($G14=0,0,S14/$G14) -> 3.9441293 | Z14: =IF($G14=0,0,L14/$G14) -> 1.0384526 | AA14: =S14*Parametreler!$B$12 -> 73.422886 | AB14: =AA14*F14 -> 5726.9851 | AE14: =INDEX('İşçilik Özet'!$W$6:$W$200,MATCH($A14&"",'İşçilik Özet'!$A$6:$A$200,0)) -> 26.22 | AF14: =INDEX('İşçilik Özet'!$X$6:$X$200,MATCH($A14&"",'İşçilik Özet'!$A$6:$A$200,0)) -> 31.6625 | AG14: =INDEX('İşçilik Özet'!$Y$6:$Y$200,MATCH($A14&"",'İşçilik Özet'!$A$6:$A$200,0)) -> 31.248 | AH14: =(L14+P14)*F14+IF(E14="Kataforez",N(Q14)*F14,IF(E14="Yaş boya",ROUNDUP(F14/MAX(1,ROUND(IF(ISNUMBER(Q14),Q14,Parametreler!$B$11),0)),0)*Parametreler!$B$10,0)) -> 4044.8847
A15: 475601 | B15: 60MM Takozluk Bağlantısı | C15: A.7 | D15: STEP | E15: Kataforez | F15: 122 | G15: 10.973 | H15: =INDEX('Sac Özet'!$L$5:$L$199,MATCH($A15&"",'Sac Özet'!$A$5:$A$199,0)) -> 14.564223 | I15: =INDEX('Sac Özet'!$M$5:$M$199,MATCH($A15&"",'Sac Özet'!$A$5:$A$199,0)) -> 3.5793724 | J15: =INDEX('Sac Özet'!$N$5:$N$199,MATCH($A15&"",'Sac Özet'!$A$5:$A$199,0)) -> 10.479947 | K15: =SUMPRODUCT((--'Satınalma Parçaları'!$A$2:$A$107=--$A15)*'Satınalma Parçaları'!$L$2:$L$107) -> 0 | L15: =J15+N(K15) -> 10.479947 | M15: =AE15/100*Parametreler!$B$7 -> 2.852 | N15: =AF15/100*Parametreler!$B$8 -> 5.0825 | O15: =AG15/100*Parametreler!$B$9 -> 5.5574 | P15: =SUM(M15:O15) -> 13.4919 | Q15: =IFERROR(INDEX('Kataforez Teklifleri'!$G$6:$G$50,MATCH($A15&"",'Kataforez Teklifleri'!$A$6:$A$50,0)),"") -> 8.93 | R15: =IF(E15="Kataforez",N(Q15),IF(E15="Yaş boya",Parametreler!$B$10/MAX(1,ROUND(IF(ISNUMBER(Q15),Q15,Parametreler!$B$11),0)),0)) -> 8.93 | S15: =L15+P15+R15 -> 32.901847 | T15: =IF(S15=0,0,L15/S15) -> 0.31852155 | U15: =IF(S15=0,0,P15/S15) -> 0.41006512 | V15: =IF(S15=0,0,R15/S15) -> 0.27141333 | W15: =SUM(AE15:AG15)/100*F15 -> 82.30059 | X15: =IF($G15=0,0,J15/$G15) -> 0.95506673 | Y15: =IF($G15=0,0,S15/$G15) -> 2.9984368 | Z15: =IF($G15=0,0,L15/$G15) -> 0.95506673 | AA15: =S15*Parametreler!$B$12 -> 47.049642 | AB15: =AA15*F15 -> 5740.0563 | AE15: =INDEX('İşçilik Özet'!$W$6:$W$200,MATCH($A15&"",'İşçilik Özet'!$A$6:$A$200,0)) -> 14.26 | AF15: =INDEX('İşçilik Özet'!$X$6:$X$200,MATCH($A15&"",'İşçilik Özet'!$A$6:$A$200,0)) -> 25.4125 | AG15: =INDEX('İşçilik Özet'!$Y$6:$Y$200,MATCH($A15&"",'İşçilik Özet'!$A$6:$A$200,0)) -> 27.787 | AH15: =(L15+P15)*F15+IF(E15="Kataforez",N(Q15)*F15,IF(E15="Yaş boya",ROUNDUP(F15/MAX(1,ROUND(IF(ISNUMBER(Q15),Q15,Parametreler!$B$11),0)),0)*Parametreler!$B$10,0)) -> 4014.0254
A16: 112574 | B16: Tampon Şasi Bağlantı 112574 | C16: A.4 | D16: Resimden tahmin | E16: Yaş boya | F16: 204 | G16: 3.402 | H16: =INDEX('Sac Özet'!$L$5:$L$199,MATCH($A16&"",'Sac Özet'!$A$5:$A$199,0)) -> 4.2575478 | I16: =INDEX('Sac Özet'!$M$5:$M$199,MATCH($A16&"",'Sac Özet'!$A$5:$A$199,0)) -> 0.85554623 | J16: =INDEX('Sac Özet'!$N$5:$N$199,MATCH($A16&"",'Sac Özet'!$A$5:$A$199,0)) -> 3.1260413 | K16: =SUMPRODUCT((--'Satınalma Parçaları'!$A$2:$A$107=--$A16)*'Satınalma Parçaları'!$L$2:$L$107) -> 0 | L16: =J16+N(K16) -> 3.1260413 | M16: =AE16/100*Parametreler!$B$7 -> 1.081 | N16: =AF16/100*Parametreler!$B$8 -> 2.5825 | O16: =AG16/100*Parametreler!$B$9 -> 4.272 | P16: =SUM(M16:O16) -> 7.9355 | Q16: =VLOOKUP($A16,'Yaş Boya Listesi'!$B$6:$L$131,11,FALSE()) -> 10 | R16: =IF(E16="Kataforez",N(Q16),IF(E16="Yaş boya",Parametreler!$B$10/MAX(1,ROUND(IF(ISNUMBER(Q16),Q16,Parametreler!$B$11),0)),0)) -> 8 | S16: =L16+P16+R16 -> 19.061541 | T16: =IF(S16=0,0,L16/S16) -> 0.1639973 | U16: =IF(S16=0,0,P16/S16) -> 0.41630946 | V16: =IF(S16=0,0,R16/S16) -> 0.41969324 | W16: =SUM(AE16:AG16)/100*F16 -> 80.9421 | X16: =IF($G16=0,0,J16/$G16) -> 0.9188834 | Y16: =IF($G16=0,0,S16/$G16) -> 5.6030398 | Z16: =IF($G16=0,0,L16/$G16) -> 0.9188834 | AA16: =S16*Parametreler!$B$12 -> 27.258004 | AB16: =AA16*F16 -> 5560.6328 | AD16: STEP yok – resimden tahmin | AE16: =INDEX('İşçilik Özet'!$W$6:$W$200,MATCH($A16&"",'İşçilik Özet'!$A$6:$A$200,0)) -> 5.405 | AF16: =INDEX('İşçilik Özet'!$X$6:$X$200,MATCH($A16&"",'İşçilik Özet'!$A$6:$A$200,0)) -> 12.9125 | AG16: =INDEX('İşçilik Özet'!$Y$6:$Y$200,MATCH($A16&"",'İşçilik Özet'!$A$6:$A$200,0)) -> 21.36 | AH16: =(L16+P16)*F16+IF(E16="Kataforez",N(Q16)*F16,IF(E16="Yaş boya",ROUNDUP(F16/MAX(1,ROUND(IF(ISNUMBER(Q16),Q16,Parametreler!$B$11),0)),0)*Parametreler!$B$10,0)) -> 3936.5544
A17: 386489 | B17: Takozluk Bağlantısı | C17: A.7 | D17: STEP | E17: Kataforez | F17: 106 | G17: 12.225 | H17: =INDEX('Sac Özet'!$L$5:$L$199,MATCH($A17&"",'Sac Özet'!$A$5:$A$199,0)) -> 16.102226 | I17: =INDEX('Sac Özet'!$M$5:$M$199,MATCH($A17&"",'Sac Özet'!$A$5:$A$199,0)) -> 3.8666823 | J17: =INDEX('Sac Özet'!$N$5:$N$199,MATCH($A17&"",'Sac Özet'!$A$5:$A$199,0)) -> 11.616321 | K17: =SUMPRODUCT((--'Satınalma Parçaları'!$A$2:$A$107=--$A17)*'Satınalma Parçaları'!$L$2:$L$107) -> 0 | L17: =J17+N(K17) -> 11.616321 | M17: =AE17/100*Parametreler!$B$7 -> 3.91575 | N17: =AF17/100*Parametreler!$B$8 -> 5.0825 | O17: =AG17/100*Parametreler!$B$9 -> 5.5574 | P17: =SUM(M17:O17) -> 14.55565 | Q17: =IFERROR(INDEX('Kataforez Teklifleri'!$G$6:$G$50,MATCH($A17&"",'Kataforez Teklifleri'!$A$6:$A$50,0)),"") -> 9.76 | R17: =IF(E17="Kataforez",N(Q17),IF(E17="Yaş boya",Parametreler!$B$10/MAX(1,ROUND(IF(ISNUMBER(Q17),Q17,Parametreler!$B$11),0)),0)) -> 9.76 | S17: =L17+P17+R17 -> 35.931971 | T17: =IF(S17=0,0,L17/S17) -> 0.3232865 | U17: =IF(S17=0,0,P17/S17) -> 0.4050891 | V17: =IF(S17=0,0,R17/S17) -> 0.2716244 | W17: =SUM(AE17:AG17)/100*F17 -> 77.144945 | X17: =IF($G17=0,0,J17/$G17) -> 0.95021033 | Y17: =IF($G17=0,0,S17/$G17) -> 2.9392206 | Z17: =IF($G17=0,0,L17/$G17) -> 0.95021033 | AA17: =S17*Parametreler!$B$12 -> 51.382719 | AB17: =AA17*F17 -> 5446.5682 | AE17: =INDEX('İşçilik Özet'!$W$6:$W$200,MATCH($A17&"",'İşçilik Özet'!$A$6:$A$200,0)) -> 19.57875 | AF17: =INDEX('İşçilik Özet'!$X$6:$X$200,MATCH($A17&"",'İşçilik Özet'!$A$6:$A$200,0)) -> 25.4125 | AG17: =INDEX('İşçilik Özet'!$Y$6:$Y$200,MATCH($A17&"",'İşçilik Özet'!$A$6:$A$200,0)) -> 27.787 | AH17: =(L17+P17)*F17+IF(E17="Kataforez",N(Q17)*F17,IF(E17="Yaş boya",ROUNDUP(F17/MAX(1,ROUND(IF(ISNUMBER(Q17),Q17,Parametreler!$B$11),0)),0)*Parametreler!$B$10,0)) -> 3808.789
A18: 106773 | B18: Ortak Soğutucu Sehpa | C18: A.10 | D18: STEP | E18: Yaş boya | F18: 85 | G18: 8.284 | H18: =INDEX('Sac Özet'!$L$5:$L$199,MATCH($A18&"",'Sac Özet'!$A$5:$A$199,0)) -> 10.584508 | I18: =INDEX('Sac Özet'!$M$5:$M$199,MATCH($A18&"",'Sac Özet'!$A$5:$A$199,0)) -> 2.2916897 | J18: =INDEX('Sac Özet'!$N$5:$N$199,MATCH($A18&"",'Sac Özet'!$A$5:$A$199,0)) -> 7.717599 | K18: =SUMPRODUCT((--'Satınalma Parçaları'!$A$2:$A$107=--$A18)*'Satınalma Parçaları'!$L$2:$L$107) -> 0 | L18: =J18+N(K18) -> 7.717599 | M18: =AE18/100*Parametreler!$B$7 -> 5.61775 | N18: =AF18/100*Parametreler!$B$8 -> 2.5825 | O18: =AG18/100*Parametreler!$B$9 -> 1.7312 | P18: =SUM(M18:O18) -> 9.93145 | Q18: =VLOOKUP($A18,'Yaş Boya Listesi'!$B$6:$L$131,11,FALSE()) -> 4 | R18: =IF(E18="Kataforez",N(Q18),IF(E18="Yaş boya",Parametreler!$B$10/MAX(1,ROUND(IF(ISNUMBER(Q18),Q18,Parametreler!$B$11),0)),0)) -> 20 | S18: =L18+P18+R18 -> 37.649049 | T18: =IF(S18=0,0,L18/S18) -> 0.20498789 | U18: =IF(S18=0,0,P18/S18) -> 0.2637902 | V18: =IF(S18=0,0,R18/S18) -> 0.53122192 | W18: =SUM(AE18:AG18)/100*F18 -> 42.208663 | X18: =IF($G18=0,0,J18/$G18) -> 0.93162712 | Y18: =IF($G18=0,0,S18/$G18) -> 4.544791 | Z18: =IF($G18=0,0,L18/$G18) -> 0.93162712 | AA18: =S18*Parametreler!$B$12 -> 53.83814 | AB18: =AA18*F18 -> 4576.2419 | AE18: =INDEX('İşçilik Özet'!$W$6:$W$200,MATCH($A18&"",'İşçilik Özet'!$A$6:$A$200,0)) -> 28.08875 | AF18: =INDEX('İşçilik Özet'!$X$6:$X$200,MATCH($A18&"",'İşçilik Özet'!$A$6:$A$200,0)) -> 12.9125 | AG18: =INDEX('İşçilik Özet'!$Y$6:$Y$200,MATCH($A18&"",'İşçilik Özet'!$A$6:$A$200,0)) -> 8.656 | AH18: =(L18+P18)*F18+IF(E18="Kataforez",N(Q18)*F18,IF(E18="Yaş boya",ROUNDUP(F18/MAX(1,ROUND(IF(ISNUMBER(Q18),Q18,Parametreler!$B$11),0)),0)*Parametreler!$B$10,0)) -> 3260.1692
A19: 400994 | B19: Su Tankı Sehpası Ayağı (H=60MM) | C19: A.10 | D19: Resimden tahmin | E19: Yaş boya | F19: 332 | G19: 1.061 | H19: =INDEX('Sac Özet'!$L$5:$L$199,MATCH($A19&"",'Sac Özet'!$A$5:$A$199,0)) -> 1.3337851 | I19: =INDEX('Sac Özet'!$M$5:$M$199,MATCH($A19&"",'Sac Özet'!$A$5:$A$199,0)) -> 0.27281051 | J19: =INDEX('Sac Özet'!$N$5:$N$199,MATCH($A19&"",'Sac Özet'!$A$5:$A$199,0)) -> 0.97774465 | K19: =SUMPRODUCT((--'Satınalma Parçaları'!$A$2:$A$107=--$A19)*'Satınalma Parçaları'!$L$2:$L$107) -> 0 | L19: =J19+N(K19) -> 0.97774465 | M19: =AE19/100*Parametreler!$B$7 -> 1.311 | N19: =AF19/100*Parametreler!$B$8 -> 2.0825 | O19: =AG19/100*Parametreler!$B$9 -> 1.06 | P19: =SUM(M19:O19) -> 4.4535 | Q19: =VLOOKUP($A19,'Yaş Boya Listesi'!$B$6:$L$131,11,FALSE()) -> 20 | R19: =IF(E19="Kataforez",N(Q19),IF(E19="Yaş boya",Parametreler!$B$10/MAX(1,ROUND(IF(ISNUMBER(Q19),Q19,Parametreler!$B$11),0)),0)) -> 4 | S19: =L19+P19+R19 -> 9.4312446 | T19: =IF(S19=0,0,L19/S19) -> 0.1036708 | U19: =IF(S19=0,0,P19/S19) -> 0.47220703 | V19: =IF(S19=0,0,R19/S19) -> 0.42412218 | W19: =SUM(AE19:AG19)/100*F19 -> 73.9281 | X19: =IF($G19=0,0,J19/$G19) -> 0.92153124 | Y19: =IF($G19=0,0,S19/$G19) -> 8.8890147 | Z19: =IF($G19=0,0,L19/$G19) -> 0.92153124 | AA19: =S19*Parametreler!$B$12 -> 13.48668 | AB19: =AA19*F19 -> 4477.5777 | AD19: STEP yok – resimden tahmin | AE19: =INDEX('İşçilik Özet'!$W$6:$W$200,MATCH($A19&"",'İşçilik Özet'!$A$6:$A$200,0)) -> 6.555 | AF19: =INDEX('İşçilik Özet'!$X$6:$X$200,MATCH($A19&"",'İşçilik Özet'!$A$6:$A$200,0)) -> 10.4125 | AG19: =INDEX('İşçilik Özet'!$Y$6:$Y$200,MATCH($A19&"",'İşçilik Özet'!$A$6:$A$200,0)) -> 5.3 | AH19: =(L19+P19)*F19+IF(E19="Kataforez",N(Q19)*F19,IF(E19="Yaş boya",ROUNDUP(F19/MAX(1,ROUND(IF(ISNUMBER(Q19),Q19,Parametreler!$B$11),0)),0)*Parametreler!$B$10,0)) -> 3163.1732
A20: 284248 | B20: Pano Sehpası Kaynak Montaj | C20: B.2 | D20: STEP | E20: Yaş boya | F20: 56 | G20: 10.266 | H20: =INDEX('Sac Özet'!$L$5:$L$199,MATCH($A20&"",'Sac Özet'!$A$5:$A$199,0)) -> 30.935637 | I20: =INDEX('Sac Özet'!$M$5:$M$199,MATCH($A20&"",'Sac Özet'!$A$5:$A$199,0)) -> 20.661699 | J20: =INDEX('Sac Özet'!$N$5:$N$199,MATCH($A20&"",'Sac Özet'!$A$5:$A$199,0)) -> 17.986499 | K20: =SUMPRODUCT((--'Satınalma Parçaları'!$A$2:$A$107=--$A20)*'Satınalma Parçaları'!$L$2:$L$107) -> 0 | L20: =J20+N(K20) -> 17.986499 | M20: =AE20/100*Parametreler!$B$7 -> 2.14475 | N20: =AF20/100*Parametreler!$B$8 -> 4.0825 | O20: =AG20/100*Parametreler!$B$9 -> 2.7886 | P20: =SUM(M20:O20) -> 9.01585 | Q20: =VLOOKUP($A20,'Yaş Boya Listesi'!$B$6:$L$131,11,FALSE()) -> 3 | R20: =IF(E20="Kataforez",N(Q20),IF(E20="Yaş boya",Parametreler!$B$10/MAX(1,ROUND(IF(ISNUMBER(Q20),Q20,Parametreler!$B$11),0)),0)) -> 26.666667 | S20: =L20+P20+R20 -> 53.669016 | T20: =IF(S20=0,0,L20/S20) -> 0.33513749 | U20: =IF(S20=0,0,P20/S20) -> 0.16798985 | V20: =IF(S20=0,0,R20/S20) -> 0.49687266 | W20: =SUM(AE20:AG20)/100*F20 -> 25.24438 | X20: =IF($G20=0,0,J20/$G20) -> 1.7520455 | Y20: =IF($G20=0,0,S20/$G20) -> 5.227841 | Z20: =IF($G20=0,0,L20/$G20) -> 1.7520455 | AA20: =S20*Parametreler!$B$12 -> 76.746693 | AB20: =AA20*F20 -> 4297.8148 | AE20: =INDEX('İşçilik Özet'!$W$6:$W$200,MATCH($A20&"",'İşçilik Özet'!$A$6:$A$200,0)) -> 10.72375 | AF20: =INDEX('İşçilik Özet'!$X$6:$X$200,MATCH($A20&"",'İşçilik Özet'!$A$6:$A$200,0)) -> 20.4125 | AG20: =INDEX('İşçilik Özet'!$Y$6:$Y$200,MATCH($A20&"",'İşçilik Özet'!$A$6:$A$200,0)) -> 13.943 | AH20: =(L20+P20)*F20+IF(E20="Kataforez",N(Q20)*F20,IF(E20="Yaş boya",ROUNDUP(F20/MAX(1,ROUND(IF(ISNUMBER(Q20),Q20,Parametreler!$B$11),0)),0)*Parametreler!$B$10,0)) -> 3032.1316
A21: 110434 | B21: H37- H40 Arka Ayak Dayama | C21: A.7 | D21: Resimden tahmin | E21: Yaş boya | F21: 142 | G21: 6.073 | H21: =INDEX('Sac Özet'!$L$5:$L$199,MATCH($A21&"",'Sac Özet'!$A$5:$A$199,0)) -> 3.0000402 | I21: =INDEX('Sac Özet'!$M$5:$M$199,MATCH($A21&"",'Sac Özet'!$A$5:$A$199,0)) -> 0.54000724 | J21: =INDEX('Sac Özet'!$N$5:$N$199,MATCH($A21&"",'Sac Özet'!$A$5:$A$199,0)) -> 2.2233026 | K21: =SUMPRODUCT((--'Satınalma Parçaları'!$A$2:$A$107=--$A21)*'Satınalma Parçaları'!$L$2:$L$107) -> 2.4 | L21: =J21+N(K21) -> 4.6233026 | M21: =AE21/100*Parametreler!$B$7 -> 0 | N21: =AF21/100*Parametreler!$B$8 -> 4.5825 | O21: =AG21/100*Parametreler!$B$9 -> 2.7872 | P21: =SUM(M21:O21) -> 7.3697 | Q21: =VLOOKUP($A21,'Yaş Boya Listesi'!$B$6:$L$131,11,FALSE()) -> 10 | R21: =IF(E21="Kataforez",N(Q21),IF(E21="Yaş boya",Parametreler!$B$10/MAX(1,ROUND(IF(ISNUMBER(Q21),Q21,Parametreler!$B$11),0)),0)) -> 8 | S21: =L21+P21+R21 -> 19.993003 | T21: =IF(S21=0,0,L21/S21) -> 0.23124603 | U21: =IF(S21=0,0,P21/S21) -> 0.36861397 | V21: =IF(S21=0,0,R21/S21) -> 0.40014 | W21: =SUM(AE21:AG21)/100*F21 -> 52.32487 | X21: =IF($G21=0,0,J21/$G21) -> 0.36609625 | Y21: =IF($G21=0,0,S21/$G21) -> 3.292113 | Z21: =IF($G21=0,0,L21/$G21) -> 0.76128809 | AA21: =S21*Parametreler!$B$12 -> 28.589994 | AB21: =AA21*F21 -> 4059.7791 | AC21: 110435 KUTU PROF L ; 60 X 60 X 4 L = 540 mm ×1 | AD21: STEP yok – resimden tahmin · 1 satınalma kalemi | AE21: =INDEX('İşçilik Özet'!$W$6:$W$200,MATCH($A21&"",'İşçilik Özet'!$A$6:$A$200,0)) -> 0 | AF21: =INDEX('İşçilik Özet'!$X$6:$X$200,MATCH($A21&"",'İşçilik Özet'!$A$6:$A$200,0)) -> 22.9125 | AG21: =INDEX('İşçilik Özet'!$Y$6:$Y$200,MATCH($A21&"",'İşçilik Özet'!$A$6:$A$200,0)) -> 13.936 | AH21: =(L21+P21)*F21+IF(E21="Kataforez",N(Q21)*F21,IF(E21="Yaş boya",ROUNDUP(F21/MAX(1,ROUND(IF(ISNUMBER(Q21),Q21,Parametreler!$B$11),0)),0)*Parametreler!$B$10,0)) -> 2903.0064
A22: 113467 | B22: H58 Arka Bom Desteği | C22: D | D22: STEP | E22: Yaş boya | F22: 13 | G22: 76.278 | H22: =INDEX('Sac Özet'!$L$5:$L$199,MATCH($A22&"",'Sac Özet'!$A$5:$A$199,0)) -> 157.07329 | I22: =INDEX('Sac Özet'!$M$5:$M$199,MATCH($A22&"",'Sac Özet'!$A$5:$A$199,0)) -> 80.860278 | J22: =INDEX('Sac Özet'!$N$5:$N$199,MATCH($A22&"",'Sac Özet'!$A$5:$A$199,0)) -> 99.195269 | K22: =SUMPRODUCT((--'Satınalma Parçaları'!$A$2:$A$107=--$A22)*'Satınalma Parçaları'!$L$2:$L$107) -> 0.20345455 | L22: =J22+N(K22) -> 99.398723 | M22: =AE22/100*Parametreler!$B$7 -> 10.649 | N22: =AF22/100*Parametreler!$B$8 -> 13.25 | O22: =AG22/100*Parametreler!$B$9 -> 17.34 | P22: =SUM(M22:O22) -> 41.239 | Q22: =VLOOKUP($A22,'Yaş Boya Listesi'!$B$6:$L$131,11,FALSE()) -> 1 | R22: =IF(E22="Kataforez",N(Q22),IF(E22="Yaş boya",Parametreler!$B$10/MAX(1,ROUND(IF(ISNUMBER(Q22),Q22,Parametreler!$B$11),0)),0)) -> 80 | S22: =L22+P22+R22 -> 220.63772 | T22: =IF(S22=0,0,L22/S22) -> 0.45050648 | U22: =IF(S22=0,0,P22/S22) -> 0.1869082 | V22: =IF(S22=0,0,R22/S22) -> 0.36258532 | W22: =SUM(AE22:AG22)/100*F22 -> 26.80535 | X22: =IF($G22=0,0,J22/$G22) -> 1.300444 | Y22: =IF($G22=0,0,S22/$G22) -> 2.8925473 | Z22: =IF($G22=0,0,L22/$G22) -> 1.3031113 | AA22: =S22*Parametreler!$B$12 -> 315.51194 | AB22: =AA22*F22 -> 4101.6553 | AC22: H900.00017 DIN934 M8 Somun ×4; H900.00030 SOMUN M10 BEYAZ DIN934 ×7 | AD22: 2 satınalma kalemi | AE22: =INDEX('İşçilik Özet'!$W$6:$W$200,MATCH($A22&"",'İşçilik Özet'!$A$6:$A$200,0)) -> 53.245 | AF22: =INDEX('İşçilik Özet'!$X$6:$X$200,MATCH($A22&"",'İşçilik Özet'!$A$6:$A$200,0)) -> 66.25 | AG22: =INDEX('İşçilik Özet'!$Y$6:$Y$200,MATCH($A22&"",'İşçilik Özet'!$A$6:$A$200,0)) -> 86.7 | AH22: =(L22+P22)*F22+IF(E22="Kataforez",N(Q22)*F22,IF(E22="Yaş boya",ROUNDUP(F22/MAX(1,ROUND(IF(ISNUMBER(Q22),Q22,Parametreler!$B$11),0)),0)*Parametreler!$B$10,0)) -> 2868.2904
A23: 395388 | B23: H37-H40 Ön Bom Destek | C23: B.2 | D23: STEP | E23: Yaş boya | F23: 61 | G23: 18.774 | H23: =INDEX('Sac Özet'!$L$5:$L$199,MATCH($A23&"",'Sac Özet'!$A$5:$A$199,0)) -> 25.830971 | I23: =INDEX('Sac Özet'!$M$5:$M$199,MATCH($A23&"",'Sac Özet'!$A$5:$A$199,0)) -> 7.044163 | J23: =INDEX('Sac Özet'!$N$5:$N$199,MATCH($A23&"",'Sac Özet'!$A$5:$A$199,0)) -> 18.359415 | K23: =SUMPRODUCT((--'Satınalma Parçaları'!$A$2:$A$107=--$A23)*'Satınalma Parçaları'!$L$2:$L$107) -> 0 | L23: =J23+N(K23) -> 18.359415 | M23: =AE23/100*Parametreler!$B$7 -> 2.37475 | N23: =AF23/100*Parametreler!$B$8 -> 3.0825 | O23: =AG23/100*Parametreler!$B$9 -> 2.2196 | P23: =SUM(M23:O23) -> 7.67685 | Q23: =VLOOKUP($A23,'Yaş Boya Listesi'!$B$6:$L$131,11,FALSE()) -> 4 | R23: =IF(E23="Kataforez",N(Q23),IF(E23="Yaş boya",Parametreler!$B$10/MAX(1,ROUND(IF(ISNUMBER(Q23),Q23,Parametreler!$B$11),0)),0)) -> 20 | S23: =L23+P23+R23 -> 46.036265 | T23: =IF(S23=0,0,L23/S23) -> 0.39880331 | U23: =IF(S23=0,0,P23/S23) -> 0.16675658 | V23: =IF(S23=0,0,R23/S23) -> 0.43444011 | W23: =SUM(AE23:AG23)/100*F23 -> 23.414393 | X23: =IF($G23=0,0,J23/$G23) -> 0.97791705 | Y23: =IF($G23=0,0,S23/$G23) -> 2.4521287 | Z23: =IF($G23=0,0,L23/$G23) -> 0.97791705 | AA23: =S23*Parametreler!$B$12 -> 65.831858 | AB23: =AA23*F23 -> 4015.7434 | AE23: =INDEX('İşçilik Özet'!$W$6:$W$200,MATCH($A23&"",'İşçilik Özet'!$A$6:$A$200,0)) -> 11.87375 | AF23: =INDEX('İşçilik Özet'!$X$6:$X$200,MATCH($A23&"",'İşçilik Özet'!$A$6:$A$200,0)) -> 15.4125 | AG23: =INDEX('İşçilik Özet'!$Y$6:$Y$200,MATCH($A23&"",'İşçilik Özet'!$A$6:$A$200,0)) -> 11.098 | AH23: =(L23+P23)*F23+IF(E23="Kataforez",N(Q23)*F23,IF(E23="Yaş boya",ROUNDUP(F23/MAX(1,ROUND(IF(ISNUMBER(Q23),Q23,Parametreler!$B$11),0)),0)*Parametreler!$B$10,0)) -> 2868.2121
A24: 0896250 | B24: H43-H47 Arka Bom Destek | C24: A.5 | D24: STEP | E24: Yok | F24: 27 | G24: 55.572 | H24: =INDEX('Sac Özet'!$L$5:$L$199,MATCH($A24&"",'Sac Özet'!$A$5:$A$199,0)) -> 112.04662 | I24: =INDEX('Sac Özet'!$M$5:$M$199,MATCH($A24&"",'Sac Özet'!$A$5:$A$199,0)) -> 56.450991 | J24: =INDEX('Sac Özet'!$N$5:$N$199,MATCH($A24&"",'Sac Özet'!$A$5:$A$199,0)) -> 71.162428 | K24: =SUMPRODUCT((--'Satınalma Parçaları'!$A$2:$A$107=--$A24)*'Satınalma Parçaları'!$L$2:$L$107) -> 0 | L24: =J24+N(K24) -> 71.162428 | M24: =AE24/100*Parametreler!$B$7 -> 10.879 | N24: =AF24/100*Parametreler!$B$8 -> 7.75 | O24: =AG24/100*Parametreler!$B$9 -> 18.516 | P24: =SUM(M24:O24) -> 37.145 | R24: =IF(E24="Kataforez",N(Q24),IF(E24="Yaş boya",Parametreler!$B$10/MAX(1,ROUND(IF(ISNUMBER(Q24),Q24,Parametreler!$B$11),0)),0)) -> 0 | S24: =L24+P24+R24 -> 108.30743 | T24: =IF(S24=0,0,L24/S24) -> 0.65704107 | U24: =IF(S24=0,0,P24/S24) -> 0.34295893 | V24: =IF(S24=0,0,R24/S24) -> 0 | W24: =SUM(AE24:AG24)/100*F24 -> 50.14575 | X24: =IF($G24=0,0,J24/$G24) -> 1.2805447 | Y24: =IF($G24=0,0,S24/$G24) -> 1.9489568 | Z24: =IF($G24=0,0,L24/$G24) -> 1.2805447 | AA24: =S24*Parametreler!$B$12 -> 154.87962 | AB24: =AA24*F24 -> 4181.7498 | AE24: =INDEX('İşçilik Özet'!$W$6:$W$200,MATCH($A24&"",'İşçilik Özet'!$A$6:$A$200,0)) -> 54.395 | AF24: =INDEX('İşçilik Özet'!$X$6:$X$200,MATCH($A24&"",'İşçilik Özet'!$A$6:$A$200,0)) -> 38.75 | AG24: =INDEX('İşçilik Özet'!$Y$6:$Y$200,MATCH($A24&"",'İşçilik Özet'!$A$6:$A$200,0)) -> 92.58 | AH24: =(L24+P24)*F24+IF(E24="Kataforez",N(Q24)*F24,IF(E24="Yaş boya",ROUNDUP(F24/MAX(1,ROUND(IF(ISNUMBER(Q24),Q24,Parametreler!$B$11),0)),0)*Parametreler!$B$10,0)) -> 2924.3005
A25: 106544 | B25: H37-H40-H43-H47-H52 Ön Bom Destek Ayağı | C25: C.3 | D25: Resimden tahmin | E25: Yaş boya | F25: 176 | G25: 2.734 | H25: =INDEX('Sac Özet'!$L$5:$L$199,MATCH($A25&"",'Sac Özet'!$A$5:$A$199,0)) -> 3.2313028 | I25: =INDEX('Sac Özet'!$M$5:$M$199,MATCH($A25&"",'Sac Özet'!$A$5:$A$199,0)) -> 0.49334836 | J25: =INDEX('Sac Özet'!$N$5:$N$199,MATCH($A25&"",'Sac Özet'!$A$5:$A$199,0)) -> 2.4235827 | K25: =SUMPRODUCT((--'Satınalma Parçaları'!$A$2:$A$107=--$A25)*'Satınalma Parçaları'!$L$2:$L$107) -> 0 | L25: =J25+N(K25) -> 2.4235827 | M25: =AE25/100*Parametreler!$B$7 -> 1.311 | N25: =AF25/100*Parametreler!$B$8 -> 1.8325 | O25: =AG25/100*Parametreler!$B$9 -> 0.82 | P25: =SUM(M25:O25) -> 3.9635 | Q25: =VLOOKUP($A25,'Yaş Boya Listesi'!$B$6:$L$131,11,FALSE()) -> 10 | R25: =IF(E25="Kataforez",N(Q25),IF(E25="Yaş boya",Parametreler!$B$10/MAX(1,ROUND(IF(ISNUMBER(Q25),Q25,Parametreler!$B$11),0)),0)) -> 8 | S25: =L25+P25+R25 -> 14.387083 | T25: =IF(S25=0,0,L25/S25) -> 0.16845547 | U25: =IF(S25=0,0,P25/S25) -> 0.27549018 | V25: =IF(S25=0,0,R25/S25) -> 0.55605435 | W25: =SUM(AE25:AG25)/100*F25 -> 34.8788 | X25: =IF($G25=0,0,J25/$G25) -> 0.8864604 | Y25: =IF($G25=0,0,S25/$G25) -> 5.2622834 | Z25: =IF($G25=0,0,L25/$G25) -> 0.8864604 | AA25: =S25*Parametreler!$B$12 -> 20.573528 | AB25: =AA25*F25 -> 3620.941 | AD25: STEP yok – resimden tahmin | AE25: =INDEX('İşçilik Özet'!$W$6:$W$200,MATCH($A25&"",'İşçilik Özet'!$A$6:$A$200,0)) -> 6.555 | AF25: =INDEX('İşçilik Özet'!$X$6:$X$200,MATCH($A25&"",'İşçilik Özet'!$A$6:$A$200,0)) -> 9.1625 | AG25: =INDEX('İşçilik Özet'!$Y$6:$Y$200,MATCH($A25&"",'İşçilik Özet'!$A$6:$A$200,0)) -> 4.1 | AH25: =(L25+P25)*F25+IF(E25="Kataforez",N(Q25)*F25,IF(E25="Yaş boya",ROUNDUP(F25/MAX(1,ROUND(IF(ISNUMBER(Q25),Q25,Parametreler!$B$11),0)),0)*Parametreler!$B$10,0)) -> 2564.1266
A26: 570812 | B26: Bom Destek | C26: A.1 | D26: Resimden tahmin | E26: Yaş boya | F26: 81 | G26: 2.53 | H26: =INDEX('Sac Özet'!$L$5:$L$199,MATCH($A26&"",'Sac Özet'!$A$5:$A$199,0)) -> 3.1895224 | I26: =INDEX('Sac Özet'!$M$5:$M$199,MATCH($A26&"",'Sac Özet'!$A$5:$A$199,0)) -> 0.65953019 | J26: =INDEX('Sac Özet'!$N$5:$N$199,MATCH($A26&"",'Sac Özet'!$A$5:$A$199,0)) -> 2.3357717 | K26: =SUMPRODUCT((--'Satınalma Parçaları'!$A$2:$A$107=--$A26)*'Satınalma Parçaları'!$L$2:$L$107) -> 0 | L26: =J26+N(K26) -> 2.3357717 | M26: =AE26/100*Parametreler!$B$7 -> 3.082 | N26: =AF26/100*Parametreler!$B$8 -> 2.5825 | O26: =AG26/100*Parametreler!$B$9 -> 1.64 | P26: =SUM(M26:O26) -> 7.3045 | Q26: =VLOOKUP($A26,'Yaş Boya Listesi'!$B$6:$L$131,11,FALSE()) -> 4 | R26: =IF(E26="Kataforez",N(Q26),IF(E26="Yaş boya",Parametreler!$B$10/MAX(1,ROUND(IF(ISNUMBER(Q26),Q26,Parametreler!$B$11),0)),0)) -> 20 | S26: =L26+P26+R26 -> 29.640272 | T26: =IF(S26=0,0,L26/S26) -> 0.07880399 | U26: =IF(S26=0,0,P26/S26) -> 0.24643836 | V26: =IF(S26=0,0,R26/S26) -> 0.67475765 | W26: =SUM(AE26:AG26)/100*F26 -> 29.583225 | X26: =IF($G26=0,0,J26/$G26) -> 0.92322991 | Y26: =IF($G26=0,0,S26/$G26) -> 11.715522 | Z26: =IF($G26=0,0,L26/$G26) -> 0.92322991 | AA26: =S26*Parametreler!$B$12 -> 42.385588 | AB26: =AA26*F26 -> 3433.2327 | AD26: STEP yok – resimden tahmin | AE26: =INDEX('İşçilik Özet'!$W$6:$W$200,MATCH($A26&"",'İşçilik Özet'!$A$6:$A$200,0)) -> 15.41 | AF26: =INDEX('İşçilik Özet'!$X$6:$X$200,MATCH($A26&"",'İşçilik Özet'!$A$6:$A$200,0)) -> 12.9125 | AG26: =INDEX('İşçilik Özet'!$Y$6:$Y$200,MATCH($A26&"",'İşçilik Özet'!$A$6:$A$200,0)) -> 8.2 | AH26: =(L26+P26)*F26+IF(E26="Kataforez",N(Q26)*F26,IF(E26="Yaş boya",ROUNDUP(F26/MAX(1,ROUND(IF(ISNUMBER(Q26),Q26,Parametreler!$B$11),0)),0)*Parametreler!$B$10,0)) -> 2460.862
A27: 543533 | B27: Sag Kazan Basamagı Kaynak (Abd) | C27: B | D27: Resimden tahmin | E27: Kataforez | F27: 98 | G27: 8.649 | H27: =INDEX('Sac Özet'!$L$5:$L$199,MATCH($A27&"",'Sac Özet'!$A$5:$A$199,0)) -> 4.9018063 | I27: =INDEX('Sac Özet'!$M$5:$M$199,MATCH($A27&"",'Sac Özet'!$A$5:$A$199,0)) -> 1.0188195 | J27: =INDEX('Sac Özet'!$N$5:$N$199,MATCH($A27&"",'Sac Özet'!$A$5:$A$199,0)) -> 3.5880132 | K27: =SUMPRODUCT((--'Satınalma Parçaları'!$A$2:$A$107=--$A27)*'Satınalma Parçaları'!$L$2:$L$107) -> 3.12 | L27: =J27+N(K27) -> 6.7080132 | M27: =AE27/100*Parametreler!$B$7 -> 3.933 | N27: =AF27/100*Parametreler!$B$8 -> 3.5825 | O27: =AG27/100*Parametreler!$B$9 -> 2.064 | P27: =SUM(M27:O27) -> 9.5795 | Q27: =IFERROR(INDEX('Kataforez Teklifleri'!$G$6:$G$50,MATCH($A27&"",'Kataforez Teklifleri'!$A$6:$A$50,0)),"") -> 6.92 | R27: =IF(E27="Kataforez",N(Q27),IF(E27="Yaş boya",Parametreler!$B$10/MAX(1,ROUND(IF(ISNUMBER(Q27),Q27,Parametreler!$B$11),0)),0)) -> 6.92 | S27: =L27+P27+R27 -> 23.207513 | T27: =IF(S27=0,0,L27/S27) -> 0.28904489 | U27: =IF(S27=0,0,P27/S27) -> 0.41277581 | V27: =IF(S27=0,0,R27/S27) -> 0.2981793 | W27: =SUM(AE27:AG27)/100*F27 -> 46.93955 | X27: =IF($G27=0,0,J27/$G27) -> 0.41484717 | Y27: =IF($G27=0,0,S27/$G27) -> 2.6832597 | Z27: =IF($G27=0,0,L27/$G27) -> 0.77558252 | AA27: =S27*Parametreler!$B$12 -> 33.186744 | AB27: =AA27*F27 -> 3252.3009 | AC27: 475200 KUTU PROFİL : 60x40x5 L:700 mm ×1 | AD27: STEP yok – resimden tahmin · 1 satınalma kalemi | AE27: =INDEX('İşçilik Özet'!$W$6:$W$200,MATCH($A27&"",'İşçilik Özet'!$A$6:$A$200,0)) -> 19.665 | AF27: =INDEX('İşçilik Özet'!$X$6:$X$200,MATCH($A27&"",'İşçilik Özet'!$A$6:$A$200,0)) -> 17.9125 | AG27: =INDEX('İşçilik Özet'!$Y$6:$Y$200,MATCH($A27&"",'İşçilik Özet'!$A$6:$A$200,0)) -> 10.32 | AH27: =(L27+P27)*F27+IF(E27="Kataforez",N(Q27)*F27,IF(E27="Yaş boya",ROUNDUP(F27/MAX(1,ROUND(IF(ISNUMBER(Q27),Q27,Parametreler!$B$11),0)),0)*Parametreler!$B$10,0)) -> 2274.3363
A28: 543377 | B28: H40 Yatay Hat Boru Orta Tutucu Ayarlı Kaynak 2 | C28: A.1 | D28: Resimden tahmin | E28: Yaş boya | F28: 61 | G28: 8.705 | H28: =INDEX('Sac Özet'!$L$5:$L$199,MATCH($A28&"",'Sac Özet'!$A$5:$A$199,0)) -> 3.8340932 | I28: =INDEX('Sac Özet'!$M$5:$M$199,MATCH($A28&"",'Sac Özet'!$A$5:$A$199,0)) -> 0.69013677 | J28: =INDEX('Sac Özet'!$N$5:$N$199,MATCH($A28&"",'Sac Özet'!$A$5:$A$199,0)) -> 2.8414116 | K28: =SUMPRODUCT((--'Satınalma Parçaları'!$A$2:$A$107=--$A28)*'Satınalma Parçaları'!$L$2:$L$107) -> 7.19 | L28: =J28+N(K28) -> 10.031412 | M28: =AE28/100*Parametreler!$B$7 -> 2.392 | N28: =AF28/100*Parametreler!$B$8 -> 3.3325 | O28: =AG28/100*Parametreler!$B$9 -> 2.87 | P28: =SUM(M28:O28) -> 8.5945 | Q28: =VLOOKUP($A28,'Yaş Boya Listesi'!$B$6:$L$131,11,FALSE()) -> 5 | R28: =IF(E28="Kataforez",N(Q28),IF(E28="Yaş boya",Parametreler!$B$10/MAX(1,ROUND(IF(ISNUMBER(Q28),Q28,Parametreler!$B$11),0)),0)) -> 16 | S28: =L28+P28+R28 -> 34.625912 | T28: =IF(S28=0,0,L28/S28) -> 0.28970823 | U28: =IF(S28=0,0,P28/S28) -> 0.24821007 | V28: =IF(S28=0,0,R28/S28) -> 0.4620817 | W28: =SUM(AE28:AG28)/100*F28 -> 26.213225 | X28: =IF($G28=0,0,J28/$G28) -> 0.32641144 | Y28: =IF($G28=0,0,S28/$G28) -> 3.9777038 | Z28: =IF($G28=0,0,L28/$G28) -> 1.1523735 | AA28: =S28*Parametreler!$B$12 -> 49.515054 | AB28: =AA28*F28 -> 3020.4183 | AC28: 543381 BORU Ø63,5X5MM L=501mm ×1; 543380 BORU Ø63,5X5MM L=296mm ×1 | AD28: STEP yok – resimden tahmin · 2 satınalma kalemi | AE28: =INDEX('İşçilik Özet'!$W$6:$W$200,MATCH($A28&"",'İşçilik Özet'!$A$6:$A$200,0)) -> 11.96 | AF28: =INDEX('İşçilik Özet'!$X$6:$X$200,MATCH($A28&"",'İşçilik Özet'!$A$6:$A$200,0)) -> 16.6625 | AG28: =INDEX('İşçilik Özet'!$Y$6:$Y$200,MATCH($A28&"",'İşçilik Özet'!$A$6:$A$200,0)) -> 14.35 | AH28: =(L28+P28)*F28+IF(E28="Kataforez",N(Q28)*F28,IF(E28="Yaş boya",ROUNDUP(F28/MAX(1,ROUND(IF(ISNUMBER(Q28),Q28,Parametreler!$B$11),0)),0)*Parametreler!$B$10,0)) -> 2176.1806
A29: 448594 | B29: Karıstırıcı Valf Sehpası | C29: A.3 | D29: Resimden tahmin | E29: Yaş boya | F29: 95 | G29: 2.75 | H29: =INDEX('Sac Özet'!$L$5:$L$199,MATCH($A29&"",'Sac Özet'!$A$5:$A$199,0)) -> 3.4680466 | I29: =INDEX('Sac Özet'!$M$5:$M$199,MATCH($A29&"",'Sac Özet'!$A$5:$A$199,0)) -> 0.71807385 | J29: =INDEX('Sac Özet'!$N$5:$N$199,MATCH($A29&"",'Sac Özet'!$A$5:$A$199,0)) -> 2.5394313 | K29: =SUMPRODUCT((--'Satınalma Parçaları'!$A$2:$A$107=--$A29)*'Satınalma Parçaları'!$L$2:$L$107) -> 0 | L29: =J29+N(K29) -> 2.5394313 | M29: =AE29/100*Parametreler!$B$7 -> 1.081 | N29: =AF29/100*Parametreler!$B$8 -> 2.5825 | O29: =AG29/100*Parametreler!$B$9 -> 1.68 | P29: =SUM(M29:O29) -> 5.3435 | Q29: =VLOOKUP($A29,'Yaş Boya Listesi'!$B$6:$L$131,11,FALSE()) -> 6 | R29: =IF(E29="Kataforez",N(Q29),IF(E29="Yaş boya",Parametreler!$B$10/MAX(1,ROUND(IF(ISNUMBER(Q29),Q29,Parametreler!$B$11),0)),0)) -> 13.333333 | S29: =L29+P29+R29 -> 21.216265 | T29: =IF(S29=0,0,L29/S29) -> 0.11969267 | U29: =IF(S29=0,0,P29/S29) -> 0.25185866 | V29: =IF(S29=0,0,R29/S29) -> 0.62844867 | W29: =SUM(AE29:AG29)/100*F29 -> 25.381625 | X29: =IF($G29=0,0,J29/$G29) -> 0.92342956 | Y29: =IF($G29=0,0,S29/$G29) -> 7.7150053 | Z29: =IF($G29=0,0,L29/$G29) -> 0.92342956 | AA29: =S29*Parametreler!$B$12 -> 30.339258 | AB29: =AA29*F29 -> 2882.2295 | AD29: STEP yok – resimden tahmin | AE29: =INDEX('İşçilik Özet'!$W$6:$W$200,MATCH($A29&"",'İşçilik Özet'!$A$6:$A$200,0)) -> 5.405 | AF29: =INDEX('İşçilik Özet'!$X$6:$X$200,MATCH($A29&"",'İşçilik Özet'!$A$6:$A$200,0)) -> 12.9125 | AG29: =INDEX('İşçilik Özet'!$Y$6:$Y$200,MATCH($A29&"",'İşçilik Özet'!$A$6:$A$200,0)) -> 8.4 | AH29: =(L29+P29)*F29+IF(E29="Kataforez",N(Q29)*F29,IF(E29="Yaş boya",ROUNDUP(F29/MAX(1,ROUND(IF(ISNUMBER(Q29),Q29,Parametreler!$B$11),0)),0)*Parametreler!$B$10,0)) -> 2028.8785
A30: 217605 | B30: H37-H40 Motor Koruma - Sase Bağlantı 2 | C30: A.5 | D30: Resimden tahmin | E30: Yaş boya | F30: 52 | G30: 5.506 | H30: =INDEX('Sac Özet'!$L$5:$L$199,MATCH($A30&"",'Sac Özet'!$A$5:$A$199,0)) -> 7.085013 | I30: =INDEX('Sac Özet'!$M$5:$M$199,MATCH($A30&"",'Sac Özet'!$A$5:$A$199,0)) -> 1.5781281 | J30: =INDEX('Sac Özet'!$N$5:$N$199,MATCH($A30&"",'Sac Özet'!$A$5:$A$199,0)) -> 5.1515321 | K30: =SUMPRODUCT((--'Satınalma Parçaları'!$A$2:$A$107=--$A30)*'Satınalma Parçaları'!$L$2:$L$107) -> 0 | L30: =J30+N(K30) -> 5.1515321 | M30: =AE30/100*Parametreler!$B$7 -> 2.14475 | N30: =AF30/100*Parametreler!$B$8 -> 1.8325 | O30: =AG30/100*Parametreler!$B$9 -> 0.722 | P30: =SUM(M30:O30) -> 4.69925 | Q30: =VLOOKUP($A30,'Yaş Boya Listesi'!$B$6:$L$131,11,FALSE()) -> 3 | R30: =IF(E30="Kataforez",N(Q30),IF(E30="Yaş boya",Parametreler!$B$10/MAX(1,ROUND(IF(ISNUMBER(Q30),Q30,Parametreler!$B$11),0)),0)) -> 26.666667 | S30: =L30+P30+R30 -> 36.517449 | T30: =IF(S30=0,0,L30/S30) -> 0.14107043 | U30: =IF(S30=0,0,P30/S30) -> 0.12868506 | V30: =IF(S30=0,0,R30/S30) -> 0.73024451 | W30: =SUM(AE30:AG30)/100*F30 -> 12.21805 | X30: =IF($G30=0,0,J30/$G30) -> 0.93562153 | Y30: =IF($G30=0,0,S30/$G30) -> 6.6323009 | Z30: =IF($G30=0,0,L30/$G30) -> 0.93562153 | AA30: =S30*Parametreler!$B$12 -> 52.219952 | AB30: =AA30*F30 -> 2715.4375 | AD30: STEP yok – resimden tahmin | AE30: =INDEX('İşçilik Özet'!$W$6:$W$200,MATCH($A30&"",'İşçilik Özet'!$A$6:$A$200,0)) -> 10.72375 | AF30: =INDEX('İşçilik Özet'!$X$6:$X$200,MATCH($A30&"",'İşçilik Özet'!$A$6:$A$200,0)) -> 9.1625 | AG30: =INDEX('İşçilik Özet'!$Y$6:$Y$200,MATCH($A30&"",'İşçilik Özet'!$A$6:$A$200,0)) -> 3.61 | AH30: =(L30+P30)*F30+IF(E30="Kataforez",N(Q30)*F30,IF(E30="Yaş boya",ROUNDUP(F30/MAX(1,ROUND(IF(ISNUMBER(Q30),Q30,Parametreler!$B$11),0)),0)*Parametreler!$B$10,0)) -> 1952.2407
A31: 681073 | B31: H37 - H40 Dişli Koruma Tutucu | C31: A.2 | D31: Resimden tahmin | E31: Yaş boya | F31: 244 | G31: 1.148 | H31: =INDEX('Sac Özet'!$L$5:$L$199,MATCH($A31&"",'Sac Özet'!$A$5:$A$199,0)) -> 1.4000571 | I31: =INDEX('Sac Özet'!$M$5:$M$199,MATCH($A31&"",'Sac Özet'!$A$5:$A$199,0)) -> 0.25201027 | J31: =INDEX('Sac Özet'!$N$5:$N$199,MATCH($A31&"",'Sac Özet'!$A$5:$A$199,0)) -> 1.0375696 | K31: =SUMPRODUCT((--'Satınalma Parçaları'!$A$2:$A$107=--$A31)*'Satınalma Parçaları'!$L$2:$L$107) -> 0 | L31: =J31+N(K31) -> 1.0375696 | M31: =AE31/100*Parametreler!$B$7 -> 0 | N31: =AF31/100*Parametreler!$B$8 -> 1.8325 | O31: =AG31/100*Parametreler!$B$9 -> 0.554 | P31: =SUM(M31:O31) -> 2.3865 | Q31: =VLOOKUP($A31,'Yaş Boya Listesi'!$B$6:$L$131,11,FALSE()) -> 20 | R31: =IF(E31="Kataforez",N(Q31),IF(E31="Yaş boya",Parametreler!$B$10/MAX(1,ROUND(IF(ISNUMBER(Q31),Q31,Parametreler!$B$11),0)),0)) -> 4 | S31: =L31+P31+R31 -> 7.4240696 | T31: =IF(S31=0,0,L31/S31) -> 0.13975752 | U31: =IF(S31=0,0,P31/S31) -> 0.32145442 | V31: =IF(S31=0,0,R31/S31) -> 0.53878805 | W31: =SUM(AE31:AG31)/100*F31 -> 29.1153 | X31: =IF($G31=0,0,J31/$G31) -> 0.90380624 | Y31: =IF($G31=0,0,S31/$G31) -> 6.4669596 | Z31: =IF($G31=0,0,L31/$G31) -> 0.90380624 | AA31: =S31*Parametreler!$B$12 -> 10.616419 | AB31: =AA31*F31 -> 2590.4064 | AD31: STEP yok – resimden tahmin | AE31: =INDEX('İşçilik Özet'!$W$6:$W$200,MATCH($A31&"",'İşçilik Özet'!$A$6:$A$200,0)) -> 0 | AF31: =INDEX('İşçilik Özet'!$X$6:$X$200,MATCH($A31&"",'İşçilik Özet'!$A$6:$A$200,0)) -> 9.1625 | AG31: =INDEX('İşçilik Özet'!$Y$6:$Y$200,MATCH($A31&"",'İşçilik Özet'!$A$6:$A$200,0)) -> 2.77 | AH31: =(L31+P31)*F31+IF(E31="Kataforez",N(Q31)*F31,IF(E31="Yaş boya",ROUNDUP(F31/MAX(1,ROUND(IF(ISNUMBER(Q31),Q31,Parametreler!$B$11),0)),0)*Parametreler!$B$10,0)) -> 1875.473
A32: 217603 | B32: H37-H40 Motor Koruma - Sase Bağlantı 1 | C32: A.4 | D32: Resimden tahmin | E32: Yaş boya | F32: 52 | G32: 3.856 | H32: =INDEX('Sac Özet'!$L$5:$L$199,MATCH($A32&"",'Sac Özet'!$A$5:$A$199,0)) -> 4.9937491 | I32: =INDEX('Sac Özet'!$M$5:$M$199,MATCH($A32&"",'Sac Özet'!$A$5:$A$199,0)) -> 1.1368714 | J32: =INDEX('Sac Özet'!$N$5:$N$199,MATCH($A32&"",'Sac Özet'!$A$5:$A$199,0)) -> 3.6229323 | K32: =SUMPRODUCT((--'Satınalma Parçaları'!$A$2:$A$107=--$A32)*'Satınalma Parçaları'!$L$2:$L$107) -> 0 | L32: =J32+N(K32) -> 3.6229323 | M32: =AE32/100*Parametreler!$B$7 -> 1.081 | N32: =AF32/100*Parametreler!$B$8 -> 1.8325 | O32: =AG32/100*Parametreler!$B$9 -> 0.722 | P32: =SUM(M32:O32) -> 3.6355 | Q32: =VLOOKUP($A32,'Yaş Boya Listesi'!$B$6:$L$131,11,FALSE()) -> 3 | R32: =IF(E32="Kataforez",N(Q32),IF(E32="Yaş boya",Parametreler!$B$10/MAX(1,ROUND(IF(ISNUMBER(Q32),Q32,Parametreler!$B$11),0)),0)) -> 26.666667 | S32: =L32+P32+R32 -> 33.925099 | T32: =IF(S32=0,0,L32/S32) -> 0.10679209 | U32: =IF(S32=0,0,P32/S32) -> 0.10716255 | V32: =IF(S32=0,0,R32/S32) -> 0.78604536 | W32: =SUM(AE32:AG32)/100*F32 -> 9.4523 | X32: =IF($G32=0,0,J32/$G32) -> 0.93955713 | Y32: =IF($G32=0,0,S32/$G32) -> 8.7980028 | Z32: =IF($G32=0,0,L32/$G32) -> 0.93955713 | AA32: =S32*Parametreler!$B$12 -> 48.512892 | AB32: =AA32*F32 -> 2522.6704 | AD32: STEP yok – resimden tahmin | AE32: =INDEX('İşçilik Özet'!$W$6:$W$200,MATCH($A32&"",'İşçilik Özet'!$A$6:$A$200,0)) -> 5.405 | AF32: =INDEX('İşçilik Özet'!$X$6:$X$200,MATCH($A32&"",'İşçilik Özet'!$A$6:$A$200,0)) -> 9.1625 | AG32: =INDEX('İşçilik Özet'!$Y$6:$Y$200,MATCH($A32&"",'İşçilik Özet'!$A$6:$A$200,0)) -> 3.61 | AH32: =(L32+P32)*F32+IF(E32="Kataforez",N(Q32)*F32,IF(E32="Yaş boya",ROUNDUP(F32/MAX(1,ROUND(IF(ISNUMBER(Q32),Q32,Parametreler!$B$11),0)),0)*Parametreler!$B$10,0)) -> 1817.4385
A33: 112569 | B33: Şasi Bağlantılı Tampon | C33: — | D33: STEP | E33: Yok | F33: 14 | G33: 79.29 | H33: =INDEX('Sac Özet'!$L$5:$L$199,MATCH($A33&"",'Sac Özet'!$A$5:$A$199,0)) -> 97.758585 | I33: =INDEX('Sac Özet'!$M$5:$M$199,MATCH($A33&"",'Sac Özet'!$A$5:$A$199,0)) -> 18.44531 | J33: =INDEX('Sac Özet'!$N$5:$N$199,MATCH($A33&"",'Sac Özet'!$A$5:$A$199,0)) -> 72.170297 | K33: =SUMPRODUCT((--'Satınalma Parçaları'!$A$2:$A$107=--$A33)*'Satınalma Parçaları'!$L$2:$L$107) -> 0 | L33: =J33+N(K33) -> 72.170297 | M33: =AE33/100*Parametreler!$B$7 -> 24.173 | N33: =AF33/100*Parametreler!$B$8 -> 19.5 | O33: =AG33/100*Parametreler!$B$9 -> 17.8464 | P33: =SUM(M33:O33) -> 61.5194 | R33: =IF(E33="Kataforez",N(Q33),IF(E33="Yaş boya",Parametreler!$B$10/MAX(1,ROUND(IF(ISNUMBER(Q33),Q33,Parametreler!$B$11),0)),0)) -> 0 | S33: =L33+P33+R33 -> 133.6897 | T33: =IF(S33=0,0,L33/S33) -> 0.5398344 | U33: =IF(S33=0,0,P33/S33) -> 0.4601656 | V33: =IF(S33=0,0,R33/S33) -> 0 | W33: =SUM(AE33:AG33)/100*F33 -> 43.06358 | X33: =IF($G33=0,0,J33/$G33) -> 0.9102068 | Y33: =IF($G33=0,0,S33/$G33) -> 1.6860852 | Z33: =IF($G33=0,0,L33/$G33) -> 0.9102068 | AA33: =S33*Parametreler!$B$12 -> 191.17627 | AB33: =AA33*F33 -> 2676.4677 | AE33: =INDEX('İşçilik Özet'!$W$6:$W$200,MATCH($A33&"",'İşçilik Özet'!$A$6:$A$200,0)) -> 120.865 | AF33: =INDEX('İşçilik Özet'!$X$6:$X$200,MATCH($A33&"",'İşçilik Özet'!$A$6:$A$200,0)) -> 97.5 | AG33: =INDEX('İşçilik Özet'!$Y$6:$Y$200,MATCH($A33&"",'İşçilik Özet'!$A$6:$A$200,0)) -> 89.232 | AH33: =(L33+P33)*F33+IF(E33="Kataforez",N(Q33)*F33,IF(E33="Yaş boya",ROUNDUP(F33/MAX(1,ROUND(IF(ISNUMBER(Q33),Q33,Parametreler!$B$11),0)),0)*Parametreler!$B$10,0)) -> 1871.6558
