Workbook

Sheet Genel Özet
A1: Kaynaklı ST52 Grubu – Genel Maliyet Özeti (sipariş bazında)
A2: Tüm değerler 'Maliyet Analizi' sayfasından formülle hesaplanır.
A4: Kalem | B4: Tutar (€) | C4: Pay
A5: Sac maliyeti (fire düşülmüş) | B5: =SUMPRODUCT('Maliyet Analizi'!$J$5:$J$199,'Maliyet Analizi'!$F$5:$F$199) -> 50365.115 | C5: =IF($B$13=0,0,B5/$B$13) -> 0.24339953
A6: Satınalma malzeme (Satınalma Parçaları) | B6: =SUMPRODUCT('Maliyet Analizi'!$K$5:$K$199,'Maliyet Analizi'!$F$5:$F$199) -> 17860.027 | C6: =IF($B$13=0,0,B6/$B$13) -> 0.086312167
A7: Malzeme toplamı | B7: =B5+B6 -> 68225.142 | C7: =IF($B$13=0,0,B7/$B$13) -> 0.3297117
A8: Büküm işçiliği | B8: =SUMPRODUCT('Maliyet Analizi'!$M$5:$M$199,'Maliyet Analizi'!$F$5:$F$199) -> 14971.77 | C8: =IF($B$13=0,0,B8/$B$13) -> 0.072354083
A9: Puntalama işçiliği | B9: =SUMPRODUCT('Maliyet Analizi'!$N$5:$N$199,'Maliyet Analizi'!$F$5:$F$199) -> 26654.927 | C9: =IF($B$13=0,0,B9/$B$13) -> 0.12881529
A10: Kaynak işçiliği | B10: =SUMPRODUCT('Maliyet Analizi'!$O$5:$O$199,'Maliyet Analizi'!$F$5:$F$199) -> 18562.649 | C10: =IF($B$13=0,0,B10/$B$13) -> 0.089707729
A11: İşçilik toplamı | B11: =B8+B9+B10 -> 60189.346 | C11: =IF($B$13=0,0,B11/$B$13) -> 0.2908771
A12: Boya / kaplama | B12: =SUM('Maliyet Analizi'!$AH$5:$AH$199)-B7-B11 -> 78509.141 | C12: =IF($B$13=0,0,B12/$B$13) -> 0.3794112
A13: GENEL TOPLAM | B13: =B7+B11+B12 -> 206923.63 | C13: =IF($B$13=0,0,B13/$B$13) -> 1
A15: Kırılımlar
A16: Grup | B16: Ürün sayısı | C16: Sipariş adedi | D16: Malzeme € | E16: İşçilik € | F16: Boya € | G16: Toplam € | H16: Pay
A17: STEP modelinden | B17: =COUNTIF('Maliyet Analizi'!$D$5:$D$199,"STEP") -> 58 | C17: =SUMIF('Maliyet Analizi'!$D$5:$D$199,"STEP",'Maliyet Analizi'!$F$5:$F$199) -> 1820 | D17: =SUMPRODUCT('Maliyet Analizi'!$L$5:$L$199,'Maliyet Analizi'!$F$5:$F$199,--('Maliyet Analizi'!$D$5:$D$199="STEP")) -> 55703.164 | E17: =SUMPRODUCT('Maliyet Analizi'!$P$5:$P$199,'Maliyet Analizi'!$F$5:$F$199,--('Maliyet Analizi'!$D$5:$D$199="STEP")) -> 28592.235 | F17: =G17-D17-E17 -> 41493.64 | G17: =SUMIF('Maliyet Analizi'!$D$5:$D$199,"STEP",'Maliyet Analizi'!$AH$5:$AH$199) -> 125789.04 | H17: =IF($B$13=0,0,G17/$B$13) -> 0.6079008
A18: Resimden tahmin | B18: =COUNTIF('Maliyet Analizi'!$D$5:$D$199,"Resimden tahmin") -> 137 | C18: =SUMIF('Maliyet Analizi'!$D$5:$D$199,"Resimden tahmin",'Maliyet Analizi'!$F$5:$F$199) -> 6043 | D18: =SUMPRODUCT('Maliyet Analizi'!$L$5:$L$199,'Maliyet Analizi'!$F$5:$F$199,--('Maliyet Analizi'!$D$5:$D$199="Resimden tahmin")) -> 12521.977 | E18: =SUMPRODUCT('Maliyet Analizi'!$P$5:$P$199,'Maliyet Analizi'!$F$5:$F$199,--('Maliyet Analizi'!$D$5:$D$199="Resimden tahmin")) -> 31597.111 | F18: =G18-D18-E18 -> 37015.501 | G18: =SUMIF('Maliyet Analizi'!$D$5:$D$199,"Resimden tahmin",'Maliyet Analizi'!$AH$5:$AH$199) -> 81134.59 | H18: =IF($B$13=0,0,G18/$B$13) -> 0.3920992
A19: Boya: Yaş boya | B19: =COUNTIF('Maliyet Analizi'!$E$5:$E$199,"Yaş boya") -> 120 | C19: =SUMIF('Maliyet Analizi'!$E$5:$E$199,"Yaş boya",'Maliyet Analizi'!$F$5:$F$199) -> 4345 | D19: =SUMPRODUCT('Maliyet Analizi'!$L$5:$L$199,'Maliyet Analizi'!$F$5:$F$199,--('Maliyet Analizi'!$E$5:$E$199="Yaş boya")) -> 44089.46 | E19: =SUMPRODUCT('Maliyet Analizi'!$P$5:$P$199,'Maliyet Analizi'!$F$5:$F$199,--('Maliyet Analizi'!$E$5:$E$199="Yaş boya")) -> 34684.237 | F19: =G19-D19-E19 -> 66160 | G19: =SUMIF('Maliyet Analizi'!$E$5:$E$199,"Yaş boya",'Maliyet Analizi'!$AH$5:$AH$199) -> 144933.7 | H19: =IF($B$13=0,0,G19/$B$13) -> 0.70042121
A20: Boya: Kataforez | B20: =COUNTIF('Maliyet Analizi'!$E$5:$E$199,"Kataforez") -> 17 | C20: =SUMIF('Maliyet Analizi'!$E$5:$E$199,"Kataforez",'Maliyet Analizi'!$F$5:$F$199) -> 1865 | D20: =SUMPRODUCT('Maliyet Analizi'!$L$5:$L$199,'Maliyet Analizi'!$F$5:$F$199,--('Maliyet Analizi'!$E$5:$E$199="Kataforez")) -> 14746.594 | E20: =SUMPRODUCT('Maliyet Analizi'!$P$5:$P$199,'Maliyet Analizi'!$F$5:$F$199,--('Maliyet Analizi'!$E$5:$E$199="Kataforez")) -> 16124.367 | F20: =G20-D20-E20 -> 12349.141 | G20: =SUMIF('Maliyet Analizi'!$E$5:$E$199,"Kataforez",'Maliyet Analizi'!$AH$5:$AH$199) -> 43220.102 | H20: =IF($B$13=0,0,G20/$B$13) -> 0.20886983
A21: Boya: Yok | B21: =COUNTIF('Maliyet Analizi'!$E$5:$E$199,"Yok") -> 58 | C21: =SUMIF('Maliyet Analizi'!$E$5:$E$199,"Yok",'Maliyet Analizi'!$F$5:$F$199) -> 1653 | D21: =SUMPRODUCT('Maliyet Analizi'!$L$5:$L$199,'Maliyet Analizi'!$F$5:$F$199,--('Maliyet Analizi'!$E$5:$E$199="Yok")) -> 9389.0873 | E21: =SUMPRODUCT('Maliyet Analizi'!$P$5:$P$199,'Maliyet Analizi'!$F$5:$F$199,--('Maliyet Analizi'!$E$5:$E$199="Yok")) -> 9380.7418 | F21: =G21-D21-E21 -> 1.4551915e-11 | G21: =SUMIF('Maliyet Analizi'!$E$5:$E$199,"Yok",'Maliyet Analizi'!$AH$5:$AH$199) -> 18769.829 | H21: =IF($B$13=0,0,G21/$B$13) -> 0.090708969
A22: Not: ilk iki satır (STEP / tahmin) ve son üç satır (boya yöntemi) ayrı ayrı toplama verir.
A24: Kontrol listesi
A25: Satınalma kalemi olup tutarı 0 olan ürün | B25: =COUNTIFS('Maliyet Analizi'!$K$5:$K$199,0,'Maliyet Analizi'!$AD$5:$AD$199,"*satınalma kalemi*") -> 30
A26: Satınalma kalemi olan ürün sayısı | B26: =COUNTIF('Maliyet Analizi'!$AD$5:$AD$199,"*satınalma kalemi*") -> 61
A27: Kataforez fiyatı tahmini olan ürün (teklif yok) | B27: =COUNTIF('Maliyet Analizi'!$AD$5:$AD$199,"*TAHMİN*") -> 2
A28: Toplam iş saati (sipariş, h) | B28: =SUM('Maliyet Analizi'!$W$5:$W$199) -> 3009.4673
A29: Toplam brüt sac (kg, sipariş) | B29: =SUMPRODUCT('Maliyet Analizi'!$H$5:$H$199,'Maliyet Analizi'!$F$5:$F$199) -> 72463.192
A30: Toplam hurda (kg, sipariş) | B30: =SUMPRODUCT('Maliyet Analizi'!$I$5:$I$199,'Maliyet Analizi'!$F$5:$F$199) -> 23238.849
A31: Fiyatı girilmemiş satınalma kalemi (Satınalma Parçaları, 'Evet' olanlar) | B31: =COUNTIFS('Satınalma Parçaları'!$H$2:$H$107,"Evet")-SUMPRODUCT(('Satınalma Parçaları'!$H$2:$H$107="Evet")*ISNUMBER('Satınalma Parçaları'!$K$2:$K$107)) -> 7
A32: Satış bedeli toplamı (€, Maliyet Analizi AB) | B32: ='Maliyet Analizi'!AB200 -> 289180.74

Sheet Maliyet Analizi
A1: Kaynaklı ST52 Grubu – Özet Maliyet Analizi
A2: 195 ürün · işçilik: "İşçilik Özet" · sac: "Sac Özet" (31.10.2026 güncellemeleri dahil) · satınalma: Satınalma Parçaları · boya: Yaş Boya Listesi (80 €/araba) ve Kataforez Teklifleri · tüm kaynaklar bu dosyada, birleştirme 31.10.2026
A3: ÜRÜN | H3: MALZEME (€ / ürün) | M3: İŞÇİLİK (€ / ürün) | Q3: BOYA / KAPLAMA | S3: TOPLAM | X3: KG MALİYETİ (€ / kg) | AA3: SATIŞ | AC3: BİLGİ | AE3: SÜRE VERİSİ (ch / ürün) | AH3: SİPARİŞ
A4: Kod | B4: Ürün | C4: Rev. | D4: Veri kaynağı | E4: Boya yöntemi | F4: Adet (sipariş) | G4: Birim ağırlık (kg) | H4: Brüt sac (kg) | I4: Fire / hurda (kg) | J4: Sac maliyeti | K4: Satınalma malzeme | L4: Malzeme toplam | M4: Büküm | N4: Puntalama | O4: Kaynak | P4: İşçilik toplam | Q4: Boya değeri (€/parça ya da parça/araba) | R4: Boya €/ürün | S4: Birim maliyet (€/ürün) | T4: Malzeme payı | U4: İşçilik payı | V4: Boya payı | W4: İş saati (sipariş, h) | X4: Sac maliyeti (€/kg) | Y4: Birim maliyet (€/kg) | Z4: Malzeme toplam (€/kg) | AA4: Satış fiyatı (€/ürün) | AB4: Toplam satış bedeli (€) | AC4: Satınalma kalemleri (sac dışı) | AD4: Not | AE4: Büküm ch | AF4: Punta ch | AG4: Kaynak ch | AH4: Sipariş toplamı (€)
A5: 1343489 | B5: Izgara 1202X839 (Yeni Switch) | C5: B | D5: STEP | E5: Yaş boya | F5: 119 | G5: 59.956 | H5: =INDEX('Sac Özet'!$L$5:$L$199,MATCH($A5&"",'Sac Özet'!$A$5:$A$199,0)) -> 49.473645 | I5: =INDEX('Sac Özet'!$M$5:$M$199,MATCH($A5&"",'Sac Özet'!$A$5:$A$199,0)) -> 13.886864 | J5: =INDEX('Sac Özet'!$N$5:$N$199,MATCH($A5&"",'Sac Özet'!$A$5:$A$199,0)) -> 35.034125 | K5: =SUMPRODUCT((--'Satınalma Parçaları'!$A$2:$A$107=--$A5)*'Satınalma Parçaları'!$L$2:$L$107) -> 133.50109 | L5: =J5+N(K5) -> 168.53522 | M5: =AE5/100*Parametreler!$B$7 -> 10.488 | N5: =AF5/100*Parametreler!$B$8 -> 19 | O5: =AG5/100*Parametreler!$B$9 -> 1.7504 | P5: =SUM(M5:O5) -> 31.2384 | Q5: =VLOOKUP($A5,'Yaş Boya Listesi'!$B$6:$L$131,11,FALSE()) -> 1 | R5: =IF(E5="Kataforez",N(Q5),IF(E5="Yaş boya",Parametreler!$B$10/MAX(1,ROUND(IF(ISNUMBER(Q5),Q5,Parametreler!$B$11),0)),0)) -> 80 | S5: =L5+P5+R5 -> 279.77362 | T5: =IF(S5=0,0,L5/S5) -> 0.60239853 | U5: =IF(S5=0,0,P5/S5) -> 0.11165599 | V5: =IF(S5=0,0,R5/S5) -> 0.28594548 | W5: =SUM(AE5:AG5)/100*F5 -> 185.86848 | X5: =IF($G5=0,0,J5/$G5) -> 0.58433059 | Y5: =IF($G5=0,0,S5/$G5) -> 4.6663156 | Z5: =IF($G5=0,0,L5/$G5) -> 2.8109816 | AA5: =S5*Parametreler!$B$12 -> 400.07627 | AB5: =AA5*F5 -> 47609.076 | AC5: 1343554 Ø30 MIL TRANSMISYON L:1243mm ×1; 655949 Ø30 MIL TRANSMISYON L:1172mm ×1; 1057048 Tutamak ×2; H300.00067 ARMUT TAKOZ ×2; 655833 Ara boru Ø38×Ø30,8 L50 ×40; H900.00013 DIN125 M8 Rondela ×2; H900.00014 DIN985 M8 Somun ×2; H900.00064 DIN125 M10 Rondela ×8; H900.00069 DIN985 M10 Somun ×4; H900.00024 DIN933 M10x25 8.8 Civata ×4; 655972 DIN935 M30x3.5 ×4; H411.00015 DIN94 5x80 GUPILYA ×4 | AD5: 12 satınalma kalemi | AE5: =INDEX('İşçilik Özet'!$W$6:$W$200,MATCH($A5&"",'İşçilik Özet'!$A$6:$A$200,0)) -> 52.44 | AF5: =INDEX('İşçilik Özet'!$X$6:$X$200,MATCH($A5&"",'İşçilik Özet'!$A$6:$A$200,0)) -> 95 | AG5: =INDEX('İşçilik Özet'!$Y$6:$Y$200,MATCH($A5&"",'İşçilik Özet'!$A$6:$A$200,0)) -> 8.752 | AH5: =(L5+P5)*F5+IF(E5="Kataforez",N(Q5)*F5,IF(E5="Yaş boya",ROUNDUP(F5/MAX(1,ROUND(IF(ISNUMBER(Q5),Q5,Parametreler!$B$11),0)),0)*Parametreler!$B$10,0)) -> 33293.06
A6: 0913348 | B6: H40 Arka Bom Desteği | C6: A.2 | D6: STEP | E6: Kataforez | F6: 56 | G6: 62.123 | H6: =INDEX('Sac Özet'!$L$5:$L$199,MATCH($A6&"",'Sac Özet'!$A$5:$A$199,0)) -> 129.4846 | I6: =INDEX('Sac Özet'!$M$5:$M$199,MATCH($A6&"",'Sac Özet'!$A$5:$A$199,0)) -> 67.440551 | J6: =INDEX('Sac Özet'!$N$5:$N$199,MATCH($A6&"",'Sac Özet'!$A$5:$A$199,0)) -> 81.51623 | K6: =SUMPRODUCT((--'Satınalma Parçaları'!$A$2:$A$107=--$A6)*'Satınalma Parçaları'!$L$2:$L$107) -> 0.22509091 | L6: =J6+N(K6) -> 81.741321 | M6: =AE6/100*Parametreler!$B$7 -> 10.419 | N6: =AF6/100*Parametreler!$B$8 -> 13.75 | O6: =AG6/100*Parametreler!$B$9 -> 18.2552 | P6: =SUM(M6:O6) -> 42.4242 | Q6: =IFERROR(INDEX('Kataforez Teklifleri'!$G$6:$G$50,MATCH($A6&"",'Kataforez Teklifleri'!$A$6:$A$50,0)),"") -> 45.96 | R6: =IF(E6="Kataforez",N(Q6),IF(E6="Yaş boya",Parametreler!$B$10/MAX(1,ROUND(IF(ISNUMBER(Q6),Q6,Parametreler!$B$11),0)),0)) -> 45.96 | S6: =L6+P6+R6 -> 170.12552 | T6: =IF(S6=0,0,L6/S6) -> 0.48047654 | U6: =IF(S6=0,0,P6/S6) -> 0.24936999 | V6: =IF(S6=0,0,R6/S6) -> 0.27015347 | W6: =SUM(AE6:AG6)/100*F6 -> 118.78776 | X6: =IF($G6=0,0,J6/$G6) -> 1.3121747 | Y6: =IF($G6=0,0,S6/$G6) -> 2.7385271 | Z6: =IF($G6=0,0,L6/$G6) -> 1.315798 | AA6: =S6*Parametreler!$B$12 -> 243.27949 | AB6: =AA6*F6 -> 13623.652 | AC6: 323753 DIN 929 M10 kaynak somunu ×8; H900.680347 DIN 929 M8 kaynak somunu ×3 | AD6: 2 satınalma kalemi | AE6: =INDEX('İşçilik Özet'!$W$6:$W$200,MATCH($A6&"",'İşçilik Özet'!$A$6:$A$200,0)) -> 52.095 | AF6: =INDEX('İşçilik Özet'!$X$6:$X$200,MATCH($A6&"",'İşçilik Özet'!$A$6:$A$200,0)) -> 68.75 | AG6: =INDEX('İşçilik Özet'!$Y$6:$Y$200,MATCH($A6&"",'İşçilik Özet'!$A$6:$A$200,0)) -> 91.276 | AH6: =(L6+P6)*F6+IF(E6="Kataforez",N(Q6)*F6,IF(E6="Yaş boya",ROUNDUP(F6/MAX(1,ROUND(IF(ISNUMBER(Q6),Q6,Parametreler!$B$11),0)),0)*Parametreler!$B$10,0)) -> 9527.0292
A7: 103116 | B7: Pto Pompa Salıncağı | C7: A.19 | D7: STEP | E7: Yaş boya | F7: 83 | G7: 33.158 | H7: =INDEX('Sac Özet'!$L$5:$L$199,MATCH($A7&"",'Sac Özet'!$A$5:$A$199,0)) -> 45.420767 | I7: =INDEX('Sac Özet'!$M$5:$M$199,MATCH($A7&"",'Sac Özet'!$A$5:$A$199,0)) -> 12.728029 | J7: =INDEX('Sac Özet'!$N$5:$N$199,MATCH($A7&"",'Sac Özet'!$A$5:$A$199,0)) -> 32.171077 | K7: =SUMPRODUCT((--'Satınalma Parçaları'!$A$2:$A$107=--$A7)*'Satınalma Parçaları'!$L$2:$L$107) -> 0 | L7: =J7+N(K7) -> 32.171077 | M7: =AE7/100*Parametreler!$B$7 -> 6.4515 | N7: =AF7/100*Parametreler!$B$8 -> 8 | O7: =AG7/100*Parametreler!$B$9 -> 9.635 | P7: =SUM(M7:O7) -> 24.0865 | Q7: =VLOOKUP($A7,'Yaş Boya Listesi'!$B$6:$L$131,11,FALSE()) -> 2 | R7: =IF(E7="Kataforez",N(Q7),IF(E7="Yaş boya",Parametreler!$B$10/MAX(1,ROUND(IF(ISNUMBER(Q7),Q7,Parametreler!$B$11),0)),0)) -> 40 | S7: =L7+P7+R7 -> 96.257577 | T7: =IF(S7=0,0,L7/S7) -> 0.33421865 | U7: =IF(S7=0,0,P7/S7) -> 0.25022965 | V7: =IF(S7=0,0,R7/S7) -> 0.4155517 | W7: =SUM(AE7:AG7)/100*F7 -> 99.958975 | X7: =IF($G7=0,0,J7/$G7) -> 0.97023575 | Y7: =IF($G7=0,0,S7/$G7) -> 2.9029971 | Z7: =IF($G7=0,0,L7/$G7) -> 0.97023575 | AA7: =S7*Parametreler!$B$12 -> 137.64834 | AB7: =AA7*F7 -> 11424.812 | AE7: =INDEX('İşçilik Özet'!$W$6:$W$200,MATCH($A7&"",'İşçilik Özet'!$A$6:$A$200,0)) -> 32.2575 | AF7: =INDEX('İşçilik Özet'!$X$6:$X$200,MATCH($A7&"",'İşçilik Özet'!$A$6:$A$200,0)) -> 40 | AG7: =INDEX('İşçilik Özet'!$Y$6:$Y$200,MATCH($A7&"",'İşçilik Özet'!$A$6:$A$200,0)) -> 48.175 | AH7: =(L7+P7)*F7+IF(E7="Kataforez",N(Q7)*F7,IF(E7="Yaş boya",ROUNDUP(F7/MAX(1,ROUND(IF(ISNUMBER(Q7),Q7,Parametreler!$B$11),0)),0)*Parametreler!$B$10,0)) -> 8029.3789
A8: 112616 | B8: Tampon Basamağı | C8: B.4 | D8: Resimden tahmin | E8: Yaş boya | F8: 139 | G8: 4.078 | H8: =INDEX('Sac Özet'!$L$5:$L$199,MATCH($A8&"",'Sac Özet'!$A$5:$A$199,0)) -> 5.0436396 | I8: =INDEX('Sac Özet'!$M$5:$M$199,MATCH($A8&"",'Sac Özet'!$A$5:$A$199,0)) -> 0.96576873 | J8: =INDEX('Sac Özet'!$N$5:$N$199,MATCH($A8&"",'Sac Özet'!$A$5:$A$199,0)) -> 3.7188419 | K8: =SUMPRODUCT((--'Satınalma Parçaları'!$A$2:$A$107=--$A8)*'Satınalma Parçaları'!$L$2:$L$107) -> 0 | L8: =J8+N(K8) -> 3.7188419 | M8: =AE8/100*Parametreler!$B$7 -> 6.555 | N8: =AF8/100*Parametreler!$B$8 -> 11.5825 | O8: =AG8/100*Parametreler!$B$9 -> 6.474 | P8: =SUM(M8:O8) -> 24.6115 | Q8: =VLOOKUP($A8,'Yaş Boya Listesi'!$B$6:$L$131,11,FALSE()) -> 4 | R8: =IF(E8="Kataforez",N(Q8),IF(E8="Yaş boya",Parametreler!$B$10/MAX(1,ROUND(IF(ISNUMBER(Q8),Q8,Parametreler!$B$11),0)),0)) -> 20 | S8: =L8+P8+R8 -> 48.330342 | T8: =IF(S8=0,0,L8/S8) -> 0.07694632 | U8: =IF(S8=0,0,P8/S8) -> 0.50923497 | V8: =IF(S8=0,0,R8/S8) -> 0.41381872 | W8: =SUM(AE8:AG8)/100*F8 -> 171.04993 | X8: =IF($G8=0,0,J8/$G8) -> 0.91192789 | Y8: =IF($G8=0,0,S8/$G8) -> 11.851482 | Z8: =IF($G8=0,0,L8/$G8) -> 0.91192789 | AA8: =S8*Parametreler!$B$12 -> 69.112389 | AB8: =AA8*F8 -> 9606.6221 | AD8: STEP yok – resimden tahmin | AE8: =INDEX('İşçilik Özet'!$W$6:$W$200,MATCH($A8&"",'İşçilik Özet'!$A$6:$A$200,0)) -> 32.775 | AF8: =INDEX('İşçilik Özet'!$X$6:$X$200,MATCH($A8&"",'İşçilik Özet'!$A$6:$A$200,0)) -> 57.9125 | AG8: =INDEX('İşçilik Özet'!$Y$6:$Y$200,MATCH($A8&"",'İşçilik Özet'!$A$6:$A$200,0)) -> 32.37 | AH8: =(L8+P8)*F8+IF(E8="Kataforez",N(Q8)*F8,IF(E8="Yaş boya",ROUNDUP(F8/MAX(1,ROUND(IF(ISNUMBER(Q8),Q8,Parametreler!$B$11),0)),0)*Parametreler!$B$10,0)) -> 6737.9175
A9: 701340 | B9: Civatalı Profil Tampon | C9: A.3 | D9: STEP | E9: Yaş boya | F9: 78 | G9: 38.878 | H9: =INDEX('Sac Özet'!$L$5:$L$199,MATCH($A9&"",'Sac Özet'!$A$5:$A$199,0)) -> 40.674901 | I9: =INDEX('Sac Özet'!$M$5:$M$199,MATCH($A9&"",'Sac Özet'!$A$5:$A$199,0)) -> 1.7861262 | J9: =INDEX('Sac Özet'!$N$5:$N$199,MATCH($A9&"",'Sac Özet'!$A$5:$A$199,0)) -> 31.95537 | K9: =SUMPRODUCT((--'Satınalma Parçaları'!$A$2:$A$107=--$A9)*'Satınalma Parçaları'!$L$2:$L$107) -> 0 | L9: =J9+N(K9) -> 31.95537 | M9: =AE9/100*Parametreler!$B$7 -> 4.7495 | N9: =AF9/100*Parametreler!$B$8 -> 4.5 | O9: =AG9/100*Parametreler!$B$9 -> 7.2656 | P9: =SUM(M9:O9) -> 16.5151 | Q9: =VLOOKUP($A9,'Yaş Boya Listesi'!$B$6:$L$131,11,FALSE()) -> 2 | R9: =IF(E9="Kataforez",N(Q9),IF(E9="Yaş boya",Parametreler!$B$10/MAX(1,ROUND(IF(ISNUMBER(Q9),Q9,Parametreler!$B$11),0)),0)) -> 40 | S9: =L9+P9+R9 -> 88.47047 | T9: =IF(S9=0,0,L9/S9) -> 0.36119815 | U9: =IF(S9=0,0,P9/S9) -> 0.18667359 | V9: =IF(S9=0,0,R9/S9) -> 0.45212826 | W9: =SUM(AE9:AG9)/100*F9 -> 64.40889 | X9: =IF($G9=0,0,J9/$G9) -> 0.82193966 | Y9: =IF($G9=0,0,S9/$G9) -> 2.2755921 | Z9: =IF($G9=0,0,L9/$G9) -> 0.82193966 | AA9: =S9*Parametreler!$B$12 -> 126.51277 | AB9: =AA9*F9 -> 9867.9962 | AE9: =INDEX('İşçilik Özet'!$W$6:$W$200,MATCH($A9&"",'İşçilik Özet'!$A$6:$A$200,0)) -> 23.7475 | AF9: =INDEX('İşçilik Özet'!$X$6:$X$200,MATCH($A9&"",'İşçilik Özet'!$A$6:$A$200,0)) -> 22.5 | AG9: =INDEX('İşçilik Özet'!$Y$6:$Y$200,MATCH($A9&"",'İşçilik Özet'!$A$6:$A$200,0)) -> 36.328 | AH9: =(L9+P9)*F9+IF(E9="Kataforez",N(Q9)*F9,IF(E9="Yaş boya",ROUNDUP(F9/MAX(1,ROUND(IF(ISNUMBER(Q9),Q9,Parametreler!$B$11),0)),0)*Parametreler!$B$10,0)) -> 6900.6967
A10: 475599 | B10: 60MM Takozluk | C10: F | D10: STEP | E10: Kataforez | F10: 124 | G10: 17.844 | H10: =INDEX('Sac Özet'!$L$5:$L$199,MATCH($A10&"",'Sac Özet'!$A$5:$A$199,0)) -> 29.946092 | I10: =INDEX('Sac Özet'!$M$5:$M$199,MATCH($A10&"",'Sac Özet'!$A$5:$A$199,0)) -> 12.083817 | J10: =INDEX('Sac Özet'!$N$5:$N$199,MATCH($A10&"",'Sac Özet'!$A$5:$A$199,0)) -> 20.00217 | K10: =SUMPRODUCT((--'Satınalma Parçaları'!$A$2:$A$107=--$A10)*'Satınalma Parçaları'!$L$2:$L$107) -> 0 | L10: =J10+N(K10) -> 20.00217 | M10: =AE10/100*Parametreler!$B$7 -> 6.9115 | N10: =AF10/100*Parametreler!$B$8 -> 4.3325 | O10: =AG10/100*Parametreler!$B$9 -> 3.176 | P10: =SUM(M10:O10) -> 14.42 | Q10: =IFERROR(INDEX('Kataforez Teklifleri'!$G$6:$G$50,MATCH($A10&"",'Kataforez Teklifleri'!$A$6:$A$50,0)),"") -> 14.29 | R10: =IF(E10="Kataforez",N(Q10),IF(E10="Yaş boya",Parametreler!$B$10/MAX(1,ROUND(IF(ISNUMBER(Q10),Q10,Parametreler!$B$11),0)),0)) -> 14.29 | S10: =L10+P10+R10 -> 48.71217 | T10: =IF(S10=0,0,L10/S10) -> 0.41061956 | U10: =IF(S10=0,0,P10/S10) -> 0.29602459 | V10: =IF(S10=0,0,R10/S10) -> 0.29335585 | W10: =SUM(AE10:AG10)/100*F10 -> 89.404 | X10: =IF($G10=0,0,J10/$G10) -> 1.1209465 | Y10: =IF($G10=0,0,S10/$G10) -> 2.7298907 | Z10: =IF($G10=0,0,L10/$G10) -> 1.1209465 | AA10: =S10*Parametreler!$B$12 -> 69.658403 | AB10: =AA10*F10 -> 8637.6419 | AE10: =INDEX('İşçilik Özet'!$W$6:$W$200,MATCH($A10&"",'İşçilik Özet'!$A$6:$A$200,0)) -> 34.5575 | AF10: =INDEX('İşçilik Özet'!$X$6:$X$200,MATCH($A10&"",'İşçilik Özet'!$A$6:$A$200,0)) -> 21.6625 | AG10: =INDEX('İşçilik Özet'!$Y$6:$Y$200,MATCH($A10&"",'İşçilik Özet'!$A$6:$A$200,0)) -> 15.88 | AH10: =(L10+P10)*F10+IF(E10="Kataforez",N(Q10)*F10,IF(E10="Yaş boya",ROUNDUP(F10/MAX(1,ROUND(IF(ISNUMBER(Q10),Q10,Parametreler!$B$11),0)),0)*Parametreler!$B$10,0)) -> 6040.3091
A11: 404443 | B11: Bisikletlik Şase Bağlantı Profili (60010086) | C11: A.7 | D11: Resimden tahmin | E11: Kataforez | F11: 652 | G11: 4.059 | H11: =INDEX('Sac Özet'!$L$5:$L$199,MATCH($A11&"",'Sac Özet'!$A$5:$A$199,0)) -> 1.5000393 | I11: =INDEX('Sac Özet'!$M$5:$M$199,MATCH($A11&"",'Sac Özet'!$A$5:$A$199,0)) -> 0.27000707 | J11: =INDEX('Sac Özet'!$N$5:$N$199,MATCH($A11&"",'Sac Özet'!$A$5:$A$199,0)) -> 1.1116655 | K11: =SUMPRODUCT((--'Satınalma Parçaları'!$A$2:$A$107=--$A11)*'Satınalma Parçaları'!$L$2:$L$107) -> 0 | L11: =J11+N(K11) -> 1.1116655 | M11: =AE11/100*Parametreler!$B$7 -> 0 | N11: =AF11/100*Parametreler!$B$8 -> 2.8325 | O11: =AG11/100*Parametreler!$B$9 -> 1.4608 | P11: =SUM(M11:O11) -> 4.2933 | Q11: =IFERROR(INDEX('Kataforez Teklifleri'!$G$6:$G$50,MATCH($A11&"",'Kataforez Teklifleri'!$A$6:$A$50,0)),"") -> 3.25 | R11: =IF(E11="Kataforez",N(Q11),IF(E11="Yaş boya",Parametreler!$B$10/MAX(1,ROUND(IF(ISNUMBER(Q11),Q11,Parametreler!$B$11),0)),0)) -> 3.25 | S11: =L11+P11+R11 -> 8.6549655 | T11: =IF(S11=0,0,L11/S11) -> 0.12844251 | U11: =IF(S11=0,0,P11/S11) -> 0.49605051 | V11: =IF(S11=0,0,R11/S11) -> 0.37550699 | W11: =SUM(AE11:AG11)/100*F11 -> 139.96158 | X11: =IF($G11=0,0,J11/$G11) -> 0.27387669 | Y11: =IF($G11=0,0,S11/$G11) -> 2.1322901 | Z11: =IF($G11=0,0,L11/$G11) -> 0.27387669 | AA11: =S11*Parametreler!$B$12 -> 12.376601 | AB11: =AA11*F11 -> 8069.5436 | AC11: 117806 Kutu Profil: 40x40x4 ×1 | AD11: STEP yok – resimden tahmin · 1 satınalma kalemi | AE11: =INDEX('İşçilik Özet'!$W$6:$W$200,MATCH($A11&"",'İşçilik Özet'!$A$6:$A$200,0)) -> 0 | AF11: =INDEX('İşçilik Özet'!$X$6:$X$200,MATCH($A11&"",'İşçilik Özet'!$A$6:$A$200,0)) -> 14.1625 | AG11: =INDEX('İşçilik Özet'!$Y$6:$Y$200,MATCH($A11&"",'İşçilik Özet'!$A$6:$A$200,0)) -> 7.304 | AH11: =(L11+P11)*F11+IF(E11="Kataforez",N(Q11)*F11,IF(E11="Yaş boya",ROUNDUP(F11/MAX(1,ROUND(IF(ISNUMBER(Q11),Q11,Parametreler!$B$11),0)),0)*Parametreler!$B$10,0)) -> 5643.0375
A12: 384255 | B12: Takozluk | C12: F | D12: STEP | E12: Kataforez | F12: 106 | G12: 18.62 | H12: =INDEX('Sac Özet'!$L$5:$L$199,MATCH($A12&"",'Sac Özet'!$A$5:$A$199,0)) -> 30.788224 | I12: =INDEX('Sac Özet'!$M$5:$M$199,MATCH($A12&"",'Sac Özet'!$A$5:$A$199,0)) -> 12.152003 | J12: =INDEX('Sac Özet'!$N$5:$N$199,MATCH($A12&"",'Sac Özet'!$A$5:$A$199,0)) -> 20.65356 | K12: =SUMPRODUCT((--'Satınalma Parçaları'!$A$2:$A$107=--$A12)*'Satınalma Parçaları'!$L$2:$L$107) -> 0 | L12: =J12+N(K12) -> 20.65356 | M12: =AE12/100*Parametreler!$B$7 -> 6.9115 | N12: =AF12/100*Parametreler!$B$8 -> 4.3325 | O12: =AG12/100*Parametreler!$B$9 -> 3.176 | P12: =SUM(M12:O12) -> 14.42 | Q12: =IFERROR(INDEX('Kataforez Teklifleri'!$G$6:$G$50,MATCH($A12&"",'Kataforez Teklifleri'!$A$6:$A$50,0)),"") -> 14.9 | R12: =IF(E12="Kataforez",N(Q12),IF(E12="Yaş boya",Parametreler!$B$10/MAX(1,ROUND(IF(ISNUMBER(Q12),Q12,Parametreler!$B$11),0)),0)) -> 14.9 | S12: =L12+P12+R12 -> 49.97356 | T12: =IF(S12=0,0,L12/S12) -> 0.41328975 | U12: =IF(S12=0,0,P12/S12) -> 0.28855258 | V12: =IF(S12=0,0,R12/S12) -> 0.29815766 | W12: =SUM(AE12:AG12)/100*F12 -> 76.426 | X12: =IF($G12=0,0,J12/$G12) -> 1.1092138 | Y12: =IF($G12=0,0,S12/$G12) -> 2.6838647 | Z12: =IF($G12=0,0,L12/$G12) -> 1.1092138 | AA12: =S12*Parametreler!$B$12 -> 71.462192 | AB12: =AA12*F12 -> 7574.9923 | AE12: =INDEX('İşçilik Özet'!$W$6:$W$200,MATCH($A12&"",'İşçilik Özet'!$A$6:$A$200,0)) -> 34.5575 | AF12: =INDEX('İşçilik Özet'!$X$6:$X$200,MATCH($A12&"",'İşçilik Özet'!$A$6:$A$200,0)) -> 21.6625 | AG12: =INDEX('İşçilik Özet'!$Y$6:$Y$200,MATCH($A12&"",'İşçilik Özet'!$A$6:$A$200,0)) -> 15.88 | AH12: =(L12+P12)*F12+IF(E12="Kataforez",N(Q12)*F12,IF(E12="Yaş boya",ROUNDUP(F12/MAX(1,ROUND(IF(ISNUMBER(Q12),Q12,Parametreler!$B$11),0)),0)*Parametreler!$B$10,0)) -> 5297.1974
A13: 677216 | B13: Tampon Bağlantı Sag | C13: A.9 | D13: STEP | E13: Yaş boya | F13: 78 | G13: 13.018 | H13: =INDEX('Sac Özet'!$L$5:$L$199,MATCH($A13&"",'Sac Özet'!$A$5:$A$199,0)) -> 19.576851 | I13: =INDEX('Sac Özet'!$M$5:$M$199,MATCH($A13&"",'Sac Özet'!$A$5:$A$199,0)) -> 6.5464004 | J13: =INDEX('Sac Özet'!$N$5:$N$199,MATCH($A13&"",'Sac Özet'!$A$5:$A$199,0)) -> 13.519022 | K13: =SUMPRODUCT((--'Satınalma Parçaları'!$A$2:$A$107=--$A13)*'Satınalma Parçaları'!$L$2:$L$107) -> 0 | L13: =J13+N(K13) -> 13.519022 | M13: =AE13/100*Parametreler!$B$7 -> 5.244 | N13: =AF13/100*Parametreler!$B$8 -> 6.3325 | O13: =AG13/100*Parametreler!$B$9 -> 6.2496 | P13: =SUM(M13:O13) -> 17.8261 | Q13: =VLOOKUP($A13,'Yaş Boya Listesi'!$B$6:$L$131,11,FALSE()) -> 4 | R13: =IF(E13="Kataforez",N(Q13),IF(E13="Yaş boya",Parametreler!$B$10/MAX(1,ROUND(IF(ISNUMBER(Q13),Q13,Parametreler!$B$11),0)),0)) -> 20 | S13: =L13+P13+R13 -> 51.345122 | T13: =IF(S13=0,0,L13/S13) -> 0.26329711 | U13: =IF(S13=0,0,P13/S13) -> 0.34718196 | V13: =IF(S13=0,0,R13/S13) -> 0.38952093 | W13: =SUM(AE13:AG13)/100*F13 -> 69.52179 | X13: =IF($G13=0,0,J13/$G13) -> 1.0384869 | Y13: =IF($G13=0,0,S13/$G13) -> 3.9441637 | Z13: =IF($G13=0,0,L13/$G13) -> 1.0384869 | AA13: =S13*Parametreler!$B$12 -> 73.423525 | AB13: =AA13*F13 -> 5727.035 | AE13: =INDEX('İşçilik Özet'!$W$6:$W$200,MATCH($A13&"",'İşçilik Özet'!$A$6:$A$200,0)) -> 26.22 | AF13: =INDEX('İşçilik Özet'!$X$6:$X$200,MATCH($A13&"",'İşçilik Özet'!$A$6:$A$200,0)) -> 31.6625 | AG13: =INDEX('İşçilik Özet'!$Y$6:$Y$200,MATCH($A13&"",'İşçilik Özet'!$A$6:$A$200,0)) -> 31.248 | AH13: =(L13+P13)*F13+IF(E13="Kataforez",N(Q13)*F13,IF(E13="Yaş boya",ROUNDUP(F13/MAX(1,ROUND(IF(ISNUMBER(Q13),Q13,Parametreler!$B$11),0)),0)*Parametreler!$B$10,0)) -> 4044.9195
A14: 678436 | B14: Tampon Bağlantı Sol | C14: A.9 | D14: STEP | E14: Yaş boya | F14: 78 | G14: 13.018 | H14: =INDEX('Sac Özet'!$L$5:$L$199,MATCH($A14&"",'Sac Özet'!$A$5:$A$199,0)) -> 19.576851 | I14: =INDEX('Sac Özet'!$M$5:$M$199,MATCH($A14&"",'Sac Özet'!$A$5:$A$199,0)) -> 6.5477663 | J14: =INDEX('Sac Özet'!$N$5:$N$199,MATCH($A14&"",'Sac Özet'!$A$5:$A$199,0)) -> 13.518575 | K14: =SUMPRODUCT((--'Satınalma Parçaları'!$A$2:$A$107=--$A14)*'Satınalma Parçaları'!$L$2:$L$107) -> 0 | L14: =J14+N(K14) -> 13.518575 | M14: =AE14/100*Parametreler!$B$7 -> 5.244 | N14: =AF14/100*Parametreler!$B$8 -> 6.3325 | O14: =AG14/100*Parametreler!$B$9 -> 6.2496 | P14: =SUM(M14:O14) -> 17.8261 | Q14: =VLOOKUP($A14,'Yaş Boya Listesi'!$B$6:$L$131,11,FALSE()) -> 4 | R14: =IF(E14="Kataforez",N(Q14),IF(E14="Yaş boya",Parametreler!$B$10/MAX(1,ROUND(IF(ISNUMBER(Q14),Q14,Parametreler!$B$11),0)),0)) -> 20 | S14: =L14+P14+R14 -> 51.344675 | T14: =IF(S14=0,0,L14/S14) -> 0.2632907 | U14: =IF(S14=0,0,P14/S14) -> 0.34718498 | V14: =IF(S14=0,0,R14/S14) -> 0.38952432 | W14: =SUM(AE14:AG14)/100*F14 -> 69.52179 | X14: =IF($G14=0,0,J14/$G14) -> 1.0384526 | Y14: =IF($G14=0,0,S14/$G14) -> 3.9441293 | Z14: =IF($G14=0,0,L14/$G14) -> 1.0384526 | AA14: =S14*Parametreler!$B$12 -> 73.422886 | AB14: =AA14*F14 -> 5726.9851 | AE14: =INDEX('İşçilik Özet'!$W$6:$W$200,MATCH($A14&"",'İşçilik Özet'!$A$6:$A$200,0)) -> 26.22 | AF14: =INDEX('İşçilik Özet'!$X$6:$X$200,MATCH($A14&"",'İşçilik Özet'!$A$6:$A$200,0)) -> 31.6625 | AG14: =INDEX('İşçilik Özet'!$Y$6:$Y$200,MATCH($A14&"",'İşçilik Özet'!$A$6:$A$200,0)) -> 31.248 | AH14: =(L14+P14)*F14+IF(E14="Kataforez",N(Q14)*F14,IF(E14="Yaş boya",ROUNDUP(F14/MAX(1,ROUND(IF(ISNUMBER(Q14),Q14,Parametreler!$B$11),0)),0)*Parametreler!$B$10,0)) -> 4044.8847
A15: 475601 | B15: 60MM Takozluk Bağlantısı | C15: A.7 | D15: STEP | E15: Kataforez | F15: 122 | G15: 10.973 | H15: =INDEX('Sac Özet'!$L$5:$L$199,MATCH($A15&"",'Sac Özet'!$A$5:$A$199,0)) -> 14.564223 | I15: =INDEX('Sac Özet'!$M$5:$M$199,MATCH($A15&"",'Sac Özet'!$A$5:$A$199,0)) -> 3.5793724 | J15: =INDEX('Sac Özet'!$N$5:$N$199,MATCH($A15&"",'Sac Özet'!$A$5:$A$199,0)) -> 10.479947 | K15: =SUMPRODUCT((--'Satınalma Parçaları'!$A$2:$A$107=--$A15)*'Satınalma Parçaları'!$L$2:$L$107) -> 0 | L15: =J15+N(K15) -> 10.479947 | M15: =AE15/100*Parametreler!$B$7 -> 2.852 | N15: =AF15/100*Parametreler!$B$8 -> 5.0825 | O15: =AG15/100*Parametreler!$B$9 -> 5.5574 | P15: =SUM(M15:O15) -> 13.4919 | Q15: =IFERROR(INDEX('Kataforez Teklifleri'!$G$6:$G$50,MATCH($A15&"",'Kataforez Teklifleri'!$A$6:$A$50,0)),"") -> 8.93 | R15: =IF(E15="Kataforez",N(Q15),IF(E15="Yaş boya",Parametreler!$B$10/MAX(1,ROUND(IF(ISNUMBER(Q15),Q15,Parametreler!$B$11),0)),0)) -> 8.93 | S15: =L15+P15+R15 -> 32.901847 | T15: =IF(S15=0,0,L15/S15) -> 0.31852155 | U15: =IF(S15=0,0,P15/S15) -> 0.41006512 | V15: =IF(S15=0,0,R15/S15) -> 0.27141333 | W15: =SUM(AE15:AG15)/100*F15 -> 82.30059 | X15: =IF($G15=0,0,J15/$G15) -> 0.95506673 | Y15: =IF($G15=0,0,S15/$G15) -> 2.9984368 | Z15: =IF($G15=0,0,L15/$G15) -> 0.95506673 | AA15: =S15*Parametreler!$B$12 -> 47.049642 | AB15: =AA15*F15 -> 5740.0563 | AE15: =INDEX('İşçilik Özet'!$W$6:$W$200,MATCH($A15&"",'İşçilik Özet'!$A$6:$A$200,0)) -> 14.26 | AF15: =INDEX('İşçilik Özet'!$X$6:$X$200,MATCH($A15&"",'İşçilik Özet'!$A$6:$A$200,0)) -> 25.4125 | AG15: =INDEX('İşçilik Özet'!$Y$6:$Y$200,MATCH($A15&"",'İşçilik Özet'!$A$6:$A$200,0)) -> 27.787 | AH15: =(L15+P15)*F15+IF(E15="Kataforez",N(Q15)*F15,IF(E15="Yaş boya",ROUNDUP(F15/MAX(1,ROUND(IF(ISNUMBER(Q15),Q15,Parametreler!$B$11),0)),0)*Parametreler!$B$10,0)) -> 4014.0254
A16: 112574 | B16: Tampon Şasi Bağlantı 112574 | C16: A.4 | D16: Resimden tahmin | E16: Yaş boya | F16: 204 | G16: 3.402 | H16: =INDEX('Sac Özet'!$L$5:$L$199,MATCH($A16&"",'Sac Özet'!$A$5:$A$199,0)) -> 4.2575478 | I16: =INDEX('Sac Özet'!$M$5:$M$199,MATCH($A16&"",'Sac Özet'!$A$5:$A$199,0)) -> 0.85554623 | J16: =INDEX('Sac Özet'!$N$5:$N$199,MATCH($A16&"",'Sac Özet'!$A$5:$A$199,0)) -> 3.1260413 | K16: =SUMPRODUCT((--'Satınalma Parçaları'!$A$2:$A$107=--$A16)*'Satınalma Parçaları'!$L$2:$L$107) -> 0 | L16: =J16+N(K16) -> 3.1260413 | M16: =AE16/100*Parametreler!$B$7 -> 1.081 | N16: =AF16/100*Parametreler!$B$8 -> 2.5825 | O16: =AG16/100*Parametreler!$B$9 -> 4.272 | P16: =SUM(M16:O16) -> 7.9355 | Q16: =VLOOKUP($A16,'Yaş Boya Listesi'!$B$6:$L$131,11,FALSE()) -> 10 | R16: =IF(E16="Kataforez",N(Q16),IF(E16="Yaş boya",Parametreler!$B$10/MAX(1,ROUND(IF(ISNUMBER(Q16),Q16,Parametreler!$B$11),0)),0)) -> 8 | S16: =L16+P16+R16 -> 19.061541 | T16: =IF(S16=0,0,L16/S16) -> 0.1639973 | U16: =IF(S16=0,0,P16/S16) -> 0.41630946 | V16: =IF(S16=0,0,R16/S16) -> 0.41969324 | W16: =SUM(AE16:AG16)/100*F16 -> 80.9421 | X16: =IF($G16=0,0,J16/$G16) -> 0.9188834 | Y16: =IF($G16=0,0,S16/$G16) -> 5.6030398 | Z16: =IF($G16=0,0,L16/$G16) -> 0.9188834 | AA16: =S16*Parametreler!$B$12 -> 27.258004 | AB16: =AA16*F16 -> 5560.6328 | AD16: STEP yok – resimden tahmin | AE16: =INDEX('İşçilik Özet'!$W$6:$W$200,MATCH($A16&"",'İşçilik Özet'!$A$6:$A$200,0)) -> 5.405 | AF16: =INDEX('İşçilik Özet'!$X$6:$X$200,MATCH($A16&"",'İşçilik Özet'!$A$6:$A$200,0)) -> 12.9125 | AG16: =INDEX('İşçilik Özet'!$Y$6:$Y$200,MATCH($A16&"",'İşçilik Özet'!$A$6:$A$200,0)) -> 21.36 | AH16: =(L16+P16)*F16+IF(E16="Kataforez",N(Q16)*F16,IF(E16="Yaş boya",ROUNDUP(F16/MAX(1,ROUND(IF(ISNUMBER(Q16),Q16,Parametreler!$B$11),0)),0)*Parametreler!$B$10,0)) -> 3936.5544
A17: 386489 | B17: Takozluk Bağlantısı | C17: A.7 | D17: STEP | E17: Kataforez | F17: 106 | G17: 12.225 | H17: =INDEX('Sac Özet'!$L$5:$L$199,MATCH($A17&"",'Sac Özet'!$A$5:$A$199,0)) -> 16.102226 | I17: =INDEX('Sac Özet'!$M$5:$M$199,MATCH($A17&"",'Sac Özet'!$A$5:$A$199,0)) -> 3.8666823 | J17: =INDEX('Sac Özet'!$N$5:$N$199,MATCH($A17&"",'Sac Özet'!$A$5:$A$199,0)) -> 11.616321 | K17: =SUMPRODUCT((--'Satınalma Parçaları'!$A$2:$A$107=--$A17)*'Satınalma Parçaları'!$L$2:$L$107) -> 0 | L17: =J17+N(K17) -> 11.616321 | M17: =AE17/100*Parametreler!$B$7 -> 3.91575 | N17: =AF17/100*Parametreler!$B$8 -> 5.0825 | O17: =AG17/100*Parametreler!$B$9 -> 5.5574 | P17: =SUM(M17:O17) -> 14.55565 | Q17: =IFERROR(INDEX('Kataforez Teklifleri'!$G$6:$G$50,MATCH($A17&"",'Kataforez Teklifleri'!$A$6:$A$50,0)),"") -> 9.76 | R17: =IF(E17="Kataforez",N(Q17),IF(E17="Yaş boya",Parametreler!$B$10/MAX(1,ROUND(IF(ISNUMBER(Q17),Q17,Parametreler!$B$11),0)),0)) -> 9.76 | S17: =L17+P17+R17 -> 35.931971 | T17: =IF(S17=0,0,L17/S17) -> 0.3232865 | U17: =IF(S17=0,0,P17/S17) -> 0.4050891 | V17: =IF(S17=0,0,R17/S17) -> 0.2716244 | W17: =SUM(AE17:AG17)/100*F17 -> 77.144945 | X17: =IF($G17=0,0,J17/$G17) -> 0.95021033 | Y17: =IF($G17=0,0,S17/$G17) -> 2.9392206 | Z17: =IF($G17=0,0,L17/$G17) -> 0.95021033 | AA17: =S17*Parametreler!$B$12 -> 51.382719 | AB17: =AA17*F17 -> 5446.5682 | AE17: =INDEX('İşçilik Özet'!$W$6:$W$200,MATCH($A17&"",'İşçilik Özet'!$A$6:$A$200,0)) -> 19.57875 | AF17: =INDEX('İşçilik Özet'!$X$6:$X$200,MATCH($A17&"",'İşçilik Özet'!$A$6:$A$200,0)) -> 25.4125 | AG17: =INDEX('İşçilik Özet'!$Y$6:$Y$200,MATCH($A17&"",'İşçilik Özet'!$A$6:$A$200,0)) -> 27.787 | AH17: =(L17+P17)*F17+IF(E17="Kataforez",N(Q17)*F17,IF(E17="Yaş boya",ROUNDUP(F17/MAX(1,ROUND(IF(ISNUMBER(Q17),Q17,Parametreler!$B$11),0)),0)*Parametreler!$B$10,0)) -> 3808.789
A18: 106773 | B18: Ortak Soğutucu Sehpa | C18: A.10 | D18: STEP | E18: Yaş boya | F18: 85 | G18: 8.284 | H18: =INDEX('Sac Özet'!$L$5:$L$199,MATCH($A18&"",'Sac Özet'!$A$5:$A$199,0)) -> 10.584508 | I18: =INDEX('Sac Özet'!$M$5:$M$199,MATCH($A18&"",'Sac Özet'!$A$5:$A$199,0)) -> 2.2916897 | J18: =INDEX('Sac Özet'!$N$5:$N$199,MATCH($A18&"",'Sac Özet'!$A$5:$A$199,0)) -> 7.717599 | K18: =SUMPRODUCT((--'Satınalma Parçaları'!$A$2:$A$107=--$A18)*'Satınalma Parçaları'!$L$2:$L$107) -> 0 | L18: =J18+N(K18) -> 7.717599 | M18: =AE18/100*Parametreler!$B$7 -> 5.61775 | N18: =AF18/100*Parametreler!$B$8 -> 2.5825 | O18: =AG18/100*Parametreler!$B$9 -> 1.7312 | P18: =SUM(M18:O18) -> 9.93145 | Q18: =VLOOKUP($A18,'Yaş Boya Listesi'!$B$6:$L$131,11,FALSE()) -> 4 | R18: =IF(E18="Kataforez",N(Q18),IF(E18="Yaş boya",Parametreler!$B$10/MAX(1,ROUND(IF(ISNUMBER(Q18),Q18,Parametreler!$B$11),0)),0)) -> 20 | S18: =L18+P18+R18 -> 37.649049 | T18: =IF(S18=0,0,L18/S18) -> 0.20498789 | U18: =IF(S18=0,0,P18/S18) -> 0.2637902 | V18: =IF(S18=0,0,R18/S18) -> 0.53122192 | W18: =SUM(AE18:AG18)/100*F18 -> 42.208663 | X18: =IF($G18=0,0,J18/$G18) -> 0.93162712 | Y18: =IF($G18=0,0,S18/$G18) -> 4.544791 | Z18: =IF($G18=0,0,L18/$G18) -> 0.93162712 | AA18: =S18*Parametreler!$B$12 -> 53.83814 | AB18: =AA18*F18 -> 4576.2419 | AE18: =INDEX('İşçilik Özet'!$W$6:$W$200,MATCH($A18&"",'İşçilik Özet'!$A$6:$A$200,0)) -> 28.08875 | AF18: =INDEX('İşçilik Özet'!$X$6:$X$200,MATCH($A18&"",'İşçilik Özet'!$A$6:$A$200,0)) -> 12.9125 | AG18: =INDEX('İşçilik Özet'!$Y$6:$Y$200,MATCH($A18&"",'İşçilik Özet'!$A$6:$A$200,0)) -> 8.656 | AH18: =(L18+P18)*F18+IF(E18="Kataforez",N(Q18)*F18,IF(E18="Yaş boya",ROUNDUP(F18/MAX(1,ROUND(IF(ISNUMBER(Q18),Q18,Parametreler!$B$11),0)),0)*Parametreler!$B$10,0)) -> 3260.1692
A19: 400994 | B19: Su Tankı Sehpası Ayağı (H=60MM) | C19: A.10 | D19: Resimden tahmin | E19: Yaş boya | F19: 332 | G19: 1.061 | H19: =INDEX('Sac Özet'!$L$5:$L$199,MATCH($A19&"",'Sac Özet'!$A$5:$A$199,0)) -> 1.3337851 | I19: =INDEX('Sac Özet'!$M$5:$M$199,MATCH($A19&"",'Sac Özet'!$A$5:$A$199,0)) -> 0.27281051 | J19: =INDEX('Sac Özet'!$N$5:$N$199,MATCH($A19&"",'Sac Özet'!$A$5:$A$199,0)) -> 0.97774465 | K19: =SUMPRODUCT((--'Satınalma Parçaları'!$A$2:$A$107=--$A19)*'Satınalma Parçaları'!$L$2:$L$107) -> 0 | L19: =J19+N(K19) -> 0.97774465 | M19: =AE19/100*Parametreler!$B$7 -> 1.311 | N19: =AF19/100*Parametreler!$B$8 -> 2.0825 | O19: =AG19/100*Parametreler!$B$9 -> 1.06 | P19: =SUM(M19:O19) -> 4.4535 | Q19: =VLOOKUP($A19,'Yaş Boya Listesi'!$B$6:$L$131,11,FALSE()) -> 20 | R19: =IF(E19="Kataforez",N(Q19),IF(E19="Yaş boya",Parametreler!$B$10/MAX(1,ROUND(IF(ISNUMBER(Q19),Q19,Parametreler!$B$11),0)),0)) -> 4 | S19: =L19+P19+R19 -> 9.4312446 | T19: =IF(S19=0,0,L19/S19) -> 0.1036708 | U19: =IF(S19=0,0,P19/S19) -> 0.47220703 | V19: =IF(S19=0,0,R19/S19) -> 0.42412218 | W19: =SUM(AE19:AG19)/100*F19 -> 73.9281 | X19: =IF($G19=0,0,J19/$G19) -> 0.92153124 | Y19: =IF($G19=0,0,S19/$G19) -> 8.8890147 | Z19: =IF($G19=0,0,L19/$G19) -> 0.92153124 | AA19: =S19*Parametreler!$B$12 -> 13.48668 | AB19: =AA19*F19 -> 4477.5777 | AD19: STEP yok – resimden tahmin | AE19: =INDEX('İşçilik Özet'!$W$6:$W$200,MATCH($A19&"",'İşçilik Özet'!$A$6:$A$200,0)) -> 6.555 | AF19: =INDEX('İşçilik Özet'!$X$6:$X$200,MATCH($A19&"",'İşçilik Özet'!$A$6:$A$200,0)) -> 10.4125 | AG19: =INDEX('İşçilik Özet'!$Y$6:$Y$200,MATCH($A19&"",'İşçilik Özet'!$A$6:$A$200,0)) -> 5.3 | AH19: =(L19+P19)*F19+IF(E19="Kataforez",N(Q19)*F19,IF(E19="Yaş boya",ROUNDUP(F19/MAX(1,ROUND(IF(ISNUMBER(Q19),Q19,Parametreler!$B$11),0)),0)*Parametreler!$B$10,0)) -> 3163.1732
A20: 284248 | B20: Pano Sehpası Kaynak Montaj | C20: B.2 | D20: STEP | E20: Yaş boya | F20: 56 | G20: 10.266 | H20: =INDEX('Sac Özet'!$L$5:$L$199,MATCH($A20&"",'Sac Özet'!$A$5:$A$199,0)) -> 30.935637 | I20: =INDEX('Sac Özet'!$M$5:$M$199,MATCH($A20&"",'Sac Özet'!$A$5:$A$199,0)) -> 20.661699 | J20: =INDEX('Sac Özet'!$N$5:$N$199,MATCH($A20&"",'Sac Özet'!$A$5:$A$199,0)) -> 17.986499 | K20: =SUMPRODUCT((--'Satınalma Parçaları'!$A$2:$A$107=--$A20)*'Satınalma Parçaları'!$L$2:$L$107) -> 0 | L20: =J20+N(K20) -> 17.986499 | M20: =AE20/100*Parametreler!$B$7 -> 2.14475 | N20: =AF20/100*Parametreler!$B$8 -> 4.0825 | O20: =AG20/100*Parametreler!$B$9 -> 2.7886 | P20: =SUM(M20:O20) -> 9.01585 | Q20: =VLOOKUP($A20,'Yaş Boya Listesi'!$B$6:$L$131,11,FALSE()) -> 3 | R20: =IF(E20="Kataforez",N(Q20),IF(E20="Yaş boya",Parametreler!$B$10/MAX(1,ROUND(IF(ISNUMBER(Q20),Q20,Parametreler!$B$11),0)),0)) -> 26.666667 | S20: =L20+P20+R20 -> 53.669016 | T20: =IF(S20=0,0,L20/S20) -> 0.33513749 | U20: =IF(S20=0,0,P20/S20) -> 0.16798985 | V20: =IF(S20=0,0,R20/S20) -> 0.49687266 | W20: =SUM(AE20:AG20)/100*F20 -> 25.24438 | X20: =IF($G20=0,0,J20/$G20) -> 1.7520455 | Y20: =IF($G20=0,0,S20/$G20) -> 5.227841 | Z20: =IF($G20=0,0,L20/$G20) -> 1.7520455 | AA20: =S20*Parametreler!$B$12 -> 76.746693 | AB20: =AA20*F20 -> 4297.8148 | AE20: =INDEX('İşçilik Özet'!$W$6:$W$200,MATCH($A20&"",'İşçilik Özet'!$A$6:$A$200,0)) -> 10.72375 | AF20: =INDEX('İşçilik Özet'!$X$6:$X$200,MATCH($A20&"",'İşçilik Özet'!$A$6:$A$200,0)) -> 20.4125 | AG20: =INDEX('İşçilik Özet'!$Y$6:$Y$200,MATCH($A20&"",'İşçilik Özet'!$A$6:$A$200,0)) -> 13.943 | AH20: =(L20+P20)*F20+IF(E20="Kataforez",N(Q20)*F20,IF(E20="Yaş boya",ROUNDUP(F20/MAX(1,ROUND(IF(ISNUMBER(Q20),Q20,Parametreler!$B$11),0)),0)*Parametreler!$B$10,0)) -> 3032.1316
A21: 110434 | B21: H37- H40 Arka Ayak Dayama | C21: A.7 | D21: Resimden tahmin | E21: Yaş boya | F21: 142 | G21: 6.073 | H21: =INDEX('Sac Özet'!$L$5:$L$199,MATCH($A21&"",'Sac Özet'!$A$5:$A$199,0)) -> 3.0000402 | I21: =INDEX('Sac Özet'!$M$5:$M$199,MATCH($A21&"",'Sac Özet'!$A$5:$A$199,0)) -> 0.54000724 | J21: =INDEX('Sac Özet'!$N$5:$N$199,MATCH($A21&"",'Sac Özet'!$A$5:$A$199,0)) -> 2.2233026 | K21: =SUMPRODUCT((--'Satınalma Parçaları'!$A$2:$A$107=--$A21)*'Satınalma Parçaları'!$L$2:$L$107) -> 2.4 | L21: =J21+N(K21) -> 4.6233026 | M21: =AE21/100*Parametreler!$B$7 -> 0 | N21: =AF21/100*Parametreler!$B$8 -> 4.5825 | O21: =AG21/100*Parametreler!$B$9 -> 2.7872 | P21: =SUM(M21:O21) -> 7.3697 | Q21: =VLOOKUP($A21,'Yaş Boya Listesi'!$B$6:$L$131,11,FALSE()) -> 10 | R21: =IF(E21="Kataforez",N(Q21),IF(E21="Yaş boya",Parametreler!$B$10/MAX(1,ROUND(IF(ISNUMBER(Q21),Q21,Parametreler!$B$11),0)),0)) -> 8 | S21: =L21+P21+R21 -> 19.993003 | T21: =IF(S21=0,0,L21/S21) -> 0.23124603 | U21: =IF(S21=0,0,P21/S21) -> 0.36861397 | V21: =IF(S21=0,0,R21/S21) -> 0.40014 | W21: =SUM(AE21:AG21)/100*F21 -> 52.32487 | X21: =IF($G21=0,0,J21/$G21) -> 0.36609625 | Y21: =IF($G21=0,0,S21/$G21) -> 3.292113 | Z21: =IF($G21=0,0,L21/$G21) -> 0.76128809 | AA21: =S21*Parametreler!$B$12 -> 28.589994 | AB21: =AA21*F21 -> 4059.7791 | AC21: 110435 KUTU PROF L ; 60 X 60 X 4 L = 540 mm ×1 | AD21: STEP yok – resimden tahmin · 1 satınalma kalemi | AE21: =INDEX('İşçilik Özet'!$W$6:$W$200,MATCH($A21&"",'İşçilik Özet'!$A$6:$A$200,0)) -> 0 | AF21: =INDEX('İşçilik Özet'!$X$6:$X$200,MATCH($A21&"",'İşçilik Özet'!$A$6:$A$200,0)) -> 22.9125 | AG21: =INDEX('İşçilik Özet'!$Y$6:$Y$200,MATCH($A21&"",'İşçilik Özet'!$A$6:$A$200,0)) -> 13.936 | AH21: =(L21+P21)*F21+IF(E21="Kataforez",N(Q21)*F21,IF(E21="Yaş boya",ROUNDUP(F21/MAX(1,ROUND(IF(ISNUMBER(Q21),Q21,Parametreler!$B$11),0)),0)*Parametreler!$B$10,0)) -> 2903.0064
A22: 113467 | B22: H58 Arka Bom Desteği | C22: D | D22: STEP | E22: Yaş boya | F22: 13 | G22: 76.278 | H22: =INDEX('Sac Özet'!$L$5:$L$199,MATCH($A22&"",'Sac Özet'!$A$5:$A$199,0)) -> 157.07329 | I22: =INDEX('Sac Özet'!$M$5:$M$199,MATCH($A22&"",'Sac Özet'!$A$5:$A$199,0)) -> 80.860278 | J22: =INDEX('Sac Özet'!$N$5:$N$199,MATCH($A22&"",'Sac Özet'!$A$5:$A$199,0)) -> 99.195269 | K22: =SUMPRODUCT((--'Satınalma Parçaları'!$A$2:$A$107=--$A22)*'Satınalma Parçaları'!$L$2:$L$107) -> 0.20345455 | L22: =J22+N(K22) -> 99.398723 | M22: =AE22/100*Parametreler!$B$7 -> 10.649 | N22: =AF22/100*Parametreler!$B$8 -> 13.25 | O22: =AG22/100*Parametreler!$B$9 -> 17.34 | P22: =SUM(M22:O22) -> 41.239 | Q22: =VLOOKUP($A22,'Yaş Boya Listesi'!$B$6:$L$131,11,FALSE()) -> 1 | R22: =IF(E22="Kataforez",N(Q22),IF(E22="Yaş boya",Parametreler!$B$10/MAX(1,ROUND(IF(ISNUMBER(Q22),Q22,Parametreler!$B$11),0)),0)) -> 80 | S22: =L22+P22+R22 -> 220.63772 | T22: =IF(S22=0,0,L22/S22) -> 0.45050648 | U22: =IF(S22=0,0,P22/S22) -> 0.1869082 | V22: =IF(S22=0,0,R22/S22) -> 0.36258532 | W22: =SUM(AE22:AG22)/100*F22 -> 26.80535 | X22: =IF($G22=0,0,J22/$G22) -> 1.300444 | Y22: =IF($G22=0,0,S22/$G22) -> 2.8925473 | Z22: =IF($G22=0,0,L22/$G22) -> 1.3031113 | AA22: =S22*Parametreler!$B$12 -> 315.51194 | AB22: =AA22*F22 -> 4101.6553 | AC22: H900.00017 DIN934 M8 Somun ×4; H900.00030 SOMUN M10 BEYAZ DIN934 ×7 | AD22: 2 satınalma kalemi | AE22: =INDEX('İşçilik Özet'!$W$6:$W$200,MATCH($A22&"",'İşçilik Özet'!$A$6:$A$200,0)) -> 53.245 | AF22: =INDEX('İşçilik Özet'!$X$6:$X$200,MATCH($A22&"",'İşçilik Özet'!$A$6:$A$200,0)) -> 66.25 | AG22: =INDEX('İşçilik Özet'!$Y$6:$Y$200,MATCH($A22&"",'İşçilik Özet'!$A$6:$A$200,0)) -> 86.7 | AH22: =(L22+P22)*F22+IF(E22="Kataforez",N(Q22)*F22,IF(E22="Yaş boya",ROUNDUP(F22/MAX(1,ROUND(IF(ISNUMBER(Q22),Q22,Parametreler!$B$11),0)),0)*Parametreler!$B$10,0)) -> 2868.2904
A23: 395388 | B23: H37-H40 Ön Bom Destek | C23: B.2 | D23: STEP | E23: Yaş boya | F23: 61 | G23: 18.774 | H23: =INDEX('Sac Özet'!$L$5:$L$199,MATCH($A23&"",'Sac Özet'!$A$5:$A$199,0)) -> 25.830971 | I23: =INDEX('Sac Özet'!$M$5:$M$199,MATCH($A23&"",'Sac Özet'!$A$5:$A$199,0)) -> 7.044163 | J23: =INDEX('Sac Özet'!$N$5:$N$199,MATCH($A23&"",'Sac Özet'!$A$5:$A$199,0)) -> 18.359415 | K23: =SUMPRODUCT((--'Satınalma Parçaları'!$A$2:$A$107=--$A23)*'Satınalma Parçaları'!$L$2:$L$107) -> 0 | L23: =J23+N(K23) -> 18.359415 | M23: =AE23/100*Parametreler!$B$7 -> 2.37475 | N23: =AF23/100*Parametreler!$B$8 -> 3.0825 | O23: =AG23/100*Parametreler!$B$9 -> 2.2196 | P23: =SUM(M23:O23) -> 7.67685 | Q23: =VLOOKUP($A23,'Yaş Boya Listesi'!$B$6:$L$131,11,FALSE()) -> 4 | R23: =IF(E23="Kataforez",N(Q23),IF(E23="Yaş boya",Parametreler!$B$10/MAX(1,ROUND(IF(ISNUMBER(Q23),Q23,Parametreler!$B$11),0)),0)) -> 20 | S23: =L23+P23+R23 -> 46.036265 | T23: =IF(S23=0,0,L23/S23) -> 0.39880331 | U23: =IF(S23=0,0,P23/S23) -> 0.16675658 | V23: =IF(S23=0,0,R23/S23) -> 0.43444011 | W23: =SUM(AE23:AG23)/100*F23 -> 23.414393 | X23: =IF($G23=0,0,J23/$G23) -> 0.97791705 | Y23: =IF($G23=0,0,S23/$G23) -> 2.4521287 | Z23: =IF($G23=0,0,L23/$G23) -> 0.97791705 | AA23: =S23*Parametreler!$B$12 -> 65.831858 | AB23: =AA23*F23 -> 4015.7434 | AE23: =INDEX('İşçilik Özet'!$W$6:$W$200,MATCH($A23&"",'İşçilik Özet'!$A$6:$A$200,0)) -> 11.87375 | AF23: =INDEX('İşçilik Özet'!$X$6:$X$200,MATCH($A23&"",'İşçilik Özet'!$A$6:$A$200,0)) -> 15.4125 | AG23: =INDEX('İşçilik Özet'!$Y$6:$Y$200,MATCH($A23&"",'İşçilik Özet'!$A$6:$A$200,0)) -> 11.098 | AH23: =(L23+P23)*F23+IF(E23="Kataforez",N(Q23)*F23,IF(E23="Yaş boya",ROUNDUP(F23/MAX(1,ROUND(IF(ISNUMBER(Q23),Q23,Parametreler!$B$11),0)),0)*Parametreler!$B$10,0)) -> 2868.2121
A24: 0896250 | B24: H43-H47 Arka Bom Destek | C24: A.5 | D24: STEP | E24: Yok | F24: 27 | G24: 55.572 | H24: =INDEX('Sac Özet'!$L$5:$L$199,MATCH($A24&"",'Sac Özet'!$A$5:$A$199,0)) -> 112.04662 | I24: =INDEX('Sac Özet'!$M$5:$M$199,MATCH($A24&"",'Sac Özet'!$A$5:$A$199,0)) -> 56.450991 | J24: =INDEX('Sac Özet'!$N$5:$N$199,MATCH($A24&"",'Sac Özet'!$A$5:$A$199,0)) -> 71.162428 | K24: =SUMPRODUCT((--'Satınalma Parçaları'!$A$2:$A$107=--$A24)*'Satınalma Parçaları'!$L$2:$L$107) -> 0 | L24: =J24+N(K24) -> 71.162428 | M24: =AE24/100*Parametreler!$B$7 -> 10.879 | N24: =AF24/100*Parametreler!$B$8 -> 7.75 | O24: =AG24/100*Parametreler!$B$9 -> 18.516 | P24: =SUM(M24:O24) -> 37.145 | R24: =IF(E24="Kataforez",N(Q24),IF(E24="Yaş boya",Parametreler!$B$10/MAX(1,ROUND(IF(ISNUMBER(Q24),Q24,Parametreler!$B$11),0)),0)) -> 0 | S24: =L24+P24+R24 -> 108.30743 | T24: =IF(S24=0,0,L24/S24) -> 0.65704107 | U24: =IF(S24=0,0,P24/S24) -> 0.34295893 | V24: =IF(S24=0,0,R24/S24) -> 0 | W24: =SUM(AE24:AG24)/100*F24 -> 50.14575 | X24: =IF($G24=0,0,J24/$G24) -> 1.2805447 | Y24: =IF($G24=0,0,S24/$G24) -> 1.9489568 | Z24: =IF($G24=0,0,L24/$G24) -> 1.2805447 | AA24: =S24*Parametreler!$B$12 -> 154.87962 | AB24: =AA24*F24 -> 4181.7498 | AE24: =INDEX('İşçilik Özet'!$W$6:$W$200,MATCH($A24&"",'İşçilik Özet'!$A$6:$A$200,0)) -> 54.395 | AF24: =INDEX('İşçilik Özet'!$X$6:$X$200,MATCH($A24&"",'İşçilik Özet'!$A$6:$A$200,0)) -> 38.75 | AG24: =INDEX('İşçilik Özet'!$Y$6:$Y$200,MATCH($A24&"",'İşçilik Özet'!$A$6:$A$200,0)) -> 92.58 | AH24: =(L24+P24)*F24+IF(E24="Kataforez",N(Q24)*F24,IF(E24="Yaş boya",ROUNDUP(F24/MAX(1,ROUND(IF(ISNUMBER(Q24),Q24,Parametreler!$B$11),0)),0)*Parametreler!$B$10,0)) -> 2924.3005
A25: 106544 | B25: H37-H40-H43-H47-H52 Ön Bom Destek Ayağı | C25: C.3 | D25: Resimden tahmin | E25: Yaş boya | F25: 176 | G25: 2.734 | H25: =INDEX('Sac Özet'!$L$5:$L$199,MATCH($A25&"",'Sac Özet'!$A$5:$A$199,0)) -> 3.2313028 | I25: =INDEX('Sac Özet'!$M$5:$M$199,MATCH($A25&"",'Sac Özet'!$A$5:$A$199,0)) -> 0.49334836 | J25: =INDEX('Sac Özet'!$N$5:$N$199,MATCH($A25&"",'Sac Özet'!$A$5:$A$199,0)) -> 2.4235827 | K25: =SUMPRODUCT((--'Satınalma Parçaları'!$A$2:$A$107=--$A25)*'Satınalma Parçaları'!$L$2:$L$107) -> 0 | L25: =J25+N(K25) -> 2.4235827 | M25: =AE25/100*Parametreler!$B$7 -> 1.311 | N25: =AF25/100*Parametreler!$B$8 -> 1.8325 | O25: =AG25/100*Parametreler!$B$9 -> 0.82 | P25: =SUM(M25:O25) -> 3.9635 | Q25: =VLOOKUP($A25,'Yaş Boya Listesi'!$B$6:$L$131,11,FALSE()) -> 10 | R25: =IF(E25="Kataforez",N(Q25),IF(E25="Yaş boya",Parametreler!$B$10/MAX(1,ROUND(IF(ISNUMBER(Q25),Q25,Parametreler!$B$11),0)),0)) -> 8 | S25: =L25+P25+R25 -> 14.387083 | T25: =IF(S25=0,0,L25/S25) -> 0.16845547 | U25: =IF(S25=0,0,P25/S25) -> 0.27549018 | V25: =IF(S25=0,0,R25/S25) -> 0.55605435 | W25: =SUM(AE25:AG25)/100*F25 -> 34.8788 | X25: =IF($G25=0,0,J25/$G25) -> 0.8864604 | Y25: =IF($G25=0,0,S25/$G25) -> 5.2622834 | Z25: =IF($G25=0,0,L25/$G25) -> 0.8864604 | AA25: =S25*Parametreler!$B$12 -> 20.573528 | AB25: =AA25*F25 -> 3620.941 | AD25: STEP yok – resimden tahmin | AE25: =INDEX('İşçilik Özet'!$W$6:$W$200,MATCH($A25&"",'İşçilik Özet'!$A$6:$A$200,0)) -> 6.555 | AF25: =INDEX('İşçilik Özet'!$X$6:$X$200,MATCH($A25&"",'İşçilik Özet'!$A$6:$A$200,0)) -> 9.1625 | AG25: =INDEX('İşçilik Özet'!$Y$6:$Y$200,MATCH($A25&"",'İşçilik Özet'!$A$6:$A$200,0)) -> 4.1 | AH25: =(L25+P25)*F25+IF(E25="Kataforez",N(Q25)*F25,IF(E25="Yaş boya",ROUNDUP(F25/MAX(1,ROUND(IF(ISNUMBER(Q25),Q25,Parametreler!$B$11),0)),0)*Parametreler!$B$10,0)) -> 2564.1266
A26: 570812 | B26: Bom Destek | C26: A.1 | D26: Resimden tahmin | E26: Yaş boya | F26: 81 | G26: 2.53 | H26: =INDEX('Sac Özet'!$L$5:$L$199,MATCH($A26&"",'Sac Özet'!$A$5:$A$199,0)) -> 3.1895224 | I26: =INDEX('Sac Özet'!$M$5:$M$199,MATCH($A26&"",'Sac Özet'!$A$5:$A$199,0)) -> 0.65953019 | J26: =INDEX('Sac Özet'!$N$5:$N$199,MATCH($A26&"",'Sac Özet'!$A$5:$A$199,0)) -> 2.3357717 | K26: =SUMPRODUCT((--'Satınalma Parçaları'!$A$2:$A$107=--$A26)*'Satınalma Parçaları'!$L$2:$L$107) -> 0 | L26: =J26+N(K26) -> 2.3357717 | M26: =AE26/100*Parametreler!$B$7 -> 3.082 | N26: =AF26/100*Parametreler!$B$8 -> 2.5825 | O26: =AG26/100*Parametreler!$B$9 -> 1.64 | P26: =SUM(M26:O26) -> 7.3045 | Q26: =VLOOKUP($A26,'Yaş Boya Listesi'!$B$6:$L$131,11,FALSE()) -> 4 | R26: =IF(E26="Kataforez",N(Q26),IF(E26="Yaş boya",Parametreler!$B$10/MAX(1,ROUND(IF(ISNUMBER(Q26),Q26,Parametreler!$B$11),0)),0)) -> 20 | S26: =L26+P26+R26 -> 29.640272 | T26: =IF(S26=0,0,L26/S26) -> 0.07880399 | U26: =IF(S26=0,0,P26/S26) -> 0.24643836 | V26: =IF(S26=0,0,R26/S26) -> 0.67475765 | W26: =SUM(AE26:AG26)/100*F26 -> 29.583225 | X26: =IF($G26=0,0,J26/$G26) -> 0.92322991 | Y26: =IF($G26=0,0,S26/$G26) -> 11.715522 | Z26: =IF($G26=0,0,L26/$G26) -> 0.92322991 | AA26: =S26*Parametreler!$B$12 -> 42.385588 | AB26: =AA26*F26 -> 3433.2327 | AD26: STEP yok – resimden tahmin | AE26: =INDEX('İşçilik Özet'!$W$6:$W$200,MATCH($A26&"",'İşçilik Özet'!$A$6:$A$200,0)) -> 15.41 | AF26: =INDEX('İşçilik Özet'!$X$6:$X$200,MATCH($A26&"",'İşçilik Özet'!$A$6:$A$200,0)) -> 12.9125 | AG26: =INDEX('İşçilik Özet'!$Y$6:$Y$200,MATCH($A26&"",'İşçilik Özet'!$A$6:$A$200,0)) -> 8.2 | AH26: =(L26+P26)*F26+IF(E26="Kataforez",N(Q26)*F26,IF(E26="Yaş boya",ROUNDUP(F26/MAX(1,ROUND(IF(ISNUMBER(Q26),Q26,Parametreler!$B$11),0)),0)*Parametreler!$B$10,0)) -> 2460.862
A27: 543533 | B27: Sag Kazan Basamagı Kaynak (Abd) | C27: B | D27: Resimden tahmin | E27: Kataforez | F27: 98 | G27: 8.649 | H27: =INDEX('Sac Özet'!$L$5:$L$199,MATCH($A27&"",'Sac Özet'!$A$5:$A$199,0)) -> 4.9018063 | I27: =INDEX('Sac Özet'!$M$5:$M$199,MATCH($A27&"",'Sac Özet'!$A$5:$A$199,0)) -> 1.0188195 | J27: =INDEX('Sac Özet'!$N$5:$N$199,MATCH($A27&"",'Sac Özet'!$A$5:$A$199,0)) -> 3.5880132 | K27: =SUMPRODUCT((--'Satınalma Parçaları'!$A$2:$A$107=--$A27)*'Satınalma Parçaları'!$L$2:$L$107) -> 3.12 | L27: =J27+N(K27) -> 6.7080132 | M27: =AE27/100*Parametreler!$B$7 -> 3.933 | N27: =AF27/100*Parametreler!$B$8 -> 3.5825 | O27: =AG27/100*Parametreler!$B$9 -> 2.064 | P27: =SUM(M27:O27) -> 9.5795 | Q27: =IFERROR(INDEX('Kataforez Teklifleri'!$G$6:$G$50,MATCH($A27&"",'Kataforez Teklifleri'!$A$6:$A$50,0)),"") -> 6.92 | R27: =IF(E27="Kataforez",N(Q27),IF(E27="Yaş boya",Parametreler!$B$10/MAX(1,ROUND(IF(ISNUMBER(Q27),Q27,Parametreler!$B$11),0)),0)) -> 6.92 | S27: =L27+P27+R27 -> 23.207513 | T27: =IF(S27=0,0,L27/S27) -> 0.28904489 | U27: =IF(S27=0,0,P27/S27) -> 0.41277581 | V27: =IF(S27=0,0,R27/S27) -> 0.2981793 | W27: =SUM(AE27:AG27)/100*F27 -> 46.93955 | X27: =IF($G27=0,0,J27/$G27) -> 0.41484717 | Y27: =IF($G27=0,0,S27/$G27) -> 2.6832597 | Z27: =IF($G27=0,0,L27/$G27) -> 0.77558252 | AA27: =S27*Parametreler!$B$12 -> 33.186744 | AB27: =AA27*F27 -> 3252.3009 | AC27: 475200 KUTU PROFİL : 60x40x5 L:700 mm ×1 | AD27: STEP yok – resimden tahmin · 1 satınalma kalemi | AE27: =INDEX('İşçilik Özet'!$W$6:$W$200,MATCH($A27&"",'İşçilik Özet'!$A$6:$A$200,0)) -> 19.665 | AF27: =INDEX('İşçilik Özet'!$X$6:$X$200,MATCH($A27&"",'İşçilik Özet'!$A$6:$A$200,0)) -> 17.9125 | AG27: =INDEX('İşçilik Özet'!$Y$6:$Y$200,MATCH($A27&"",'İşçilik Özet'!$A$6:$A$200,0)) -> 10.32 | AH27: =(L27+P27)*F27+IF(E27="Kataforez",N(Q27)*F27,IF(E27="Yaş boya",ROUNDUP(F27/MAX(1,ROUND(IF(ISNUMBER(Q27),Q27,Parametreler!$B$11),0)),0)*Parametreler!$B$10,0)) -> 2274.3363
A28: 543377 | B28: H40 Yatay Hat Boru Orta Tutucu Ayarlı Kaynak 2 | C28: A.1 | D28: Resimden tahmin | E28: Yaş boya | F28: 61 | G28: 8.705 | H28: =INDEX('Sac Özet'!$L$5:$L$199,MATCH($A28&"",'Sac Özet'!$A$5:$A$199,0)) -> 3.8340932 | I28: =INDEX('Sac Özet'!$M$5:$M$199,MATCH($A28&"",'Sac Özet'!$A$5:$A$199,0)) -> 0.69013677 | J28: =INDEX('Sac Özet'!$N$5:$N$199,MATCH($A28&"",'Sac Özet'!$A$5:$A$199,0)) -> 2.8414116 | K28: =SUMPRODUCT((--'Satınalma Parçaları'!$A$2:$A$107=--$A28)*'Satınalma Parçaları'!$L$2:$L$107) -> 7.19 | L28: =J28+N(K28) -> 10.031412 | M28: =AE28/100*Parametreler!$B$7 -> 2.392 | N28: =AF28/100*Parametreler!$B$8 -> 3.3325 | O28: =AG28/100*Parametreler!$B$9 -> 2.87 | P28: =SUM(M28:O28) -> 8.5945 | Q28: =VLOOKUP($A28,'Yaş Boya Listesi'!$B$6:$L$131,11,FALSE()) -> 5 | R28: =IF(E28="Kataforez",N(Q28),IF(E28="Yaş boya",Parametreler!$B$10/MAX(1,ROUND(IF(ISNUMBER(Q28),Q28,Parametreler!$B$11),0)),0)) -> 16 | S28: =L28+P28+R28 -> 34.625912 | T28: =IF(S28=0,0,L28/S28) -> 0.28970823 | U28: =IF(S28=0,0,P28/S28) -> 0.24821007 | V28: =IF(S28=0,0,R28/S28) -> 0.4620817 | W28: =SUM(AE28:AG28)/100*F28 -> 26.213225 | X28: =IF($G28=0,0,J28/$G28) -> 0.32641144 | Y28: =IF($G28=0,0,S28/$G28) -> 3.9777038 | Z28: =IF($G28=0,0,L28/$G28) -> 1.1523735 | AA28: =S28*Parametreler!$B$12 -> 49.515054 | AB28: =AA28*F28 -> 3020.4183 | AC28: 543381 BORU Ø63,5X5MM L=501mm ×1; 543380 BORU Ø63,5X5MM L=296mm ×1 | AD28: STEP yok – resimden tahmin · 2 satınalma kalemi | AE28: =INDEX('İşçilik Özet'!$W$6:$W$200,MATCH($A28&"",'İşçilik Özet'!$A$6:$A$200,0)) -> 11.96 | AF28: =INDEX('İşçilik Özet'!$X$6:$X$200,MATCH($A28&"",'İşçilik Özet'!$A$6:$A$200,0)) -> 16.6625 | AG28: =INDEX('İşçilik Özet'!$Y$6:$Y$200,MATCH($A28&"",'İşçilik Özet'!$A$6:$A$200,0)) -> 14.35 | AH28: =(L28+P28)*F28+IF(E28="Kataforez",N(Q28)*F28,IF(E28="Yaş boya",ROUNDUP(F28/MAX(1,ROUND(IF(ISNUMBER(Q28),Q28,Parametreler!$B$11),0)),0)*Parametreler!$B$10,0)) -> 2176.1806
A29: 448594 | B29: Karıstırıcı Valf Sehpası | C29: A.3 | D29: Resimden tahmin | E29: Yaş boya | F29: 95 | G29: 2.75 | H29: =INDEX('Sac Özet'!$L$5:$L$199,MATCH($A29&"",'Sac Özet'!$A$5:$A$199,0)) -> 3.4680466 | I29: =INDEX('Sac Özet'!$M$5:$M$199,MATCH($A29&"",'Sac Özet'!$A$5:$A$199,0)) -> 0.71807385 | J29: =INDEX('Sac Özet'!$N$5:$N$199,MATCH($A29&"",'Sac Özet'!$A$5:$A$199,0)) -> 2.5394313 | K29: =SUMPRODUCT((--'Satınalma Parçaları'!$A$2:$A$107=--$A29)*'Satınalma Parçaları'!$L$2:$L$107) -> 0 | L29: =J29+N(K29) -> 2.5394313 | M29: =AE29/100*Parametreler!$B$7 -> 1.081 | N29: =AF29/100*Parametreler!$B$8 -> 2.5825 | O29: =AG29/100*Parametreler!$B$9 -> 1.68 | P29: =SUM(M29:O29) -> 5.3435 | Q29: =VLOOKUP($A29,'Yaş Boya Listesi'!$B$6:$L$131,11,FALSE()) -> 6 | R29: =IF(E29="Kataforez",N(Q29),IF(E29="Yaş boya",Parametreler!$B$10/MAX(1,ROUND(IF(ISNUMBER(Q29),Q29,Parametreler!$B$11),0)),0)) -> 13.333333 | S29: =L29+P29+R29 -> 21.216265 | T29: =IF(S29=0,0,L29/S29) -> 0.11969267 | U29: =IF(S29=0,0,P29/S29) -> 0.25185866 | V29: =IF(S29=0,0,R29/S29) -> 0.62844867 | W29: =SUM(AE29:AG29)/100*F29 -> 25.381625 | X29: =IF($G29=0,0,J29/$G29) -> 0.92342956 | Y29: =IF($G29=0,0,S29/$G29) -> 7.7150053 | Z29: =IF($G29=0,0,L29/$G29) -> 0.92342956 | AA29: =S29*Parametreler!$B$12 -> 30.339258 | AB29: =AA29*F29 -> 2882.2295 | AD29: STEP yok – resimden tahmin | AE29: =INDEX('İşçilik Özet'!$W$6:$W$200,MATCH($A29&"",'İşçilik Özet'!$A$6:$A$200,0)) -> 5.405 | AF29: =INDEX('İşçilik Özet'!$X$6:$X$200,MATCH($A29&"",'İşçilik Özet'!$A$6:$A$200,0)) -> 12.9125 | AG29: =INDEX('İşçilik Özet'!$Y$6:$Y$200,MATCH($A29&"",'İşçilik Özet'!$A$6:$A$200,0)) -> 8.4 | AH29: =(L29+P29)*F29+IF(E29="Kataforez",N(Q29)*F29,IF(E29="Yaş boya",ROUNDUP(F29/MAX(1,ROUND(IF(ISNUMBER(Q29),Q29,Parametreler!$B$11),0)),0)*Parametreler!$B$10,0)) -> 2028.8785
A30: 217605 | B30: H37-H40 Motor Koruma - Sase Bağlantı 2 | C30: A.5 | D30: Resimden tahmin | E30: Yaş boya | F30: 52 | G30: 5.506 | H30: =INDEX('Sac Özet'!$L$5:$L$199,MATCH($A30&"",'Sac Özet'!$A$5:$A$199,0)) -> 7.085013 | I30: =INDEX('Sac Özet'!$M$5:$M$199,MATCH($A30&"",'Sac Özet'!$A$5:$A$199,0)) -> 1.5781281 | J30: =INDEX('Sac Özet'!$N$5:$N$199,MATCH($A30&"",'Sac Özet'!$A$5:$A$199,0)) -> 5.1515321 | K30: =SUMPRODUCT((--'Satınalma Parçaları'!$A$2:$A$107=--$A30)*'Satınalma Parçaları'!$L$2:$L$107) -> 0 | L30: =J30+N(K30) -> 5.1515321 | M30: =AE30/100*Parametreler!$B$7 -> 2.14475 | N30: =AF30/100*Parametreler!$B$8 -> 1.8325 | O30: =AG30/100*Parametreler!$B$9 -> 0.722 | P30: =SUM(M30:O30) -> 4.69925 | Q30: =VLOOKUP($A30,'Yaş Boya Listesi'!$B$6:$L$131,11,FALSE()) -> 3 | R30: =IF(E30="Kataforez",N(Q30),IF(E30="Yaş boya",Parametreler!$B$10/MAX(1,ROUND(IF(ISNUMBER(Q30),Q30,Parametreler!$B$11),0)),0)) -> 26.666667 | S30: =L30+P30+R30 -> 36.517449 | T30: =IF(S30=0,0,L30/S30) -> 0.14107043 | U30: =IF(S30=0,0,P30/S30) -> 0.12868506 | V30: =IF(S30=0,0,R30/S30) -> 0.73024451 | W30: =SUM(AE30:AG30)/100*F30 -> 12.21805 | X30: =IF($G30=0,0,J30/$G30) -> 0.93562153 | Y30: =IF($G30=0,0,S30/$G30) -> 6.6323009 | Z30: =IF($G30=0,0,L30/$G30) -> 0.93562153 | AA30: =S30*Parametreler!$B$12 -> 52.219952 | AB30: =AA30*F30 -> 2715.4375 | AD30: STEP yok – resimden tahmin | AE30: =INDEX('İşçilik Özet'!$W$6:$W$200,MATCH($A30&"",'İşçilik Özet'!$A$6:$A$200,0)) -> 10.72375 | AF30: =INDEX('İşçilik Özet'!$X$6:$X$200,MATCH($A30&"",'İşçilik Özet'!$A$6:$A$200,0)) -> 9.1625 | AG30: =INDEX('İşçilik Özet'!$Y$6:$Y$200,MATCH($A30&"",'İşçilik Özet'!$A$6:$A$200,0)) -> 3.61 | AH30: =(L30+P30)*F30+IF(E30="Kataforez",N(Q30)*F30,IF(E30="Yaş boya",ROUNDUP(F30/MAX(1,ROUND(IF(ISNUMBER(Q30),Q30,Parametreler!$B$11),0)),0)*Parametreler!$B$10,0)) -> 1952.2407
A31: 681073 | B31: H37 - H40 Dişli Koruma Tutucu | C31: A.2 | D31: Resimden tahmin | E31: Yaş boya | F31: 244 | G31: 1.148 | H31: =INDEX('Sac Özet'!$L$5:$L$199,MATCH($A31&"",'Sac Özet'!$A$5:$A$199,0)) -> 1.4000571 | I31: =INDEX('Sac Özet'!$M$5:$M$199,MATCH($A31&"",'Sac Özet'!$A$5:$A$199,0)) -> 0.25201027 | J31: =INDEX('Sac Özet'!$N$5:$N$199,MATCH($A31&"",'Sac Özet'!$A$5:$A$199,0)) -> 1.0375696 | K31: =SUMPRODUCT((--'Satınalma Parçaları'!$A$2:$A$107=--$A31)*'Satınalma Parçaları'!$L$2:$L$107) -> 0 | L31: =J31+N(K31) -> 1.0375696 | M31: =AE31/100*Parametreler!$B$7 -> 0 | N31: =AF31/100*Parametreler!$B$8 -> 1.8325 | O31: =AG31/100*Parametreler!$B$9 -> 0.554 | P31: =SUM(M31:O31) -> 2.3865 | Q31: =VLOOKUP($A31,'Yaş Boya Listesi'!$B$6:$L$131,11,FALSE()) -> 20 | R31: =IF(E31="Kataforez",N(Q31),IF(E31="Yaş boya",Parametreler!$B$10/MAX(1,ROUND(IF(ISNUMBER(Q31),Q31,Parametreler!$B$11),0)),0)) -> 4 | S31: =L31+P31+R31 -> 7.4240696 | T31: =IF(S31=0,0,L31/S31) -> 0.13975752 | U31: =IF(S31=0,0,P31/S31) -> 0.32145442 | V31: =IF(S31=0,0,R31/S31) -> 0.53878805 | W31: =SUM(AE31:AG31)/100*F31 -> 29.1153 | X31: =IF($G31=0,0,J31/$G31) -> 0.90380624 | Y31: =IF($G31=0,0,S31/$G31) -> 6.4669596 | Z31: =IF($G31=0,0,L31/$G31) -> 0.90380624 | AA31: =S31*Parametreler!$B$12 -> 10.616419 | AB31: =AA31*F31 -> 2590.4064 | AD31: STEP yok – resimden tahmin | AE31: =INDEX('İşçilik Özet'!$W$6:$W$200,MATCH($A31&"",'İşçilik Özet'!$A$6:$A$200,0)) -> 0 | AF31: =INDEX('İşçilik Özet'!$X$6:$X$200,MATCH($A31&"",'İşçilik Özet'!$A$6:$A$200,0)) -> 9.1625 | AG31: =INDEX('İşçilik Özet'!$Y$6:$Y$200,MATCH($A31&"",'İşçilik Özet'!$A$6:$A$200,0)) -> 2.77 | AH31: =(L31+P31)*F31+IF(E31="Kataforez",N(Q31)*F31,IF(E31="Yaş boya",ROUNDUP(F31/MAX(1,ROUND(IF(ISNUMBER(Q31),Q31,Parametreler!$B$11),0)),0)*Parametreler!$B$10,0)) -> 1875.473
A32: 217603 | B32: H37-H40 Motor Koruma - Sase Bağlantı 1 | C32: A.4 | D32: Resimden tahmin | E32: Yaş boya | F32: 52 | G32: 3.856 | H32: =INDEX('Sac Özet'!$L$5:$L$199,MATCH($A32&"",'Sac Özet'!$A$5:$A$199,0)) -> 4.9937491 | I32: =INDEX('Sac Özet'!$M$5:$M$199,MATCH($A32&"",'Sac Özet'!$A$5:$A$199,0)) -> 1.1368714 | J32: =INDEX('Sac Özet'!$N$5:$N$199,MATCH($A32&"",'Sac Özet'!$A$5:$A$199,0)) -> 3.6229323 | K32: =SUMPRODUCT((--'Satınalma Parçaları'!$A$2:$A$107=--$A32)*'Satınalma Parçaları'!$L$2:$L$107) -> 0 | L32: =J32+N(K32) -> 3.6229323 | M32: =AE32/100*Parametreler!$B$7 -> 1.081 | N32: =AF32/100*Parametreler!$B$8 -> 1.8325 | O32: =AG32/100*Parametreler!$B$9 -> 0.722 | P32: =SUM(M32:O32) -> 3.6355 | Q32: =VLOOKUP($A32,'Yaş Boya Listesi'!$B$6:$L$131,11,FALSE()) -> 3 | R32: =IF(E32="Kataforez",N(Q32),IF(E32="Yaş boya",Parametreler!$B$10/MAX(1,ROUND(IF(ISNUMBER(Q32),Q32,Parametreler!$B$11),0)),0)) -> 26.666667 | S32: =L32+P32+R32 -> 33.925099 | T32: =IF(S32=0,0,L32/S32) -> 0.10679209 | U32: =IF(S32=0,0,P32/S32) -> 0.10716255 | V32: =IF(S32=0,0,R32/S32) -> 0.78604536 | W32: =SUM(AE32:AG32)/100*F32 -> 9.4523 | X32: =IF($G32=0,0,J32/$G32) -> 0.93955713 | Y32: =IF($G32=0,0,S32/$G32) -> 8.7980028 | Z32: =IF($G32=0,0,L32/$G32) -> 0.93955713 | AA32: =S32*Parametreler!$B$12 -> 48.512892 | AB32: =AA32*F32 -> 2522.6704 | AD32: STEP yok – resimden tahmin | AE32: =INDEX('İşçilik Özet'!$W$6:$W$200,MATCH($A32&"",'İşçilik Özet'!$A$6:$A$200,0)) -> 5.405 | AF32: =INDEX('İşçilik Özet'!$X$6:$X$200,MATCH($A32&"",'İşçilik Özet'!$A$6:$A$200,0)) -> 9.1625 | AG32: =INDEX('İşçilik Özet'!$Y$6:$Y$200,MATCH($A32&"",'İşçilik Özet'!$A$6:$A$200,0)) -> 3.61 | AH32: =(L32+P32)*F32+IF(E32="Kataforez",N(Q32)*F32,IF(E32="Yaş boya",ROUNDUP(F32/MAX(1,ROUND(IF(ISNUMBER(Q32),Q32,Parametreler!$B$11),0)),0)*Parametreler!$B$10,0)) -> 1817.4385
A33: 112569 | B33: Şasi Bağlantılı Tampon | C33: — | D33: STEP | E33: Yok | F33: 14 | G33: 79.29 | H33: =INDEX('Sac Özet'!$L$5:$L$199,MATCH($A33&"",'Sac Özet'!$A$5:$A$199,0)) -> 97.758585 | I33: =INDEX('Sac Özet'!$M$5:$M$199,MATCH($A33&"",'Sac Özet'!$A$5:$A$199,0)) -> 18.44531 | J33: =INDEX('Sac Özet'!$N$5:$N$199,MATCH($A33&"",'Sac Özet'!$A$5:$A$199,0)) -> 72.170297 | K33: =SUMPRODUCT((--'Satınalma Parçaları'!$A$2:$A$107=--$A33)*'Satınalma Parçaları'!$L$2:$L$107) -> 0 | L33: =J33+N(K33) -> 72.170297 | M33: =AE33/100*Parametreler!$B$7 -> 24.173 | N33: =AF33/100*Parametreler!$B$8 -> 19.5 | O33: =AG33/100*Parametreler!$B$9 -> 17.8464 | P33: =SUM(M33:O33) -> 61.5194 | R33: =IF(E33="Kataforez",N(Q33),IF(E33="Yaş boya",Parametreler!$B$10/MAX(1,ROUND(IF(ISNUMBER(Q33),Q33,Parametreler!$B$11),0)),0)) -> 0 | S33: =L33+P33+R33 -> 133.6897 | T33: =IF(S33=0,0,L33/S33) -> 0.5398344 | U33: =IF(S33=0,0,P33/S33) -> 0.4601656 | V33: =IF(S33=0,0,R33/S33) -> 0 | W33: =SUM(AE33:AG33)/100*F33 -> 43.06358 | X33: =IF($G33=0,0,J33/$G33) -> 0.9102068 | Y33: =IF($G33=0,0,S33/$G33) -> 1.6860852 | Z33: =IF($G33=0,0,L33/$G33) -> 0.9102068 | AA33: =S33*Parametreler!$B$12 -> 191.17627 | AB33: =AA33*F33 -> 2676.4677 | AE33: =INDEX('İşçilik Özet'!$W$6:$W$200,MATCH($A33&"",'İşçilik Özet'!$A$6:$A$200,0)) -> 120.865 | AF33: =INDEX('İşçilik Özet'!$X$6:$X$200,MATCH($A33&"",'İşçilik Özet'!$A$6:$A$200,0)) -> 97.5 | AG33: =INDEX('İşçilik Özet'!$Y$6:$Y$200,MATCH($A33&"",'İşçilik Özet'!$A$6:$A$200,0)) -> 89.232 | AH33: =(L33+P33)*F33+IF(E33="Kataforez",N(Q33)*F33,IF(E33="Yaş boya",ROUNDUP(F33/MAX(1,ROUND(IF(ISNUMBER(Q33),Q33,Parametreler!$B$11),0)),0)*Parametreler!$B$10,0)) -> 1871.6558
A34: 404313 | B34: Parmak Switch Koruma Sacı | C34: A.5 | D34: Resimden tahmin | E34: Kataforez | F34: 360 | G34: 0.387 | H34: =INDEX('Sac Özet'!$L$5:$L$199,MATCH($A34&"",'Sac Özet'!$A$5:$A$199,0)) -> 0.48399409 | I34: =INDEX('Sac Özet'!$M$5:$M$199,MATCH($A34&"",'Sac Özet'!$A$5:$A$199,0)) -> 0.096981243 | J34: =INDEX('Sac Özet'!$N$5:$N$199,MATCH($A34&"",'Sac Özet'!$A$5:$A$199,0)) -> 0.35545596 | K34: =SUMPRODUCT((--'Satınalma Parçaları'!$A$2:$A$107=--$A34)*'Satınalma Parçaları'!$L$2:$L$107) -> 0 | L34: =J34+N(K34) -> 0.35545596 | M34: =AE34/100*Parametreler!$B$7 -> 1.311 | N34: =AF34/100*Parametreler!$B$8 -> 1.8325 | O34: =AG34/100*Parametreler!$B$9 -> 0.554 | P34: =SUM(M34:O34) -> 3.6975 | Q34: =IFERROR(INDEX('Kataforez Teklifleri'!$G$6:$G$50,MATCH($A34&"",'Kataforez Teklifleri'!$A$6:$A$50,0)),G34*Parametreler!$B$13) -> 0.65575 | R34: =IF(E34="Kataforez",N(Q34),IF(E34="Yaş boya",Parametreler!$B$10/MAX(1,ROUND(IF(ISNUMBER(Q34),Q34,Parametreler!$B$11),0)),0)) -> 0.65575 | S34: =L34+P34+R34 -> 4.708706 | T34: =IF(S34=0,0,L34/S34) -> 0.075489096 | U34: =IF(S34=0,0,P34/S34) -> 0.78524759 | V34: =IF(S34=0,0,R34/S34) -> 0.13926331 | W34: =SUM(AE34:AG34)/100*F34 -> 66.555 | X34: =IF($G34=0,0,J34/$G34) -> 0.91849085 | Y34: =IF($G34=0,0,S34/$G34) -> 12.167199 | Z34: =IF($G34=0,0,L34/$G34) -> 0.91849085 | AA34: =S34*Parametreler!$B$12 -> 6.7334495 | AB34: =AA34*F34 -> 2424.0418 | AD34: Kataforez TAHMİNİ (yüksek senaryo, teklif yok): ağırlık × Parametreler B13 · STEP yok – resimden tahmin | AE34: =INDEX('İşçilik Özet'!$W$6:$W$200,MATCH($A34&"",'İşçilik Özet'!$A$6:$A$200,0)) -> 6.555 | AF34: =INDEX('İşçilik Özet'!$X$6:$X$200,MATCH($A34&"",'İşçilik Özet'!$A$6:$A$200,0)) -> 9.1625 | AG34: =INDEX('İşçilik Özet'!$Y$6:$Y$200,MATCH($A34&"",'İşçilik Özet'!$A$6:$A$200,0)) -> 2.77 | AH34: =(L34+P34)*F34+IF(E34="Kataforez",N(Q34)*F34,IF(E34="Yaş boya",ROUNDUP(F34/MAX(1,ROUND(IF(ISNUMBER(Q34),Q34,Parametreler!$B$11),0)),0)*Parametreler!$B$10,0)) -> 1695.1341
A35: 383453 | B35: Hidrolik Soğutucu Sehpası | C35: B.2 | D35: STEP | E35: Yaş boya | F35: 29 | G35: 17.22 | H35: =INDEX('Sac Özet'!$L$5:$L$199,MATCH($A35&"",'Sac Özet'!$A$5:$A$199,0)) -> 22.108858 | I35: =INDEX('Sac Özet'!$M$5:$M$199,MATCH($A35&"",'Sac Özet'!$A$5:$A$199,0)) -> 4.8831396 | J35: =INDEX('Sac Özet'!$N$5:$N$199,MATCH($A35&"",'Sac Özet'!$A$5:$A$199,0)) -> 16.088968 | K35: =SUMPRODUCT((--'Satınalma Parçaları'!$A$2:$A$107=--$A35)*'Satınalma Parçaları'!$L$2:$L$107) -> 0 | L35: =J35+N(K35) -> 16.088968 | M35: =AE35/100*Parametreler!$B$7 -> 6.69875 | N35: =AF35/100*Parametreler!$B$8 -> 3.0825 | O35: =AG35/100*Parametreler!$B$9 -> 4.2012 | P35: =SUM(M35:O35) -> 13.98245 | Q35: =VLOOKUP($A35,'Yaş Boya Listesi'!$B$6:$L$131,11,FALSE()) -> 3 | R35: =IF(E35="Kataforez",N(Q35),IF(E35="Yaş boya",Parametreler!$B$10/MAX(1,ROUND(IF(ISNUMBER(Q35),Q35,Parametreler!$B$11),0)),0)) -> 26.666667 | S35: =L35+P35+R35 -> 56.738084 | T35: =IF(S35=0,0,L35/S35) -> 0.28356558 | U35: =IF(S35=0,0,P35/S35) -> 0.24643853 | V35: =IF(S35=0,0,R35/S35) -> 0.46999589 | W35: =SUM(AE35:AG35)/100*F35 -> 20.274552 | X35: =IF($G35=0,0,J35/$G35) -> 0.93431869 | Y35: =IF($G35=0,0,S35/$G35) -> 3.2948946 | Z35: =IF($G35=0,0,L35/$G35) -> 0.93431869 | AA35: =S35*Parametreler!$B$12 -> 81.135461 | AB35: =AA35*F35 -> 2352.9284 | AE35: =INDEX('İşçilik Özet'!$W$6:$W$200,MATCH($A35&"",'İşçilik Özet'!$A$6:$A$200,0)) -> 33.49375 | AF35: =INDEX('İşçilik Özet'!$X$6:$X$200,MATCH($A35&"",'İşçilik Özet'!$A$6:$A$200,0)) -> 15.4125 | AG35: =INDEX('İşçilik Özet'!$Y$6:$Y$200,MATCH($A35&"",'İşçilik Özet'!$A$6:$A$200,0)) -> 21.006 | AH35: =(L35+P35)*F35+IF(E35="Kataforez",N(Q35)*F35,IF(E35="Yaş boya",ROUNDUP(F35/MAX(1,ROUND(IF(ISNUMBER(Q35),Q35,Parametreler!$B$11),0)),0)*Parametreler!$B$10,0)) -> 1672.0711
A36: 106257 | B36: Boru Bağlantı Ara DESTEĞİ-1 | C36: A.10 | D36: STEP | E36: Yaş boya | F36: 55 | G36: 8.701 | H36: =INDEX('Sac Özet'!$L$5:$L$199,MATCH($A36&"",'Sac Özet'!$A$5:$A$199,0)) -> 11.481275 | I36: =INDEX('Sac Özet'!$M$5:$M$199,MATCH($A36&"",'Sac Özet'!$A$5:$A$199,0)) -> 2.7774305 | J36: =INDEX('Sac Özet'!$N$5:$N$199,MATCH($A36&"",'Sac Özet'!$A$5:$A$199,0)) -> 8.2760427 | K36: =SUMPRODUCT((--'Satınalma Parçaları'!$A$2:$A$107=--$A36)*'Satınalma Parçaları'!$L$2:$L$107) -> 0 | L36: =J36+N(K36) -> 8.2760427 | M36: =AE36/100*Parametreler!$B$7 -> 2.37475 | N36: =AF36/100*Parametreler!$B$8 -> 2.5825 | O36: =AG36/100*Parametreler!$B$9 -> 3.0354 | P36: =SUM(M36:O36) -> 7.99265 | Q36: =VLOOKUP($A36,'Yaş Boya Listesi'!$B$6:$L$131,11,FALSE()) -> 6 | R36: =IF(E36="Kataforez",N(Q36),IF(E36="Yaş boya",Parametreler!$B$10/MAX(1,ROUND(IF(ISNUMBER(Q36),Q36,Parametreler!$B$11),0)),0)) -> 13.333333 | S36: =L36+P36+R36 -> 29.602026 | T36: =IF(S36=0,0,L36/S36) -> 0.2795769 | U36: =IF(S36=0,0,P36/S36) -> 0.27000348 | V36: =IF(S36=0,0,R36/S36) -> 0.45041962 | W36: =SUM(AE36:AG36)/100*F36 -> 21.979788 | X36: =IF($G36=0,0,J36/$G36) -> 0.95115995 | Y36: =IF($G36=0,0,S36/$G36) -> 3.4021407 | Z36: =IF($G36=0,0,L36/$G36) -> 0.95115995 | AA36: =S36*Parametreler!$B$12 -> 42.330897 | AB36: =AA36*F36 -> 2328.1994 | AE36: =INDEX('İşçilik Özet'!$W$6:$W$200,MATCH($A36&"",'İşçilik Özet'!$A$6:$A$200,0)) -> 11.87375 | AF36: =INDEX('İşçilik Özet'!$X$6:$X$200,MATCH($A36&"",'İşçilik Özet'!$A$6:$A$200,0)) -> 12.9125 | AG36: =INDEX('İşçilik Özet'!$Y$6:$Y$200,MATCH($A36&"",'İşçilik Özet'!$A$6:$A$200,0)) -> 15.177 | AH36: =(L36+P36)*F36+IF(E36="Kataforez",N(Q36)*F36,IF(E36="Yaş boya",ROUNDUP(F36/MAX(1,ROUND(IF(ISNUMBER(Q36),Q36,Parametreler!$B$11),0)),0)*Parametreler!$B$10,0)) -> 1694.7781
A37: 213370 | B37: H37-H40 Motor Koruma Sacı - Dış | C37: A.3 | D37: Resimden tahmin | E37: Yaş boya | F37: 52 | G37: 5.745 | H37: =INDEX('Sac Özet'!$L$5:$L$199,MATCH($A37&"",'Sac Özet'!$A$5:$A$199,0)) -> 7.2521781 | I37: =INDEX('Sac Özet'!$M$5:$M$199,MATCH($A37&"",'Sac Özet'!$A$5:$A$199,0)) -> 1.5071477 | J37: =INDEX('Sac Özet'!$N$5:$N$199,MATCH($A37&"",'Sac Özet'!$A$5:$A$199,0)) -> 5.3084941 | K37: =SUMPRODUCT((--'Satınalma Parçaları'!$A$2:$A$107=--$A37)*'Satınalma Parçaları'!$L$2:$L$107) -> 0 | L37: =J37+N(K37) -> 5.3084941 | M37: =AE37/100*Parametreler!$B$7 -> 2.37475 | N37: =AF37/100*Parametreler!$B$8 -> 2.0825 | O37: =AG37/100*Parametreler!$B$9 -> 0.82 | P37: =SUM(M37:O37) -> 5.27725 | Q37: =VLOOKUP($A37,'Yaş Boya Listesi'!$B$6:$L$131,11,FALSE()) -> 4 | R37: =IF(E37="Kataforez",N(Q37),IF(E37="Yaş boya",Parametreler!$B$10/MAX(1,ROUND(IF(ISNUMBER(Q37),Q37,Parametreler!$B$11),0)),0)) -> 20 | S37: =L37+P37+R37 -> 30.585744 | T37: =IF(S37=0,0,L37/S37) -> 0.17356106 | U37: =IF(S37=0,0,P37/S37) -> 0.17253953 | V37: =IF(S37=0,0,R37/S37) -> 0.65389941 | W37: =SUM(AE37:AG37)/100*F37 -> 13.72085 | X37: =IF($G37=0,0,J37/$G37) -> 0.92401986 | Y37: =IF($G37=0,0,S37/$G37) -> 5.3238893 | Z37: =IF($G37=0,0,L37/$G37) -> 0.92401986 | AA37: =S37*Parametreler!$B$12 -> 43.737614 | AB37: =AA37*F37 -> 2274.3559 | AD37: STEP VEYA DETAYLI RESİM GEREKLİ. SAC KALINLIĞI TANIMLI DEĞİL. | AE37: =INDEX('İşçilik Özet'!$W$6:$W$200,MATCH($A37&"",'İşçilik Özet'!$A$6:$A$200,0)) -> 11.87375 | AF37: =INDEX('İşçilik Özet'!$X$6:$X$200,MATCH($A37&"",'İşçilik Özet'!$A$6:$A$200,0)) -> 10.4125 | AG37: =INDEX('İşçilik Özet'!$Y$6:$Y$200,MATCH($A37&"",'İşçilik Özet'!$A$6:$A$200,0)) -> 4.1 | AH37: =(L37+P37)*F37+IF(E37="Kataforez",N(Q37)*F37,IF(E37="Yaş boya",ROUNDUP(F37/MAX(1,ROUND(IF(ISNUMBER(Q37),Q37,Parametreler!$B$11),0)),0)*Parametreler!$B$10,0)) -> 1590.4587
A38: 678363 | B38: 7 Kollu Bom Valfi | C38: A.4 | D38: Resimden tahmin | E38: Yaş boya | F38: 86 | G38: 4.63 | H38: =INDEX('Sac Özet'!$L$5:$L$199,MATCH($A38&"",'Sac Özet'!$A$5:$A$199,0)) -> 5.8344668 | I38: =INDEX('Sac Özet'!$M$5:$M$199,MATCH($A38&"",'Sac Özet'!$A$5:$A$199,0)) -> 1.2044583 | J38: =INDEX('Sac Özet'!$N$5:$N$199,MATCH($A38&"",'Sac Özet'!$A$5:$A$199,0)) -> 4.2733871 | K38: =SUMPRODUCT((--'Satınalma Parçaları'!$A$2:$A$107=--$A38)*'Satınalma Parçaları'!$L$2:$L$107) -> 0 | L38: =J38+N(K38) -> 4.2733871 | M38: =AE38/100*Parametreler!$B$7 -> 2.622 | N38: =AF38/100*Parametreler!$B$8 -> 2.0825 | O38: =AG38/100*Parametreler!$B$9 -> 1.12 | P38: =SUM(M38:O38) -> 5.8245 | Q38: =VLOOKUP($A38,'Yaş Boya Listesi'!$B$6:$L$131,11,FALSE()) -> 10 | R38: =IF(E38="Kataforez",N(Q38),IF(E38="Yaş boya",Parametreler!$B$10/MAX(1,ROUND(IF(ISNUMBER(Q38),Q38,Parametreler!$B$11),0)),0)) -> 8 | S38: =L38+P38+R38 -> 18.097887 | T38: =IF(S38=0,0,L38/S38) -> 0.2361263 | U38: =IF(S38=0,0,P38/S38) -> 0.32183315 | V38: =IF(S38=0,0,R38/S38) -> 0.44204055 | W38: =SUM(AE38:AG38)/100*F38 -> 25.04535 | X38: =IF($G38=0,0,J38/$G38) -> 0.92297777 | Y38: =IF($G38=0,0,S38/$G38) -> 3.9088309 | Z38: =IF($G38=0,0,L38/$G38) -> 0.92297777 | AA38: =S38*Parametreler!$B$12 -> 25.879979 | AB38: =AA38*F38 -> 2225.6782 | AD38: STEP yok – resimden tahmin | AE38: =INDEX('İşçilik Özet'!$W$6:$W$200,MATCH($A38&"",'İşçilik Özet'!$A$6:$A$200,0)) -> 13.11 | AF38: =INDEX('İşçilik Özet'!$X$6:$X$200,MATCH($A38&"",'İşçilik Özet'!$A$6:$A$200,0)) -> 10.4125 | AG38: =INDEX('İşçilik Özet'!$Y$6:$Y$200,MATCH($A38&"",'İşçilik Özet'!$A$6:$A$200,0)) -> 5.6 | AH38: =(L38+P38)*F38+IF(E38="Kataforez",N(Q38)*F38,IF(E38="Yaş boya",ROUNDUP(F38/MAX(1,ROUND(IF(ISNUMBER(Q38),Q38,Parametreler!$B$11),0)),0)*Parametreler!$B$10,0)) -> 1588.4183
A39: 182458 | B39: Abd G64 Ara Şanzıman Salıncağı Sağ Montaj | C39: A.4 | D39: STEP | E39: Yaş boya | F39: 19 | G39: 26.933 | H39: =INDEX('Sac Özet'!$L$5:$L$199,MATCH($A39&"",'Sac Özet'!$A$5:$A$199,0)) -> 28.964537 | I39: =INDEX('Sac Özet'!$M$5:$M$199,MATCH($A39&"",'Sac Özet'!$A$5:$A$199,0)) -> 2.0045603 | J39: =INDEX('Sac Özet'!$N$5:$N$199,MATCH($A39&"",'Sac Özet'!$A$5:$A$199,0)) -> 22.515592 | K39: =SUMPRODUCT((--'Satınalma Parçaları'!$A$2:$A$107=--$A39)*'Satınalma Parçaları'!$L$2:$L$107) -> 0 | L39: =J39+N(K39) -> 22.515592 | M39: =AE39/100*Parametreler!$B$7 -> 2.14475 | N39: =AF39/100*Parametreler!$B$8 -> 4 | O39: =AG39/100*Parametreler!$B$9 -> 11.5276 | P39: =SUM(M39:O39) -> 17.67235 | Q39: =VLOOKUP($A39,'Yaş Boya Listesi'!$B$6:$L$131,11,FALSE()) -> 2 | R39: =IF(E39="Kataforez",N(Q39),IF(E39="Yaş boya",Parametreler!$B$10/MAX(1,ROUND(IF(ISNUMBER(Q39),Q39,Parametreler!$B$11),0)),0)) -> 40 | S39: =L39+P39+R39 -> 80.187942 | T39: =IF(S39=0,0,L39/S39) -> 0.28078526 | U39: =IF(S39=0,0,P39/S39) -> 0.22038663 | V39: =IF(S39=0,0,R39/S39) -> 0.49882812 | W39: =SUM(AE39:AG39)/100*F39 -> 16.788733 | X39: =IF($G39=0,0,J39/$G39) -> 0.8359853 | Y39: =IF($G39=0,0,S39/$G39) -> 2.9773119 | Z39: =IF($G39=0,0,L39/$G39) -> 0.8359853 | AA39: =S39*Parametreler!$B$12 -> 114.66876 | AB39: =AA39*F39 -> 2178.7064 | AE39: =INDEX('İşçilik Özet'!$W$6:$W$200,MATCH($A39&"",'İşçilik Özet'!$A$6:$A$200,0)) -> 10.72375 | AF39: =INDEX('İşçilik Özet'!$X$6:$X$200,MATCH($A39&"",'İşçilik Özet'!$A$6:$A$200,0)) -> 20 | AG39: =INDEX('İşçilik Özet'!$Y$6:$Y$200,MATCH($A39&"",'İşçilik Özet'!$A$6:$A$200,0)) -> 57.638 | AH39: =(L39+P39)*F39+IF(E39="Kataforez",N(Q39)*F39,IF(E39="Yaş boya",ROUNDUP(F39/MAX(1,ROUND(IF(ISNUMBER(Q39),Q39,Parametreler!$B$11),0)),0)*Parametreler!$B$10,0)) -> 1563.5709
A40: 182459 | B40: Abd G64 Ara Şanzıman Salıncağı Sol Montaj | C40: A.5 | D40: STEP | E40: Yaş boya | F40: 19 | G40: 26.806 | H40: =INDEX('Sac Özet'!$L$5:$L$199,MATCH($A40&"",'Sac Özet'!$A$5:$A$199,0)) -> 28.835012 | I40: =INDEX('Sac Özet'!$M$5:$M$199,MATCH($A40&"",'Sac Özet'!$A$5:$A$199,0)) -> 1.9971028 | J40: =INDEX('Sac Özet'!$N$5:$N$199,MATCH($A40&"",'Sac Özet'!$A$5:$A$199,0)) -> 22.414413 | K40: =SUMPRODUCT((--'Satınalma Parçaları'!$A$2:$A$107=--$A40)*'Satınalma Parçaları'!$L$2:$L$107) -> 0 | L40: =J40+N(K40) -> 22.414413 | M40: =AE40/100*Parametreler!$B$7 -> 2.14475 | N40: =AF40/100*Parametreler!$B$8 -> 4 | O40: =AG40/100*Parametreler!$B$9 -> 11.5276 | P40: =SUM(M40:O40) -> 17.67235 | Q40: =VLOOKUP($A40,'Yaş Boya Listesi'!$B$6:$L$131,11,FALSE()) -> 2 | R40: =IF(E40="Kataforez",N(Q40),IF(E40="Yaş boya",Parametreler!$B$10/MAX(1,ROUND(IF(ISNUMBER(Q40),Q40,Parametreler!$B$11),0)),0)) -> 40 | S40: =L40+P40+R40 -> 80.086763 | T40: =IF(S40=0,0,L40/S40) -> 0.27987662 | U40: =IF(S40=0,0,P40/S40) -> 0.22066506 | V40: =IF(S40=0,0,R40/S40) -> 0.49945832 | W40: =SUM(AE40:AG40)/100*F40 -> 16.788733 | X40: =IF($G40=0,0,J40/$G40) -> 0.83617148 | Y40: =IF($G40=0,0,S40/$G40) -> 2.9876432 | Z40: =IF($G40=0,0,L40/$G40) -> 0.83617148 | AA40: =S40*Parametreler!$B$12 -> 114.52407 | AB40: =AA40*F40 -> 2175.9573 | AE40: =INDEX('İşçilik Özet'!$W$6:$W$200,MATCH($A40&"",'İşçilik Özet'!$A$6:$A$200,0)) -> 10.72375 | AF40: =INDEX('İşçilik Özet'!$X$6:$X$200,MATCH($A40&"",'İşçilik Özet'!$A$6:$A$200,0)) -> 20 | AG40: =INDEX('İşçilik Özet'!$Y$6:$Y$200,MATCH($A40&"",'İşçilik Özet'!$A$6:$A$200,0)) -> 57.638 | AH40: =(L40+P40)*F40+IF(E40="Kataforez",N(Q40)*F40,IF(E40="Yaş boya",ROUNDUP(F40/MAX(1,ROUND(IF(ISNUMBER(Q40),Q40,Parametreler!$B$11),0)),0)*Parametreler!$B$10,0)) -> 1561.6485
A41: 0905890 | B41: H51_5RZ Arka Bom Desteği | C41: A.7 | D41: STEP | E41: Kataforez | F41: 10 | G41: 57.371 | H41: =INDEX('Sac Özet'!$L$5:$L$199,MATCH($A41&"",'Sac Özet'!$A$5:$A$199,0)) -> 113.25684 | I41: =INDEX('Sac Özet'!$M$5:$M$199,MATCH($A41&"",'Sac Özet'!$A$5:$A$199,0)) -> 55.905671 | J41: =INDEX('Sac Özet'!$N$5:$N$199,MATCH($A41&"",'Sac Özet'!$A$5:$A$199,0)) -> 72.309074 | K41: =SUMPRODUCT((--'Satınalma Parçaları'!$A$2:$A$107=--$A41)*'Satınalma Parçaları'!$L$2:$L$107) -> 0.092 | L41: =J41+N(K41) -> 72.401074 | M41: =AE41/100*Parametreler!$B$7 -> 10.879 | N41: =AF41/100*Parametreler!$B$8 -> 9.25 | O41: =AG41/100*Parametreler!$B$9 -> 14.9268 | P41: =SUM(M41:O41) -> 35.0558 | Q41: =IFERROR(INDEX('Kataforez Teklifleri'!$G$6:$G$50,MATCH($A41&"",'Kataforez Teklifleri'!$A$6:$A$50,0)),"") -> 45.76 | R41: =IF(E41="Kataforez",N(Q41),IF(E41="Yaş boya",Parametreler!$B$10/MAX(1,ROUND(IF(ISNUMBER(Q41),Q41,Parametreler!$B$11),0)),0)) -> 45.76 | S41: =L41+P41+R41 -> 153.21687 | T41: =IF(S41=0,0,L41/S41) -> 0.47253982 | U41: =IF(S41=0,0,P41/S41) -> 0.22879856 | V41: =IF(S41=0,0,R41/S41) -> 0.29866162 | W41: =SUM(AE41:AG41)/100*F41 -> 17.5279 | X41: =IF($G41=0,0,J41/$G41) -> 1.2603767 | Y41: =IF($G41=0,0,S41/$G41) -> 2.6706328 | Z41: =IF($G41=0,0,L41/$G41) -> 1.2619803 | AA41: =S41*Parametreler!$B$12 -> 219.10013 | AB41: =AA41*F41 -> 2191.0013 | AC41: 323753 DIN929 M10 kaynak somunu ×4 | AD41: 1 satınalma kalemi | AE41: =INDEX('İşçilik Özet'!$W$6:$W$200,MATCH($A41&"",'İşçilik Özet'!$A$6:$A$200,0)) -> 54.395 | AF41: =INDEX('İşçilik Özet'!$X$6:$X$200,MATCH($A41&"",'İşçilik Özet'!$A$6:$A$200,0)) -> 46.25 | AG41: =INDEX('İşçilik Özet'!$Y$6:$Y$200,MATCH($A41&"",'İşçilik Özet'!$A$6:$A$200,0)) -> 74.634 | AH41: =(L41+P41)*F41+IF(E41="Kataforez",N(Q41)*F41,IF(E41="Yaş boya",ROUNDUP(F41/MAX(1,ROUND(IF(ISNUMBER(Q41),Q41,Parametreler!$B$11),0)),0)*Parametreler!$B$10,0)) -> 1532.1687
A42: 121806 | B42: Hortum Sarma | C42: — | D42: Resimden tahmin | E42: Yok | F42: 53 | G42: 2.93 | H42: =INDEX('Sac Özet'!$L$5:$L$199,MATCH($A42&"",'Sac Özet'!$A$5:$A$199,0)) -> 1.2926844 | I42: =INDEX('Sac Özet'!$M$5:$M$199,MATCH($A42&"",'Sac Özet'!$A$5:$A$199,0)) -> 0.23268319 | J42: =INDEX('Sac Özet'!$N$5:$N$199,MATCH($A42&"",'Sac Özet'!$A$5:$A$199,0)) -> 0.95799665 | K42: =SUMPRODUCT((--'Satınalma Parçaları'!$A$2:$A$107=--$A42)*'Satınalma Parçaları'!$L$2:$L$107) -> 6.83 | L42: =J42+N(K42) -> 7.7879966 | M42: =AE42/100*Parametreler!$B$7 -> 8.257 | N42: =AF42/100*Parametreler!$B$8 -> 6.0825 | O42: =AG42/100*Parametreler!$B$9 -> 3.51 | P42: =SUM(M42:O42) -> 17.8495 | R42: =IF(E42="Kataforez",N(Q42),IF(E42="Yaş boya",Parametreler!$B$10/MAX(1,ROUND(IF(ISNUMBER(Q42),Q42,Parametreler!$B$11),0)),0)) -> 0 | S42: =L42+P42+R42 -> 25.637497 | T42: =IF(S42=0,0,L42/S42) -> 0.30377368 | U42: =IF(S42=0,0,P42/S42) -> 0.69622632 | V42: =IF(S42=0,0,R42/S42) -> 0 | W42: =SUM(AE42:AG42)/100*F42 -> 47.301175 | X42: =IF($G42=0,0,J42/$G42) -> 0.32696131 | Y42: =IF($G42=0,0,S42/$G42) -> 8.7499989 | Z42: =IF($G42=0,0,L42/$G42) -> 2.6580193 | AA42: =S42*Parametreler!$B$12 -> 36.66162 | AB42: =AA42*F42 -> 1943.0659 | AC42: 121805 Ø16x2 BORU L=1326,5mm ×1; 121807 Ø16x2 BORU L=233mm ×6 | AD42: STEP yok – resimden tahmin · 2 satınalma kalemi | AE42: =INDEX('İşçilik Özet'!$W$6:$W$200,MATCH($A42&"",'İşçilik Özet'!$A$6:$A$200,0)) -> 41.285 | AF42: =INDEX('İşçilik Özet'!$X$6:$X$200,MATCH($A42&"",'İşçilik Özet'!$A$6:$A$200,0)) -> 30.4125 | AG42: =INDEX('İşçilik Özet'!$Y$6:$Y$200,MATCH($A42&"",'İşçilik Özet'!$A$6:$A$200,0)) -> 17.55 | AH42: =(L42+P42)*F42+IF(E42="Kataforez",N(Q42)*F42,IF(E42="Yaş boya",ROUNDUP(F42/MAX(1,ROUND(IF(ISNUMBER(Q42),Q42,Parametreler!$B$11),0)),0)*Parametreler!$B$10,0)) -> 1358.7873
A43: 105666 | B43: H47 Pano Sehpası Altlığı | C43: A.8 | D43: STEP | E43: Yaş boya | F43: 27 | G43: 10.165 | H43: =INDEX('Sac Özet'!$L$5:$L$199,MATCH($A43&"",'Sac Özet'!$A$5:$A$199,0)) -> 25.835306 | I43: =INDEX('Sac Özet'!$M$5:$M$199,MATCH($A43&"",'Sac Özet'!$A$5:$A$199,0)) -> 15.666919 | J43: =INDEX('Sac Özet'!$N$5:$N$199,MATCH($A43&"",'Sac Özet'!$A$5:$A$199,0)) -> 15.54089 | K43: =SUMPRODUCT((--'Satınalma Parçaları'!$A$2:$A$107=--$A43)*'Satınalma Parçaları'!$L$2:$L$107) -> 0 | L43: =J43+N(K43) -> 15.54089 | M43: =AE43/100*Parametreler!$B$7 -> 2.14475 | N43: =AF43/100*Parametreler!$B$8 -> 3.0825 | O43: =AG43/100*Parametreler!$B$9 -> 2.32 | P43: =SUM(M43:O43) -> 7.54725 | Q43: =VLOOKUP($A43,'Yaş Boya Listesi'!$B$6:$L$131,11,FALSE()) -> 3 | R43: =IF(E43="Kataforez",N(Q43),IF(E43="Yaş boya",Parametreler!$B$10/MAX(1,ROUND(IF(ISNUMBER(Q43),Q43,Parametreler!$B$11),0)),0)) -> 26.666667 | S43: =L43+P43+R43 -> 49.754807 | T43: =IF(S43=0,0,L43/S43) -> 0.31234952 | U43: =IF(S43=0,0,P43/S43) -> 0.15168886 | V43: =IF(S43=0,0,R43/S43) -> 0.53596162 | W43: =SUM(AE43:AG43)/100*F43 -> 10.188788 | X43: =IF($G43=0,0,J43/$G43) -> 1.5288628 | Y43: =IF($G43=0,0,S43/$G43) -> 4.8947178 | Z43: =IF($G43=0,0,L43/$G43) -> 1.5288628 | AA43: =S43*Parametreler!$B$12 -> 71.149373 | AB43: =AA43*F43 -> 1921.0331 | AE43: =INDEX('İşçilik Özet'!$W$6:$W$200,MATCH($A43&"",'İşçilik Özet'!$A$6:$A$200,0)) -> 10.72375 | AF43: =INDEX('İşçilik Özet'!$X$6:$X$200,MATCH($A43&"",'İşçilik Özet'!$A$6:$A$200,0)) -> 15.4125 | AG43: =INDEX('İşçilik Özet'!$Y$6:$Y$200,MATCH($A43&"",'İşçilik Özet'!$A$6:$A$200,0)) -> 11.6 | AH43: =(L43+P43)*F43+IF(E43="Kataforez",N(Q43)*F43,IF(E43="Yaş boya",ROUNDUP(F43/MAX(1,ROUND(IF(ISNUMBER(Q43),Q43,Parametreler!$B$11),0)),0)*Parametreler!$B$10,0)) -> 1343.3798
A44: 106223 | B44: Tekerlek Askısı | C44: A.8 | D44: Resimden tahmin | E44: Yaş boya | F44: 106 | G44: 1.763 | H44: =INDEX('Sac Özet'!$L$5:$L$199,MATCH($A44&"",'Sac Özet'!$A$5:$A$199,0)) -> 2.1500576 | I44: =INDEX('Sac Özet'!$M$5:$M$199,MATCH($A44&"",'Sac Özet'!$A$5:$A$199,0)) -> 0.38701036 | J44: =INDEX('Sac Özet'!$N$5:$N$199,MATCH($A44&"",'Sac Özet'!$A$5:$A$199,0)) -> 1.5933881 | K44: =SUMPRODUCT((--'Satınalma Parçaları'!$A$2:$A$107=--$A44)*'Satınalma Parçaları'!$L$2:$L$107) -> 0 | L44: =J44+N(K44) -> 1.5933881 | M44: =AE44/100*Parametreler!$B$7 -> 0 | N44: =AF44/100*Parametreler!$B$8 -> 2.5825 | O44: =AG44/100*Parametreler!$B$9 -> 2.04 | P44: =SUM(M44:O44) -> 4.6225 | Q44: =VLOOKUP($A44,'Yaş Boya Listesi'!$B$6:$L$131,11,FALSE()) -> 15 | R44: =IF(E44="Kataforez",N(Q44),IF(E44="Yaş boya",Parametreler!$B$10/MAX(1,ROUND(IF(ISNUMBER(Q44),Q44,Parametreler!$B$11),0)),0)) -> 5.3333333 | S44: =L44+P44+R44 -> 11.549221 | T44: =IF(S44=0,0,L44/S44) -> 0.13796498 | U44: =IF(S44=0,0,P44/S44) -> 0.40024343 | V44: =IF(S44=0,0,R44/S44) -> 0.46179159 | W44: =SUM(AE44:AG44)/100*F44 -> 24.49925 | X44: =IF($G44=0,0,J44/$G44) -> 0.9037936 | Y44: =IF($G44=0,0,S44/$G44) -> 6.5508913 | Z44: =IF($G44=0,0,L44/$G44) -> 0.9037936 | AA44: =S44*Parametreler!$B$12 -> 16.515387 | AB44: =AA44*F44 -> 1750.631 | AD44: STEP yok – resimden tahmin | AE44: =INDEX('İşçilik Özet'!$W$6:$W$200,MATCH($A44&"",'İşçilik Özet'!$A$6:$A$200,0)) -> 0 | AF44: =INDEX('İşçilik Özet'!$X$6:$X$200,MATCH($A44&"",'İşçilik Özet'!$A$6:$A$200,0)) -> 12.9125 | AG44: =INDEX('İşçilik Özet'!$Y$6:$Y$200,MATCH($A44&"",'İşçilik Özet'!$A$6:$A$200,0)) -> 10.2 | AH44: =(L44+P44)*F44+IF(E44="Kataforez",N(Q44)*F44,IF(E44="Yaş boya",ROUNDUP(F44/MAX(1,ROUND(IF(ISNUMBER(Q44),Q44,Parametreler!$B$11),0)),0)*Parametreler!$B$10,0)) -> 1298.8841
A45: 403043 | B45: Kelepçe 5,5" Ayaklı 2 Civatalı | C45: A.5 | D45: Resimden tahmin | E45: Yok | F45: 312 | G45: 3.682 | H45: =INDEX('Sac Özet'!$L$5:$L$199,MATCH($A45&"",'Sac Özet'!$A$5:$A$199,0)) -> 0.59028171 | I45: =INDEX('Sac Özet'!$M$5:$M$199,MATCH($A45&"",'Sac Özet'!$A$5:$A$199,0)) -> 0.10625071 | J45: =INDEX('Sac Özet'!$N$5:$N$199,MATCH($A45&"",'Sac Özet'!$A$5:$A$199,0)) -> 0.43745241 | K45: =SUMPRODUCT((--'Satınalma Parçaları'!$A$2:$A$107=--$A45)*'Satınalma Parçaları'!$L$2:$L$107) -> 0 | L45: =J45+N(K45) -> 0.43745241 | M45: =AE45/100*Parametreler!$B$7 -> 0 | N45: =AF45/100*Parametreler!$B$8 -> 2.3325 | O45: =AG45/100*Parametreler!$B$9 -> 1.052 | P45: =SUM(M45:O45) -> 3.3845 | R45: =IF(E45="Kataforez",N(Q45),IF(E45="Yaş boya",Parametreler!$B$10/MAX(1,ROUND(IF(ISNUMBER(Q45),Q45,Parametreler!$B$11),0)),0)) -> 0 | S45: =L45+P45+R45 -> 3.8219524 | T45: =IF(S45=0,0,L45/S45) -> 0.11445784 | U45: =IF(S45=0,0,P45/S45) -> 0.88554216 | V45: =IF(S45=0,0,R45/S45) -> 0 | W45: =SUM(AE45:AG45)/100*F45 -> 52.7982 | X45: =IF($G45=0,0,J45/$G45) -> 0.11880837 | Y45: =IF($G45=0,0,S45/$G45) -> 1.0380099 | Z45: =IF($G45=0,0,L45/$G45) -> 0.11880837 | AA45: =S45*Parametreler!$B$12 -> 5.4653919 | AB45: =AA45*F45 -> 1705.2023 | AC45: H411.00040 KELEPÇE 5,5" 2 CİVATALI ×1 | AD45: SATINALMA MALİYETİ GELMELİ | AE45: =INDEX('İşçilik Özet'!$W$6:$W$200,MATCH($A45&"",'İşçilik Özet'!$A$6:$A$200,0)) -> 0 | AF45: =INDEX('İşçilik Özet'!$X$6:$X$200,MATCH($A45&"",'İşçilik Özet'!$A$6:$A$200,0)) -> 11.6625 | AG45: =INDEX('İşçilik Özet'!$Y$6:$Y$200,MATCH($A45&"",'İşçilik Özet'!$A$6:$A$200,0)) -> 5.26 | AH45: =(L45+P45)*F45+IF(E45="Kataforez",N(Q45)*F45,IF(E45="Yaş boya",ROUNDUP(F45/MAX(1,ROUND(IF(ISNUMBER(Q45),Q45,Parametreler!$B$11),0)),0)*Parametreler!$B$10,0)) -> 1192.4492
A46: 450299 | B46: H43-H47 Ön Bom Destek | C46: B.2 | D46: STEP | E46: Yaş boya | F46: 27 | G46: 18.273 | H46: =INDEX('Sac Özet'!$L$5:$L$199,MATCH($A46&"",'Sac Özet'!$A$5:$A$199,0)) -> 25.313876 | I46: =INDEX('Sac Özet'!$M$5:$M$199,MATCH($A46&"",'Sac Özet'!$A$5:$A$199,0)) -> 7.0274582 | J46: =INDEX('Sac Özet'!$N$5:$N$199,MATCH($A46&"",'Sac Özet'!$A$5:$A$199,0)) -> 17.951206 | K46: =SUMPRODUCT((--'Satınalma Parçaları'!$A$2:$A$107=--$A46)*'Satınalma Parçaları'!$L$2:$L$107) -> 0 | L46: =J46+N(K46) -> 17.951206 | M46: =AE46/100*Parametreler!$B$7 -> 2.37475 | N46: =AF46/100*Parametreler!$B$8 -> 3.0825 | O46: =AG46/100*Parametreler!$B$9 -> 2.3876 | P46: =SUM(M46:O46) -> 7.84485 | Q46: =VLOOKUP($A46,'Yaş Boya Listesi'!$B$6:$L$131,11,FALSE()) -> 4 | R46: =IF(E46="Kataforez",N(Q46),IF(E46="Yaş boya",Parametreler!$B$10/MAX(1,ROUND(IF(ISNUMBER(Q46),Q46,Parametreler!$B$11),0)),0)) -> 20 | S46: =L46+P46+R46 -> 45.796056 | T46: =IF(S46=0,0,L46/S46) -> 0.39198148 | U46: =IF(S46=0,0,P46/S46) -> 0.17129969 | V46: =IF(S46=0,0,R46/S46) -> 0.43671883 | W46: =SUM(AE46:AG46)/100*F46 -> 10.590547 | X46: =IF($G46=0,0,J46/$G46) -> 0.98238962 | Y46: =IF($G46=0,0,S46/$G46) -> 2.5062144 | Z46: =IF($G46=0,0,L46/$G46) -> 0.98238962 | AA46: =S46*Parametreler!$B$12 -> 65.488359 | AB46: =AA46*F46 -> 1768.1857 | AE46: =INDEX('İşçilik Özet'!$W$6:$W$200,MATCH($A46&"",'İşçilik Özet'!$A$6:$A$200,0)) -> 11.87375 | AF46: =INDEX('İşçilik Özet'!$X$6:$X$200,MATCH($A46&"",'İşçilik Özet'!$A$6:$A$200,0)) -> 15.4125 | AG46: =INDEX('İşçilik Özet'!$Y$6:$Y$200,MATCH($A46&"",'İşçilik Özet'!$A$6:$A$200,0)) -> 11.938 | AH46: =(L46+P46)*F46+IF(E46="Kataforez",N(Q46)*F46,IF(E46="Yaş boya",ROUNDUP(F46/MAX(1,ROUND(IF(ISNUMBER(Q46),Q46,Parametreler!$B$11),0)),0)*Parametreler!$B$10,0)) -> 1256.4935
A47: 114243 | B47: Merdiven Profil | C47: A.8 | D47: Resimden tahmin | E47: Yaş boya | F47: 29 | G47: 7.267 | H47: =INDEX('Sac Özet'!$L$5:$L$199,MATCH($A47&"",'Sac Özet'!$A$5:$A$199,0)) -> 5.2188697 | I47: =INDEX('Sac Özet'!$M$5:$M$199,MATCH($A47&"",'Sac Özet'!$A$5:$A$199,0)) -> 1.0758909 | J47: =INDEX('Sac Özet'!$N$5:$N$199,MATCH($A47&"",'Sac Özet'!$A$5:$A$199,0)) -> 3.822986 | K47: =SUMPRODUCT((--'Satınalma Parçaları'!$A$2:$A$107=--$A47)*'Satınalma Parçaları'!$L$2:$L$107) -> 0 | L47: =J47+N(K47) -> 3.822986 | M47: =AE47/100*Parametreler!$B$7 -> 3.933 | N47: =AF47/100*Parametreler!$B$8 -> 3.5825 | O47: =AG47/100*Parametreler!$B$9 -> 2.672 | P47: =SUM(M47:O47) -> 10.1875 | Q47: =VLOOKUP($A47,'Yaş Boya Listesi'!$B$6:$L$131,11,FALSE()) -> 3 | R47: =IF(E47="Kataforez",N(Q47),IF(E47="Yaş boya",Parametreler!$B$10/MAX(1,ROUND(IF(ISNUMBER(Q47),Q47,Parametreler!$B$11),0)),0)) -> 26.666667 | S47: =L47+P47+R47 -> 40.677153 | T47: =IF(S47=0,0,L47/S47) -> 0.093983619 | U47: =IF(S47=0,0,P47/S47) -> 0.25044772 | V47: =IF(S47=0,0,R47/S47) -> 0.65556866 | W47: =SUM(AE47:AG47)/100*F47 -> 14.771875 | X47: =IF($G47=0,0,J47/$G47) -> 0.52607486 | Y47: =IF($G47=0,0,S47/$G47) -> 5.5975165 | Z47: =IF($G47=0,0,L47/$G47) -> 0.52607486 | AA47: =S47*Parametreler!$B$12 -> 58.168328 | AB47: =AA47*F47 -> 1686.8815 | AC47: 114246 TAMPON MERDİVEN PRO ×1 | AD47: STEP VEYA DETAYLI RESİM GEREKLİ | AE47: =INDEX('İşçilik Özet'!$W$6:$W$200,MATCH($A47&"",'İşçilik Özet'!$A$6:$A$200,0)) -> 19.665 | AF47: =INDEX('İşçilik Özet'!$X$6:$X$200,MATCH($A47&"",'İşçilik Özet'!$A$6:$A$200,0)) -> 17.9125 | AG47: =INDEX('İşçilik Özet'!$Y$6:$Y$200,MATCH($A47&"",'İşçilik Özet'!$A$6:$A$200,0)) -> 13.36 | AH47: =(L47+P47)*F47+IF(E47="Kataforez",N(Q47)*F47,IF(E47="Yaş boya",ROUNDUP(F47/MAX(1,ROUND(IF(ISNUMBER(Q47),Q47,Parametreler!$B$11),0)),0)*Parametreler!$B$10,0)) -> 1206.3041
A48: 106261 | B48: Boru Bağlantı Ara DESTEĞİ-3 | C48: A.5 | D48: Resimden tahmin | E48: Yaş boya | F48: 55 | G48: 3.248 | H48: =INDEX('Sac Özet'!$L$5:$L$199,MATCH($A48&"",'Sac Özet'!$A$5:$A$199,0)) -> 4.0899347 | I48: =INDEX('Sac Özet'!$M$5:$M$199,MATCH($A48&"",'Sac Özet'!$A$5:$A$199,0)) -> 0.84191874 | J48: =INDEX('Sac Özet'!$N$5:$N$199,MATCH($A48&"",'Sac Özet'!$A$5:$A$199,0)) -> 2.9964107 | K48: =SUMPRODUCT((--'Satınalma Parçaları'!$A$2:$A$107=--$A48)*'Satınalma Parçaları'!$L$2:$L$107) -> 0 | L48: =J48+N(K48) -> 2.9964107 | M48: =AE48/100*Parametreler!$B$7 -> 1.311 | N48: =AF48/100*Parametreler!$B$8 -> 1.5825 | O48: =AG48/100*Parametreler!$B$9 -> 0.62 | P48: =SUM(M48:O48) -> 3.5135 | Q48: =VLOOKUP($A48,'Yaş Boya Listesi'!$B$6:$L$131,11,FALSE()) -> 6 | R48: =IF(E48="Kataforez",N(Q48),IF(E48="Yaş boya",Parametreler!$B$10/MAX(1,ROUND(IF(ISNUMBER(Q48),Q48,Parametreler!$B$11),0)),0)) -> 13.333333 | S48: =L48+P48+R48 -> 19.843244 | T48: =IF(S48=0,0,L48/S48) -> 0.15100408 | U48: =IF(S48=0,0,P48/S48) -> 0.17706278 | V48: =IF(S48=0,0,R48/S48) -> 0.67193314 | W48: =SUM(AE48:AG48)/100*F48 -> 9.662125 | X48: =IF($G48=0,0,J48/$G48) -> 0.92254026 | Y48: =IF($G48=0,0,S48/$G48) -> 6.1093732 | Z48: =IF($G48=0,0,L48/$G48) -> 0.92254026 | AA48: =S48*Parametreler!$B$12 -> 28.375839 | AB48: =AA48*F48 -> 1560.6711 | AD48: STEP yok – resimden tahmin | AE48: =INDEX('İşçilik Özet'!$W$6:$W$200,MATCH($A48&"",'İşçilik Özet'!$A$6:$A$200,0)) -> 6.555 | AF48: =INDEX('İşçilik Özet'!$X$6:$X$200,MATCH($A48&"",'İşçilik Özet'!$A$6:$A$200,0)) -> 7.9125 | AG48: =INDEX('İşçilik Özet'!$Y$6:$Y$200,MATCH($A48&"",'İşçilik Özet'!$A$6:$A$200,0)) -> 3.1 | AH48: =(L48+P48)*F48+IF(E48="Kataforez",N(Q48)*F48,IF(E48="Yaş boya",ROUNDUP(F48/MAX(1,ROUND(IF(ISNUMBER(Q48),Q48,Parametreler!$B$11),0)),0)*Parametreler!$B$10,0)) -> 1158.0451
A49: 378776 | B49: 160 M3 Su Kutusu Tapası | C49: A.5 | D49: Resimden tahmin | E49: Yaş boya | F49: 114 | G49: 1.303 | H49: =INDEX('Sac Özet'!$L$5:$L$199,MATCH($A49&"",'Sac Özet'!$A$5:$A$199,0)) -> 1.6237423 | I49: =INDEX('Sac Özet'!$M$5:$M$199,MATCH($A49&"",'Sac Özet'!$A$5:$A$199,0)) -> 0.32076006 | J49: =INDEX('Sac Özet'!$N$5:$N$199,MATCH($A49&"",'Sac Özet'!$A$5:$A$199,0)) -> 1.1940178 | K49: =SUMPRODUCT((--'Satınalma Parçaları'!$A$2:$A$107=--$A49)*'Satınalma Parçaları'!$L$2:$L$107) -> 0 | L49: =J49+N(K49) -> 1.1940178 | M49: =AE49/100*Parametreler!$B$7 -> 1.081 | N49: =AF49/100*Parametreler!$B$8 -> 2.0825 | O49: =AG49/100*Parametreler!$B$9 -> 1.14 | P49: =SUM(M49:O49) -> 4.3035 | Q49: =VLOOKUP($A49,'Yaş Boya Listesi'!$B$6:$L$131,11,FALSE()) -> 20 | R49: =IF(E49="Kataforez",N(Q49),IF(E49="Yaş boya",Parametreler!$B$10/MAX(1,ROUND(IF(ISNUMBER(Q49),Q49,Parametreler!$B$11),0)),0)) -> 4 | S49: =L49+P49+R49 -> 9.4975178 | T49: =IF(S49=0,0,L49/S49) -> 0.12571894 | U49: =IF(S49=0,0,P49/S49) -> 0.45311839 | V49: =IF(S49=0,0,R49/S49) -> 0.42116267 | W49: =SUM(AE49:AG49)/100*F49 -> 24.52995 | X49: =IF($G49=0,0,J49/$G49) -> 0.91636058 | Y49: =IF($G49=0,0,S49/$G49) -> 7.2889623 | Z49: =IF($G49=0,0,L49/$G49) -> 0.91636058 | AA49: =S49*Parametreler!$B$12 -> 13.58145 | AB49: =AA49*F49 -> 1548.2854 | AD49: STEP VEYA DETAYLI RESİM GEREKLİ | AE49: =INDEX('İşçilik Özet'!$W$6:$W$200,MATCH($A49&"",'İşçilik Özet'!$A$6:$A$200,0)) -> 5.405 | AF49: =INDEX('İşçilik Özet'!$X$6:$X$200,MATCH($A49&"",'İşçilik Özet'!$A$6:$A$200,0)) -> 10.4125 | AG49: =INDEX('İşçilik Özet'!$Y$6:$Y$200,MATCH($A49&"",'İşçilik Özet'!$A$6:$A$200,0)) -> 5.7 | AH49: =(L49+P49)*F49+IF(E49="Kataforez",N(Q49)*F49,IF(E49="Yaş boya",ROUNDUP(F49/MAX(1,ROUND(IF(ISNUMBER(Q49),Q49,Parametreler!$B$11),0)),0)*Parametreler!$B$10,0)) -> 1106.717
A50: 233507 | B50: Ön Ayak Basma Tekeri Sol | C50: A.12 | D50: Resimden tahmin | E50: Yaş boya | F50: 121 | G50: 0.721 | H50: =INDEX('Sac Özet'!$L$5:$L$199,MATCH($A50&"",'Sac Özet'!$A$5:$A$199,0)) -> 0.87923829 | I50: =INDEX('Sac Özet'!$M$5:$M$199,MATCH($A50&"",'Sac Özet'!$A$5:$A$199,0)) -> 0.15826289 | J50: =INDEX('Sac Özet'!$N$5:$N$199,MATCH($A50&"",'Sac Özet'!$A$5:$A$199,0)) -> 0.65159551 | K50: =SUMPRODUCT((--'Satınalma Parçaları'!$A$2:$A$107=--$A50)*'Satınalma Parçaları'!$L$2:$L$107) -> 0 | L50: =J50+N(K50) -> 0.65159551 | M50: =AE50/100*Parametreler!$B$7 -> 0 | N50: =AF50/100*Parametreler!$B$8 -> 2.8325 | O50: =AG50/100*Parametreler!$B$9 -> 1.24 | P50: =SUM(M50:O50) -> 4.0725 | Q50: =VLOOKUP($A50,'Yaş Boya Listesi'!$B$6:$L$131,11,FALSE()) -> 20 | R50: =IF(E50="Kataforez",N(Q50),IF(E50="Yaş boya",Parametreler!$B$10/MAX(1,ROUND(IF(ISNUMBER(Q50),Q50,Parametreler!$B$11),0)),0)) -> 4 | S50: =L50+P50+R50 -> 8.7240955 | T50: =IF(S50=0,0,L50/S50) -> 0.074689176 | U50: =IF(S50=0,0,P50/S50) -> 0.46681057 | V50: =IF(S50=0,0,R50/S50) -> 0.45850025 | W50: =SUM(AE50:AG50)/100*F50 -> 24.638625 | X50: =IF($G50=0,0,J50/$G50) -> 0.90373857 | Y50: =IF($G50=0,0,S50/$G50) -> 12.099994 | Z50: =IF($G50=0,0,L50/$G50) -> 0.90373857 | AA50: =S50*Parametreler!$B$12 -> 12.475457 | AB50: =AA50*F50 -> 1509.5302 | AD50: STEP yok – resimden tahmin | AE50: =INDEX('İşçilik Özet'!$W$6:$W$200,MATCH($A50&"",'İşçilik Özet'!$A$6:$A$200,0)) -> 0 | AF50: =INDEX('İşçilik Özet'!$X$6:$X$200,MATCH($A50&"",'İşçilik Özet'!$A$6:$A$200,0)) -> 14.1625 | AG50: =INDEX('İşçilik Özet'!$Y$6:$Y$200,MATCH($A50&"",'İşçilik Özet'!$A$6:$A$200,0)) -> 6.2 | AH50: =(L50+P50)*F50+IF(E50="Kataforez",N(Q50)*F50,IF(E50="Yaş boya",ROUNDUP(F50/MAX(1,ROUND(IF(ISNUMBER(Q50),Q50,Parametreler!$B$11),0)),0)*Parametreler!$B$10,0)) -> 1131.6156
A51: 122681 | B51: Ön Ayak Basma Tekeri Sağ | C51: A.16 | D51: Resimden tahmin | E51: Yaş boya | F51: 121 | G51: 0.721 | H51: =INDEX('Sac Özet'!$L$5:$L$199,MATCH($A51&"",'Sac Özet'!$A$5:$A$199,0)) -> 0.87923829 | I51: =INDEX('Sac Özet'!$M$5:$M$199,MATCH($A51&"",'Sac Özet'!$A$5:$A$199,0)) -> 0.15826289 | J51: =INDEX('Sac Özet'!$N$5:$N$199,MATCH($A51&"",'Sac Özet'!$A$5:$A$199,0)) -> 0.65159551 | K51: =SUMPRODUCT((--'Satınalma Parçaları'!$A$2:$A$107=--$A51)*'Satınalma Parçaları'!$L$2:$L$107) -> 0 | L51: =J51+N(K51) -> 0.65159551 | M51: =AE51/100*Parametreler!$B$7 -> 0 | N51: =AF51/100*Parametreler!$B$8 -> 2.8325 | O51: =AG51/100*Parametreler!$B$9 -> 1.24 | P51: =SUM(M51:O51) -> 4.0725 | Q51: =VLOOKUP($A51,'Yaş Boya Listesi'!$B$6:$L$131,11,FALSE()) -> 20 | R51: =IF(E51="Kataforez",N(Q51),IF(E51="Yaş boya",Parametreler!$B$10/MAX(1,ROUND(IF(ISNUMBER(Q51),Q51,Parametreler!$B$11),0)),0)) -> 4 | S51: =L51+P51+R51 -> 8.7240955 | T51: =IF(S51=0,0,L51/S51) -> 0.074689176 | U51: =IF(S51=0,0,P51/S51) -> 0.46681057 | V51: =IF(S51=0,0,R51/S51) -> 0.45850025 | W51: =SUM(AE51:AG51)/100*F51 -> 24.638625 | X51: =IF($G51=0,0,J51/$G51) -> 0.90373857 | Y51: =IF($G51=0,0,S51/$G51) -> 12.099994 | Z51: =IF($G51=0,0,L51/$G51) -> 0.90373857 | AA51: =S51*Parametreler!$B$12 -> 12.475457 | AB51: =AA51*F51 -> 1509.5302 | AD51: STEP yok – resimden tahmin | AE51: =INDEX('İşçilik Özet'!$W$6:$W$200,MATCH($A51&"",'İşçilik Özet'!$A$6:$A$200,0)) -> 0 | AF51: =INDEX('İşçilik Özet'!$X$6:$X$200,MATCH($A51&"",'İşçilik Özet'!$A$6:$A$200,0)) -> 14.1625 | AG51: =INDEX('İşçilik Özet'!$Y$6:$Y$200,MATCH($A51&"",'İşçilik Özet'!$A$6:$A$200,0)) -> 6.2 | AH51: =(L51+P51)*F51+IF(E51="Kataforez",N(Q51)*F51,IF(E51="Yaş boya",ROUNDUP(F51/MAX(1,ROUND(IF(ISNUMBER(Q51),Q51,Parametreler!$B$11),0)),0)*Parametreler!$B$10,0)) -> 1131.6156
A52: 543391 | B52: Yatay Hat Boru Orta Tutucu Ayarlı Kaynak 1 | C52: A.2 | D52: Resimden tahmin | E52: Yaş boya | F52: 61 | G52: 4.125 | H52: =INDEX('Sac Özet'!$L$5:$L$199,MATCH($A52&"",'Sac Özet'!$A$5:$A$199,0)) -> 1.4865985 | I52: =INDEX('Sac Özet'!$M$5:$M$199,MATCH($A52&"",'Sac Özet'!$A$5:$A$199,0)) -> 0.26758774 | J52: =INDEX('Sac Özet'!$N$5:$N$199,MATCH($A52&"",'Sac Özet'!$A$5:$A$199,0)) -> 1.1017047 | K52: =SUMPRODUCT((--'Satınalma Parçaları'!$A$2:$A$107=--$A52)*'Satınalma Parçaları'!$L$2:$L$107) -> 3.66 | L52: =J52+N(K52) -> 4.7617047 | M52: =AE52/100*Parametreler!$B$7 -> 1.081 | N52: =AF52/100*Parametreler!$B$8 -> 2.0825 | O52: =AG52/100*Parametreler!$B$9 -> 0.96 | P52: =SUM(M52:O52) -> 4.1235 | Q52: =VLOOKUP($A52,'Yaş Boya Listesi'!$B$6:$L$131,11,FALSE()) -> 10 | R52: =IF(E52="Kataforez",N(Q52),IF(E52="Yaş boya",Parametreler!$B$10/MAX(1,ROUND(IF(ISNUMBER(Q52),Q52,Parametreler!$B$11),0)),0)) -> 8 | S52: =L52+P52+R52 -> 16.885205 | T52: =IF(S52=0,0,L52/S52) -> 0.28200456 | U52: =IF(S52=0,0,P52/S52) -> 0.24420788 | V52: =IF(S52=0,0,R52/S52) -> 0.47378756 | W52: =SUM(AE52:AG52)/100*F52 -> 12.576675 | X52: =IF($G52=0,0,J52/$G52) -> 0.26707992 | Y52: =IF($G52=0,0,S52/$G52) -> 4.0933829 | Z52: =IF($G52=0,0,L52/$G52) -> 1.1543526 | AA52: =S52*Parametreler!$B$12 -> 24.145843 | AB52: =AA52*F52 -> 1472.8964 | AC52: 543392 BORU Ø63,5X5MM L=406mm ×1 | AD52: STEP yok – resimden tahmin · 1 satınalma kalemi | AE52: =INDEX('İşçilik Özet'!$W$6:$W$200,MATCH($A52&"",'İşçilik Özet'!$A$6:$A$200,0)) -> 5.405 | AF52: =INDEX('İşçilik Özet'!$X$6:$X$200,MATCH($A52&"",'İşçilik Özet'!$A$6:$A$200,0)) -> 10.4125 | AG52: =INDEX('İşçilik Özet'!$Y$6:$Y$200,MATCH($A52&"",'İşçilik Özet'!$A$6:$A$200,0)) -> 4.8 | AH52: =(L52+P52)*F52+IF(E52="Kataforez",N(Q52)*F52,IF(E52="Yaş boya",ROUNDUP(F52/MAX(1,ROUND(IF(ISNUMBER(Q52),Q52,Parametreler!$B$11),0)),0)*Parametreler!$B$10,0)) -> 1101.9975
A53: 103626 | B53: H40 Kaide Boru Tutucu | C53: A.3 | D53: Resimden tahmin | E53: Yaş boya | F53: 58 | G53: 4.562 | H53: =INDEX('Sac Özet'!$L$5:$L$199,MATCH($A53&"",'Sac Özet'!$A$5:$A$199,0)) -> 5.7647465 | I53: =INDEX('Sac Özet'!$M$5:$M$199,MATCH($A53&"",'Sac Özet'!$A$5:$A$199,0)) -> 1.2028289 | J53: =INDEX('Sac Özet'!$N$5:$N$199,MATCH($A53&"",'Sac Özet'!$A$5:$A$199,0)) -> 4.2181441 | K53: =SUMPRODUCT((--'Satınalma Parçaları'!$A$2:$A$107=--$A53)*'Satınalma Parçaları'!$L$2:$L$107) -> 0 | L53: =J53+N(K53) -> 4.2181441 | M53: =AE53/100*Parametreler!$B$7 -> 1.081 | N53: =AF53/100*Parametreler!$B$8 -> 2.5825 | O53: =AG53/100*Parametreler!$B$9 -> 2.288 | P53: =SUM(M53:O53) -> 5.9515 | Q53: =VLOOKUP($A53,'Yaş Boya Listesi'!$B$6:$L$131,11,FALSE()) -> 10 | R53: =IF(E53="Kataforez",N(Q53),IF(E53="Yaş boya",Parametreler!$B$10/MAX(1,ROUND(IF(ISNUMBER(Q53),Q53,Parametreler!$B$11),0)),0)) -> 8 | S53: =L53+P53+R53 -> 18.169644 | T53: =IF(S53=0,0,L53/S53) -> 0.23215337 | U53: =IF(S53=0,0,P53/S53) -> 0.32755182 | V53: =IF(S53=0,0,R53/S53) -> 0.44029481 | W53: =SUM(AE53:AG53)/100*F53 -> 17.25935 | X53: =IF($G53=0,0,J53/$G53) -> 0.92462606 | Y53: =IF($G53=0,0,S53/$G53) -> 3.9828242 | Z53: =IF($G53=0,0,L53/$G53) -> 0.92462606 | AA53: =S53*Parametreler!$B$12 -> 25.982591 | AB53: =AA53*F53 -> 1506.9903 | AD53: STEP yok – resimden tahmin | AE53: =INDEX('İşçilik Özet'!$W$6:$W$200,MATCH($A53&"",'İşçilik Özet'!$A$6:$A$200,0)) -> 5.405 | AF53: =INDEX('İşçilik Özet'!$X$6:$X$200,MATCH($A53&"",'İşçilik Özet'!$A$6:$A$200,0)) -> 12.9125 | AG53: =INDEX('İşçilik Özet'!$Y$6:$Y$200,MATCH($A53&"",'İşçilik Özet'!$A$6:$A$200,0)) -> 11.44 | AH53: =(L53+P53)*F53+IF(E53="Kataforez",N(Q53)*F53,IF(E53="Yaş boya",ROUNDUP(F53/MAX(1,ROUND(IF(ISNUMBER(Q53),Q53,Parametreler!$B$11),0)),0)*Parametreler!$B$10,0)) -> 1069.8394
A54: 394275 | B54: Zincir Koruma Kapağı | C54: B.2 | D54: Resimden tahmin | E54: Yaş boya | F54: 112 | G54: 0.453 | H54: =INDEX('Sac Özet'!$L$5:$L$199,MATCH($A54&"",'Sac Özet'!$A$5:$A$199,0)) -> 0.5600289 | I54: =INDEX('Sac Özet'!$M$5:$M$199,MATCH($A54&"",'Sac Özet'!$A$5:$A$199,0)) -> 0.10701325 | J54: =INDEX('Sac Özet'!$N$5:$N$199,MATCH($A54&"",'Sac Özet'!$A$5:$A$199,0)) -> 0.4130006 | K54: =SUMPRODUCT((--'Satınalma Parçaları'!$A$2:$A$107=--$A54)*'Satınalma Parçaları'!$L$2:$L$107) -> 0 | L54: =J54+N(K54) -> 0.4130006 | M54: =AE54/100*Parametreler!$B$7 -> 1.311 | N54: =AF54/100*Parametreler!$B$8 -> 2.0825 | O54: =AG54/100*Parametreler!$B$9 -> 0.82 | P54: =SUM(M54:O54) -> 4.2135 | Q54: =VLOOKUP($A54,'Yaş Boya Listesi'!$B$6:$L$131,11,FALSE()) -> 20 | R54: =IF(E54="Kataforez",N(Q54),IF(E54="Yaş boya",Parametreler!$B$10/MAX(1,ROUND(IF(ISNUMBER(Q54),Q54,Parametreler!$B$11),0)),0)) -> 4 | S54: =L54+P54+R54 -> 8.6265006 | T54: =IF(S54=0,0,L54/S54) -> 0.047875798 | U54: =IF(S54=0,0,P54/S54) -> 0.48843676 | V54: =IF(S54=0,0,R54/S54) -> 0.46368744 | W54: =SUM(AE54:AG54)/100*F54 -> 23.5956 | X54: =IF($G54=0,0,J54/$G54) -> 0.91170111 | Y54: =IF($G54=0,0,S54/$G54) -> 19.043048 | Z54: =IF($G54=0,0,L54/$G54) -> 0.91170111 | AA54: =S54*Parametreler!$B$12 -> 12.335896 | AB54: =AA54*F54 -> 1381.6203 | AD54: STEP yok – resimden tahmin | AE54: =INDEX('İşçilik Özet'!$W$6:$W$200,MATCH($A54&"",'İşçilik Özet'!$A$6:$A$200,0)) -> 6.555 | AF54: =INDEX('İşçilik Özet'!$X$6:$X$200,MATCH($A54&"",'İşçilik Özet'!$A$6:$A$200,0)) -> 10.4125 | AG54: =INDEX('İşçilik Özet'!$Y$6:$Y$200,MATCH($A54&"",'İşçilik Özet'!$A$6:$A$200,0)) -> 4.1 | AH54: =(L54+P54)*F54+IF(E54="Kataforez",N(Q54)*F54,IF(E54="Yaş boya",ROUNDUP(F54/MAX(1,ROUND(IF(ISNUMBER(Q54),Q54,Parametreler!$B$11),0)),0)*Parametreler!$B$10,0)) -> 998.16807
A55: 105140 | B55: H47 Pedestal Kule Beton Hat Merkezleme Parçası | C55: A.4 | D55: STEP | E55: Yaş boya | F55: 32 | G55: 11.007 | H55: =INDEX('Sac Özet'!$L$5:$L$199,MATCH($A55&"",'Sac Özet'!$A$5:$A$199,0)) -> 12.205243 | I55: =INDEX('Sac Özet'!$M$5:$M$199,MATCH($A55&"",'Sac Özet'!$A$5:$A$199,0)) -> 1.0486972 | J55: =INDEX('Sac Özet'!$N$5:$N$199,MATCH($A55&"",'Sac Özet'!$A$5:$A$199,0)) -> 9.4209842 | K55: =SUMPRODUCT((--'Satınalma Parçaları'!$A$2:$A$107=--$A55)*'Satınalma Parçaları'!$L$2:$L$107) -> 0 | L55: =J55+N(K55) -> 9.4209842 | M55: =AE55/100*Parametreler!$B$7 -> 0 | N55: =AF55/100*Parametreler!$B$8 -> 3.0825 | O55: =AG55/100*Parametreler!$B$9 -> 5.0672 | P55: =SUM(M55:O55) -> 8.1497 | Q55: =VLOOKUP($A55,'Yaş Boya Listesi'!$B$6:$L$131,11,FALSE()) -> 6 | R55: =IF(E55="Kataforez",N(Q55),IF(E55="Yaş boya",Parametreler!$B$10/MAX(1,ROUND(IF(ISNUMBER(Q55),Q55,Parametreler!$B$11),0)),0)) -> 13.333333 | S55: =L55+P55+R55 -> 30.904018 | T55: =IF(S55=0,0,L55/S55) -> 0.30484659 | U55: =IF(S55=0,0,P55/S55) -> 0.26371005 | V55: =IF(S55=0,0,R55/S55) -> 0.43144336 | W55: =SUM(AE55:AG55)/100*F55 -> 13.03952 | X55: =IF($G55=0,0,J55/$G55) -> 0.85590844 | Y55: =IF($G55=0,0,S55/$G55) -> 2.8076694 | Z55: =IF($G55=0,0,L55/$G55) -> 0.85590844 | AA55: =S55*Parametreler!$B$12 -> 44.192745 | AB55: =AA55*F55 -> 1414.1678 | AE55: =INDEX('İşçilik Özet'!$W$6:$W$200,MATCH($A55&"",'İşçilik Özet'!$A$6:$A$200,0)) -> 0 | AF55: =INDEX('İşçilik Özet'!$X$6:$X$200,MATCH($A55&"",'İşçilik Özet'!$A$6:$A$200,0)) -> 15.4125 | AG55: =INDEX('İşçilik Özet'!$Y$6:$Y$200,MATCH($A55&"",'İşçilik Özet'!$A$6:$A$200,0)) -> 25.336 | AH55: =(L55+P55)*F55+IF(E55="Kataforez",N(Q55)*F55,IF(E55="Yaş boya",ROUNDUP(F55/MAX(1,ROUND(IF(ISNUMBER(Q55),Q55,Parametreler!$B$11),0)),0)*Parametreler!$B$10,0)) -> 1042.2619
A56: 120268 | B56: H43-H47 Arka Ayak Kilidi Sol | C56: B.2 | D56: Resimden tahmin | E56: Kataforez | F56: 37 | G56: 8.001 | H56: =INDEX('Sac Özet'!$L$5:$L$199,MATCH($A56&"",'Sac Özet'!$A$5:$A$199,0)) -> 5.830587 | I56: =INDEX('Sac Özet'!$M$5:$M$199,MATCH($A56&"",'Sac Özet'!$A$5:$A$199,0)) -> 1.0646322 | J56: =INDEX('Sac Özet'!$N$5:$N$199,MATCH($A56&"",'Sac Özet'!$A$5:$A$199,0)) -> 4.3160445 | K56: =SUMPRODUCT((--'Satınalma Parçaları'!$A$2:$A$107=--$A56)*'Satınalma Parçaları'!$L$2:$L$107) -> 0 | L56: =J56+N(K56) -> 4.3160445 | M56: =AE56/100*Parametreler!$B$7 -> 1.311 | N56: =AF56/100*Parametreler!$B$8 -> 5.3325 | O56: =AG56/100*Parametreler!$B$9 -> 5.6 | P56: =SUM(M56:O56) -> 12.2435 | Q56: =IFERROR(INDEX('Kataforez Teklifleri'!$G$6:$G$50,MATCH($A56&"",'Kataforez Teklifleri'!$A$6:$A$50,0)),"") -> 6.54 | R56: =IF(E56="Kataforez",N(Q56),IF(E56="Yaş boya",Parametreler!$B$10/MAX(1,ROUND(IF(ISNUMBER(Q56),Q56,Parametreler!$B$11),0)),0)) -> 6.54 | S56: =L56+P56+R56 -> 23.099545 | T56: =IF(S56=0,0,L56/S56) -> 0.18684544 | U56: =IF(S56=0,0,P56/S56) -> 0.5300321 | V56: =IF(S56=0,0,R56/S56) -> 0.28312247 | W56: =SUM(AE56:AG56)/100*F56 -> 22.650475 | X56: =IF($G56=0,0,J56/$G56) -> 0.53943814 | Y56: =IF($G56=0,0,S56/$G56) -> 2.8870822 | Z56: =IF($G56=0,0,L56/$G56) -> 0.53943814 | AA56: =S56*Parametreler!$B$12 -> 33.032349 | AB56: =AA56*F56 -> 1222.1969 | AC56: H411.00160 AYAK KILIDI YENİ TIP ×1 | AD56: STEP VE ALT RESİM DETAYLARI GEREKİYOR. | AE56: =INDEX('İşçilik Özet'!$W$6:$W$200,MATCH($A56&"",'İşçilik Özet'!$A$6:$A$200,0)) -> 6.555 | AF56: =INDEX('İşçilik Özet'!$X$6:$X$200,MATCH($A56&"",'İşçilik Özet'!$A$6:$A$200,0)) -> 26.6625 | AG56: =INDEX('İşçilik Özet'!$Y$6:$Y$200,MATCH($A56&"",'İşçilik Özet'!$A$6:$A$200,0)) -> 28 | AH56: =(L56+P56)*F56+IF(E56="Kataforez",N(Q56)*F56,IF(E56="Yaş boya",ROUNDUP(F56/MAX(1,ROUND(IF(ISNUMBER(Q56),Q56,Parametreler!$B$11),0)),0)*Parametreler!$B$10,0)) -> 854.68315
A57: 120281 | B57: H43-47 Arka Ayak Kilidi Sağ Montaj | C57: B.2 | D57: Resimden tahmin | E57: Kataforez | F57: 37 | G57: 8.001 | H57: =INDEX('Sac Özet'!$L$5:$L$199,MATCH($A57&"",'Sac Özet'!$A$5:$A$199,0)) -> 5.830587 | I57: =INDEX('Sac Özet'!$M$5:$M$199,MATCH($A57&"",'Sac Özet'!$A$5:$A$199,0)) -> 1.0646322 | J57: =INDEX('Sac Özet'!$N$5:$N$199,MATCH($A57&"",'Sac Özet'!$A$5:$A$199,0)) -> 4.3160445 | K57: =SUMPRODUCT((--'Satınalma Parçaları'!$A$2:$A$107=--$A57)*'Satınalma Parçaları'!$L$2:$L$107) -> 0 | L57: =J57+N(K57) -> 4.3160445 | M57: =AE57/100*Parametreler!$B$7 -> 1.311 | N57: =AF57/100*Parametreler!$B$8 -> 5.3325 | O57: =AG57/100*Parametreler!$B$9 -> 5.6 | P57: =SUM(M57:O57) -> 12.2435 | Q57: =IFERROR(INDEX('Kataforez Teklifleri'!$G$6:$G$50,MATCH($A57&"",'Kataforez Teklifleri'!$A$6:$A$50,0)),"") -> 6.54 | R57: =IF(E57="Kataforez",N(Q57),IF(E57="Yaş boya",Parametreler!$B$10/MAX(1,ROUND(IF(ISNUMBER(Q57),Q57,Parametreler!$B$11),0)),0)) -> 6.54 | S57: =L57+P57+R57 -> 23.099545 | T57: =IF(S57=0,0,L57/S57) -> 0.18684544 | U57: =IF(S57=0,0,P57/S57) -> 0.5300321 | V57: =IF(S57=0,0,R57/S57) -> 0.28312247 | W57: =SUM(AE57:AG57)/100*F57 -> 22.650475 | X57: =IF($G57=0,0,J57/$G57) -> 0.53943814 | Y57: =IF($G57=0,0,S57/$G57) -> 2.8870822 | Z57: =IF($G57=0,0,L57/$G57) -> 0.53943814 | AA57: =S57*Parametreler!$B$12 -> 33.032349 | AB57: =AA57*F57 -> 1222.1969 | AC57: H411.00160 AYAK KILIDI YENİ TIP ×1 | AD57: STEP VE ALT RESİM DETAYLARI GEREKİYOR. | AE57: =INDEX('İşçilik Özet'!$W$6:$W$200,MATCH($A57&"",'İşçilik Özet'!$A$6:$A$200,0)) -> 6.555 | AF57: =INDEX('İşçilik Özet'!$X$6:$X$200,MATCH($A57&"",'İşçilik Özet'!$A$6:$A$200,0)) -> 26.6625 | AG57: =INDEX('İşçilik Özet'!$Y$6:$Y$200,MATCH($A57&"",'İşçilik Özet'!$A$6:$A$200,0)) -> 28 | AH57: =(L57+P57)*F57+IF(E57="Kataforez",N(Q57)*F57,IF(E57="Yaş boya",ROUNDUP(F57/MAX(1,ROUND(IF(ISNUMBER(Q57),Q57,Parametreler!$B$11),0)),0)*Parametreler!$B$10,0)) -> 854.68315
A58: 709898 | B58: H43 - H47 Dişli Koruma Tutucu | C58: A.2 | D58: Resimden tahmin | E58: Yaş boya | F58: 108 | G58: 1.054 | H58: =INDEX('Sac Özet'!$L$5:$L$199,MATCH($A58&"",'Sac Özet'!$A$5:$A$199,0)) -> 1.3250351 | I58: =INDEX('Sac Özet'!$M$5:$M$199,MATCH($A58&"",'Sac Özet'!$A$5:$A$199,0)) -> 0.27099986 | J58: =INDEX('Sac Özet'!$N$5:$N$199,MATCH($A58&"",'Sac Özet'!$A$5:$A$199,0)) -> 0.97133718 | K58: =SUMPRODUCT((--'Satınalma Parçaları'!$A$2:$A$107=--$A58)*'Satınalma Parçaları'!$L$2:$L$107) -> 0 | L58: =J58+N(K58) -> 0.97133718 | M58: =AE58/100*Parametreler!$B$7 -> 0 | N58: =AF58/100*Parametreler!$B$8 -> 1.8325 | O58: =AG58/100*Parametreler!$B$9 -> 0.554 | P58: =SUM(M58:O58) -> 2.3865 | Q58: =VLOOKUP($A58,'Yaş Boya Listesi'!$B$6:$L$131,11,FALSE()) -> 20 | R58: =IF(E58="Kataforez",N(Q58),IF(E58="Yaş boya",Parametreler!$B$10/MAX(1,ROUND(IF(ISNUMBER(Q58),Q58,Parametreler!$B$11),0)),0)) -> 4 | S58: =L58+P58+R58 -> 7.3578372 | T58: =IF(S58=0,0,L58/S58) -> 0.13201395 | U58: =IF(S58=0,0,P58/S58) -> 0.32434803 | V58: =IF(S58=0,0,R58/S58) -> 0.54363801 | W58: =SUM(AE58:AG58)/100*F58 -> 12.8871 | X58: =IF($G58=0,0,J58/$G58) -> 0.92157228 | Y58: =IF($G58=0,0,S58/$G58) -> 6.9808702 | Z58: =IF($G58=0,0,L58/$G58) -> 0.92157228 | AA58: =S58*Parametreler!$B$12 -> 10.521707 | AB58: =AA58*F58 -> 1136.3444 | AD58: STEP yok – resimden tahmin | AE58: =INDEX('İşçilik Özet'!$W$6:$W$200,MATCH($A58&"",'İşçilik Özet'!$A$6:$A$200,0)) -> 0 | AF58: =INDEX('İşçilik Özet'!$X$6:$X$200,MATCH($A58&"",'İşçilik Özet'!$A$6:$A$200,0)) -> 9.1625 | AG58: =INDEX('İşçilik Özet'!$Y$6:$Y$200,MATCH($A58&"",'İşçilik Özet'!$A$6:$A$200,0)) -> 2.77 | AH58: =(L58+P58)*F58+IF(E58="Kataforez",N(Q58)*F58,IF(E58="Yaş boya",ROUNDUP(F58/MAX(1,ROUND(IF(ISNUMBER(Q58),Q58,Parametreler!$B$11),0)),0)*Parametreler!$B$10,0)) -> 842.64642
A59: 561769 | B59: Konvertör Sehpası Arka Sacı | C59: A.2 | D59: Resimden tahmin | E59: Yok | F59: 93 | G59: 2.721 | H59: =INDEX('Sac Özet'!$L$5:$L$199,MATCH($A59&"",'Sac Özet'!$A$5:$A$199,0)) -> 3.3534985 | I59: =INDEX('Sac Özet'!$M$5:$M$199,MATCH($A59&"",'Sac Özet'!$A$5:$A$199,0)) -> 0.66248712 | J59: =INDEX('Sac Özet'!$N$5:$N$199,MATCH($A59&"",'Sac Özet'!$A$5:$A$199,0)) -> 2.4659849 | K59: =SUMPRODUCT((--'Satınalma Parçaları'!$A$2:$A$107=--$A59)*'Satınalma Parçaları'!$L$2:$L$107) -> 0.071272727 | L59: =J59+N(K59) -> 2.5372576 | M59: =AE59/100*Parametreler!$B$7 -> 1.541 | N59: =AF59/100*Parametreler!$B$8 -> 2.8325 | O59: =AG59/100*Parametreler!$B$9 -> 1.66 | P59: =SUM(M59:O59) -> 6.0335 | R59: =IF(E59="Kataforez",N(Q59),IF(E59="Yaş boya",Parametreler!$B$10/MAX(1,ROUND(IF(ISNUMBER(Q59),Q59,Parametreler!$B$11),0)),0)) -> 0 | S59: =L59+P59+R59 -> 8.5707576 | T59: =IF(S59=0,0,L59/S59) -> 0.29603656 | U59: =IF(S59=0,0,P59/S59) -> 0.70396344 | V59: =IF(S59=0,0,R59/S59) -> 0 | W59: =SUM(AE59:AG59)/100*F59 -> 28.055775 | X59: =IF($G59=0,0,J59/$G59) -> 0.90627889 | Y59: =IF($G59=0,0,S59/$G59) -> 3.1498558 | Z59: =IF($G59=0,0,L59/$G59) -> 0.93247247 | AA59: =S59*Parametreler!$B$12 -> 12.256183 | AB59: =AA59*F59 -> 1139.8251 | AC59: H900.00267 SOMUN M12 DUZ BEYAZ DIN934 ×2 | AD59: STEP yok – resimden tahmin · 1 satınalma kalemi | AE59: =INDEX('İşçilik Özet'!$W$6:$W$200,MATCH($A59&"",'İşçilik Özet'!$A$6:$A$200,0)) -> 7.705 | AF59: =INDEX('İşçilik Özet'!$X$6:$X$200,MATCH($A59&"",'İşçilik Özet'!$A$6:$A$200,0)) -> 14.1625 | AG59: =INDEX('İşçilik Özet'!$Y$6:$Y$200,MATCH($A59&"",'İşçilik Özet'!$A$6:$A$200,0)) -> 8.3 | AH59: =(L59+P59)*F59+IF(E59="Kataforez",N(Q59)*F59,IF(E59="Yaş boya",ROUNDUP(F59/MAX(1,ROUND(IF(ISNUMBER(Q59),Q59,Parametreler!$B$11),0)),0)*Parametreler!$B$10,0)) -> 797.08045
A60: 109189 | B60: H37-5 Arka Bom Desteği | C60: A.5 | D60: STEP | E60: Kataforez | F60: 5 | G60: 45.994 | H60: =INDEX('Sac Özet'!$L$5:$L$199,MATCH($A60&"",'Sac Özet'!$A$5:$A$199,0)) -> 99.175197 | I60: =INDEX('Sac Özet'!$M$5:$M$199,MATCH($A60&"",'Sac Özet'!$A$5:$A$199,0)) -> 53.171284 | J60: =INDEX('Sac Özet'!$N$5:$N$199,MATCH($A60&"",'Sac Özet'!$A$5:$A$199,0)) -> 61.938646 | K60: =SUMPRODUCT((--'Satınalma Parçaları'!$A$2:$A$107=--$A60)*'Satınalma Parçaları'!$L$2:$L$107) -> 0.029454545 | L60: =J60+N(K60) -> 61.968101 | M60: =AE60/100*Parametreler!$B$7 -> 9.81525 | N60: =AF60/100*Parametreler!$B$8 -> 9.75 | O60: =AG60/100*Parametreler!$B$9 -> 39.5064 | P60: =SUM(M60:O60) -> 59.07165 | Q60: =IFERROR(INDEX('Kataforez Teklifleri'!$G$6:$G$50,MATCH($A60&"",'Kataforez Teklifleri'!$A$6:$A$50,0)),"") -> 37.38 | R60: =IF(E60="Kataforez",N(Q60),IF(E60="Yaş boya",Parametreler!$B$10/MAX(1,ROUND(IF(ISNUMBER(Q60),Q60,Parametreler!$B$11),0)),0)) -> 37.38 | S60: =L60+P60+R60 -> 158.41975 | T60: =IF(S60=0,0,L60/S60) -> 0.39116398 | U60: =IF(S60=0,0,P60/S60) -> 0.37288059 | V60: =IF(S60=0,0,R60/S60) -> 0.23595543 | W60: =SUM(AE60:AG60)/100*F60 -> 14.767912 | X60: =IF($G60=0,0,J60/$G60) -> 1.346668 | Y60: =IF($G60=0,0,S60/$G60) -> 3.4443569 | Z60: =IF($G60=0,0,L60/$G60) -> 1.3473084 | AA60: =S60*Parametreler!$B$12 -> 226.54024 | AB60: =AA60*F60 -> 1132.7012 | AC60: H900.00017 DIN934 M8 Somun ×3 | AD60: 1 satınalma kalemi | AE60: =INDEX('İşçilik Özet'!$W$6:$W$200,MATCH($A60&"",'İşçilik Özet'!$A$6:$A$200,0)) -> 49.07625 | AF60: =INDEX('İşçilik Özet'!$X$6:$X$200,MATCH($A60&"",'İşçilik Özet'!$A$6:$A$200,0)) -> 48.75 | AG60: =INDEX('İşçilik Özet'!$Y$6:$Y$200,MATCH($A60&"",'İşçilik Özet'!$A$6:$A$200,0)) -> 197.532 | AH60: =(L60+P60)*F60+IF(E60="Kataforez",N(Q60)*F60,IF(E60="Yaş boya",ROUNDUP(F60/MAX(1,ROUND(IF(ISNUMBER(Q60),Q60,Parametreler!$B$11),0)),0)*Parametreler!$B$10,0)) -> 792.09875
A61: 672365 | B61: BH-65 H40 Su Kutusu Askı Sacı | C61: A.3 | D61: STEP | E61: Yok | F61: 56 | G61: 14.028 | H61: =INDEX('Sac Özet'!$L$5:$L$199,MATCH($A61&"",'Sac Özet'!$A$5:$A$199,0)) -> 17.83677 | I61: =INDEX('Sac Özet'!$M$5:$M$199,MATCH($A61&"",'Sac Özet'!$A$5:$A$199,0)) -> 7.7081505 | J61: =INDEX('Sac Özet'!$N$5:$N$199,MATCH($A61&"",'Sac Özet'!$A$5:$A$199,0)) -> 11.746749 | K61: =SUMPRODUCT((--'Satınalma Parçaları'!$A$2:$A$107=--$A61)*'Satınalma Parçaları'!$L$2:$L$107) -> 0 | L61: =J61+N(K61) -> 11.746749 | M61: =AE61/100*Parametreler!$B$7 -> 0 | N61: =AF61/100*Parametreler!$B$8 -> 3.0825 | O61: =AG61/100*Parametreler!$B$9 -> 0 | P61: =SUM(M61:O61) -> 3.0825 | R61: =IF(E61="Kataforez",N(Q61),IF(E61="Yaş boya",Parametreler!$B$10/MAX(1,ROUND(IF(ISNUMBER(Q61),Q61,Parametreler!$B$11),0)),0)) -> 0 | S61: =L61+P61+R61 -> 14.829249 | T61: =IF(S61=0,0,L61/S61) -> 0.79213377 | U61: =IF(S61=0,0,P61/S61) -> 0.20786623 | V61: =IF(S61=0,0,R61/S61) -> 0 | W61: =SUM(AE61:AG61)/100*F61 -> 8.631 | X61: =IF($G61=0,0,J61/$G61) -> 0.83737871 | Y61: =IF($G61=0,0,S61/$G61) -> 1.0571178 | Z61: =IF($G61=0,0,L61/$G61) -> 0.83737871 | AA61: =S61*Parametreler!$B$12 -> 21.205825 | AB61: =AA61*F61 -> 1187.5262 | AC61: 232731_AF0 Aski Sag-Sol Takoz Kaynak Kanalli bileşeni ×2; 232735_AF0 Aski Sag-Sol Takoz Kaynak Kanalli bileşeni ×2 | AD61: 2 satınalma kalemi | AE61: =INDEX('İşçilik Özet'!$W$6:$W$200,MATCH($A61&"",'İşçilik Özet'!$A$6:$A$200,0)) -> 0 | AF61: =INDEX('İşçilik Özet'!$X$6:$X$200,MATCH($A61&"",'İşçilik Özet'!$A$6:$A$200,0)) -> 15.4125 | AG61: =INDEX('İşçilik Özet'!$Y$6:$Y$200,MATCH($A61&"",'İşçilik Özet'!$A$6:$A$200,0)) -> 0 | AH61: =(L61+P61)*F61+IF(E61="Kataforez",N(Q61)*F61,IF(E61="Yaş boya",ROUNDUP(F61/MAX(1,ROUND(IF(ISNUMBER(Q61),Q61,Parametreler!$B$11),0)),0)*Parametreler!$B$10,0)) -> 830.43792
A62: 707775 | B62: H40 Arka Bom Desteği Yatay Hat Tutucu | C62: A.8 | D62: STEP | E62: Yaş boya | F62: 16 | G62: 10.012 | H62: =INDEX('Sac Özet'!$L$5:$L$199,MATCH($A62&"",'Sac Özet'!$A$5:$A$199,0)) -> 17.497705 | I62: =INDEX('Sac Özet'!$M$5:$M$199,MATCH($A62&"",'Sac Özet'!$A$5:$A$199,0)) -> 7.485061 | J62: =INDEX('Sac Özet'!$N$5:$N$199,MATCH($A62&"",'Sac Özet'!$A$5:$A$199,0)) -> 11.548507 | K62: =SUMPRODUCT((--'Satınalma Parçaları'!$A$2:$A$107=--$A62)*'Satınalma Parçaları'!$L$2:$L$107) -> 0 | L62: =J62+N(K62) -> 11.548507 | M62: =AE62/100*Parametreler!$B$7 -> 3.45575 | N62: =AF62/100*Parametreler!$B$8 -> 2.3325 | O62: =AG62/100*Parametreler!$B$9 -> 3.2082 | P62: =SUM(M62:O62) -> 8.99645 | Q62: =VLOOKUP($A62,'Yaş Boya Listesi'!$B$6:$L$131,11,FALSE()) -> 3 | R62: =IF(E62="Kataforez",N(Q62),IF(E62="Yaş boya",Parametreler!$B$10/MAX(1,ROUND(IF(ISNUMBER(Q62),Q62,Parametreler!$B$11),0)),0)) -> 26.666667 | S62: =L62+P62+R62 -> 47.211624 | T62: =IF(S62=0,0,L62/S62) -> 0.24461153 | U62: =IF(S62=0,0,P62/S62) -> 0.19055583 | V62: =IF(S62=0,0,R62/S62) -> 0.56483265 | W62: =SUM(AE62:AG62)/100*F62 -> 7.19716 | X62: =IF($G62=0,0,J62/$G62) -> 1.1534666 | Y62: =IF($G62=0,0,S62/$G62) -> 4.7155038 | Z62: =IF($G62=0,0,L62/$G62) -> 1.1534666 | AA62: =S62*Parametreler!$B$12 -> 67.512622 | AB62: =AA62*F62 -> 1080.202 | AE62: =INDEX('İşçilik Özet'!$W$6:$W$200,MATCH($A62&"",'İşçilik Özet'!$A$6:$A$200,0)) -> 17.27875 | AF62: =INDEX('İşçilik Özet'!$X$6:$X$200,MATCH($A62&"",'İşçilik Özet'!$A$6:$A$200,0)) -> 11.6625 | AG62: =INDEX('İşçilik Özet'!$Y$6:$Y$200,MATCH($A62&"",'İşçilik Özet'!$A$6:$A$200,0)) -> 16.041 | AH62: =(L62+P62)*F62+IF(E62="Kataforez",N(Q62)*F62,IF(E62="Yaş boya",ROUNDUP(F62/MAX(1,ROUND(IF(ISNUMBER(Q62),Q62,Parametreler!$B$11),0)),0)*Parametreler!$B$10,0)) -> 808.71932
A63: 106253 | B63: Boru Bağlantı Ara DESTEĞİ-2 | C63: A.5 | D63: Resimden tahmin | E63: Yaş boya | F63: 50 | G63: 3.132 | H63: =INDEX('Sac Özet'!$L$5:$L$199,MATCH($A63&"",'Sac Özet'!$A$5:$A$199,0)) -> 3.9550748 | I63: =INDEX('Sac Özet'!$M$5:$M$199,MATCH($A63&"",'Sac Özet'!$A$5:$A$199,0)) -> 0.82306613 | J63: =INDEX('Sac Özet'!$N$5:$N$199,MATCH($A63&"",'Sac Özet'!$A$5:$A$199,0)) -> 2.8946928 | K63: =SUMPRODUCT((--'Satınalma Parçaları'!$A$2:$A$107=--$A63)*'Satınalma Parçaları'!$L$2:$L$107) -> 0 | L63: =J63+N(K63) -> 2.8946928 | M63: =AE63/100*Parametreler!$B$7 -> 1.311 | N63: =AF63/100*Parametreler!$B$8 -> 1.8325 | O63: =AG63/100*Parametreler!$B$9 -> 0.73 | P63: =SUM(M63:O63) -> 3.8735 | Q63: =VLOOKUP($A63,'Yaş Boya Listesi'!$B$6:$L$131,11,FALSE()) -> 10 | R63: =IF(E63="Kataforez",N(Q63),IF(E63="Yaş boya",Parametreler!$B$10/MAX(1,ROUND(IF(ISNUMBER(Q63),Q63,Parametreler!$B$11),0)),0)) -> 8 | S63: =L63+P63+R63 -> 14.768193 | T63: =IF(S63=0,0,L63/S63) -> 0.1960086 | U63: =IF(S63=0,0,P63/S63) -> 0.26228666 | V63: =IF(S63=0,0,R63/S63) -> 0.54170474 | W63: =SUM(AE63:AG63)/100*F63 -> 9.68375 | X63: =IF($G63=0,0,J63/$G63) -> 0.92423141 | Y63: =IF($G63=0,0,S63/$G63) -> 4.7152595 | Z63: =IF($G63=0,0,L63/$G63) -> 0.92423141 | AA63: =S63*Parametreler!$B$12 -> 21.118516 | AB63: =AA63*F63 -> 1055.9258 | AD63: STEP yok – resimden tahmin | AE63: =INDEX('İşçilik Özet'!$W$6:$W$200,MATCH($A63&"",'İşçilik Özet'!$A$6:$A$200,0)) -> 6.555 | AF63: =INDEX('İşçilik Özet'!$X$6:$X$200,MATCH($A63&"",'İşçilik Özet'!$A$6:$A$200,0)) -> 9.1625 | AG63: =INDEX('İşçilik Özet'!$Y$6:$Y$200,MATCH($A63&"",'İşçilik Özet'!$A$6:$A$200,0)) -> 3.65 | AH63: =(L63+P63)*F63+IF(E63="Kataforez",N(Q63)*F63,IF(E63="Yaş boya",ROUNDUP(F63/MAX(1,ROUND(IF(ISNUMBER(Q63),Q63,Parametreler!$B$11),0)),0)*Parametreler!$B$10,0)) -> 738.40964
A64: 109023 | B64: H40 Merkezleme Kaynak 109023 | C64: — | D64: STEP | E64: Yok | F64: 56 | G64: 10.318 | H64: =INDEX('Sac Özet'!$L$5:$L$199,MATCH($A64&"",'Sac Özet'!$A$5:$A$199,0)) -> 11.598155 | I64: =INDEX('Sac Özet'!$M$5:$M$199,MATCH($A64&"",'Sac Özet'!$A$5:$A$199,0)) -> 1.1471362 | J64: =INDEX('Sac Özet'!$N$5:$N$199,MATCH($A64&"",'Sac Özet'!$A$5:$A$199,0)) -> 8.9030978 | K64: =SUMPRODUCT((--'Satınalma Parçaları'!$A$2:$A$107=--$A64)*'Satınalma Parçaları'!$L$2:$L$107) -> 0 | L64: =J64+N(K64) -> 8.9030978 | M64: =AE64/100*Parametreler!$B$7 -> 0 | N64: =AF64/100*Parametreler!$B$8 -> 3.0825 | O64: =AG64/100*Parametreler!$B$9 -> 1.8848 | P64: =SUM(M64:O64) -> 4.9673 | R64: =IF(E64="Kataforez",N(Q64),IF(E64="Yaş boya",Parametreler!$B$10/MAX(1,ROUND(IF(ISNUMBER(Q64),Q64,Parametreler!$B$11),0)),0)) -> 0 | S64: =L64+P64+R64 -> 13.870398 | T64: =IF(S64=0,0,L64/S64) -> 0.64187761 | U64: =IF(S64=0,0,P64/S64) -> 0.35812239 | V64: =IF(S64=0,0,R64/S64) -> 0 | W64: =SUM(AE64:AG64)/100*F64 -> 13.90844 | X64: =IF($G64=0,0,J64/$G64) -> 0.86287049 | Y64: =IF($G64=0,0,S64/$G64) -> 1.3442913 | Z64: =IF($G64=0,0,L64/$G64) -> 0.86287049 | AA64: =S64*Parametreler!$B$12 -> 19.834669 | AB64: =AA64*F64 -> 1110.7415 | AE64: =INDEX('İşçilik Özet'!$W$6:$W$200,MATCH($A64&"",'İşçilik Özet'!$A$6:$A$200,0)) -> 0 | AF64: =INDEX('İşçilik Özet'!$X$6:$X$200,MATCH($A64&"",'İşçilik Özet'!$A$6:$A$200,0)) -> 15.4125 | AG64: =INDEX('İşçilik Özet'!$Y$6:$Y$200,MATCH($A64&"",'İşçilik Özet'!$A$6:$A$200,0)) -> 9.424 | AH64: =(L64+P64)*F64+IF(E64="Kataforez",N(Q64)*F64,IF(E64="Yaş boya",ROUNDUP(F64/MAX(1,ROUND(IF(ISNUMBER(Q64),Q64,Parametreler!$B$11),0)),0)*Parametreler!$B$10,0)) -> 776.74227
A65: 1251899 | B65: H58-7RRZ Bom Valf Sehpa Kaynak - 2 | C65: A.4 | D65: STEP | E65: Yaş boya | F65: 13 | G65: 18.924 | H65: =INDEX('Sac Özet'!$L$5:$L$199,MATCH($A65&"",'Sac Özet'!$A$5:$A$199,0)) -> 46.740862 | I65: =INDEX('Sac Özet'!$M$5:$M$199,MATCH($A65&"",'Sac Özet'!$A$5:$A$199,0)) -> 27.817338 | J65: =INDEX('Sac Özet'!$N$5:$N$199,MATCH($A65&"",'Sac Özet'!$A$5:$A$199,0)) -> 28.288834 | K65: =SUMPRODUCT((--'Satınalma Parçaları'!$A$2:$A$107=--$A65)*'Satınalma Parçaları'!$L$2:$L$107) -> 0 | L65: =J65+N(K65) -> 28.288834 | M65: =AE65/100*Parametreler!$B$7 -> 0 | N65: =AF65/100*Parametreler!$B$8 -> 1.5825 | O65: =AG65/100*Parametreler!$B$9 -> 3.1722 | P65: =SUM(M65:O65) -> 4.7547 | Q65: =VLOOKUP($A65,'Yaş Boya Listesi'!$B$6:$L$131,11,FALSE()) -> 4 | R65: =IF(E65="Kataforez",N(Q65),IF(E65="Yaş boya",Parametreler!$B$10/MAX(1,ROUND(IF(ISNUMBER(Q65),Q65,Parametreler!$B$11),0)),0)) -> 20 | S65: =L65+P65+R65 -> 53.043534 | T65: =IF(S65=0,0,L65/S65) -> 0.53331352 | U65: =IF(S65=0,0,P65/S65) -> 0.089637693 | V65: =IF(S65=0,0,R65/S65) -> 0.37704879 | W65: =SUM(AE65:AG65)/100*F65 -> 3.090555 | X65: =IF($G65=0,0,J65/$G65) -> 1.4948654 | Y65: =IF($G65=0,0,S65/$G65) -> 2.8029768 | Z65: =IF($G65=0,0,L65/$G65) -> 1.4948654 | AA65: =S65*Parametreler!$B$12 -> 75.852253 | AB65: =AA65*F65 -> 986.07929 | AE65: =INDEX('İşçilik Özet'!$W$6:$W$200,MATCH($A65&"",'İşçilik Özet'!$A$6:$A$200,0)) -> 0 | AF65: =INDEX('İşçilik Özet'!$X$6:$X$200,MATCH($A65&"",'İşçilik Özet'!$A$6:$A$200,0)) -> 7.9125 | AG65: =INDEX('İşçilik Özet'!$Y$6:$Y$200,MATCH($A65&"",'İşçilik Özet'!$A$6:$A$200,0)) -> 15.861 | AH65: =(L65+P65)*F65+IF(E65="Kataforez",N(Q65)*F65,IF(E65="Yaş boya",ROUNDUP(F65/MAX(1,ROUND(IF(ISNUMBER(Q65),Q65,Parametreler!$B$11),0)),0)*Parametreler!$B$10,0)) -> 749.56594
A66: 215629 | B66: H40 Yatay DESTEK-1 | C66: A.4 | D66: Resimden tahmin | E66: Yaş boya | F66: 45 | G66: 2.137 | H66: =INDEX('Sac Özet'!$L$5:$L$199,MATCH($A66&"",'Sac Özet'!$A$5:$A$199,0)) -> 2.6934726 | I66: =INDEX('Sac Özet'!$M$5:$M$199,MATCH($A66&"",'Sac Özet'!$A$5:$A$199,0)) -> 0.55645139 | J66: =INDEX('Sac Özet'!$N$5:$N$199,MATCH($A66&"",'Sac Özet'!$A$5:$A$199,0)) -> 1.9726667 | K66: =SUMPRODUCT((--'Satınalma Parçaları'!$A$2:$A$107=--$A66)*'Satınalma Parçaları'!$L$2:$L$107) -> 0 | L66: =J66+N(K66) -> 1.9726667 | M66: =AE66/100*Parametreler!$B$7 -> 1.311 | N66: =AF66/100*Parametreler!$B$8 -> 1.8325 | O66: =AG66/100*Parametreler!$B$9 -> 0.75 | P66: =SUM(M66:O66) -> 3.8935 | Q66: =VLOOKUP($A66,'Yaş Boya Listesi'!$B$6:$L$131,11,FALSE()) -> 10 | R66: =IF(E66="Kataforez",N(Q66),IF(E66="Yaş boya",Parametreler!$B$10/MAX(1,ROUND(IF(ISNUMBER(Q66),Q66,Parametreler!$B$11),0)),0)) -> 8 | S66: =L66+P66+R66 -> 13.866167 | T66: =IF(S66=0,0,L66/S66) -> 0.14226475 | U66: =IF(S66=0,0,P66/S66) -> 0.28079137 | V66: =IF(S66=0,0,R66/S66) -> 0.57694388 | W66: =SUM(AE66:AG66)/100*F66 -> 8.760375 | X66: =IF($G66=0,0,J66/$G66) -> 0.92310094 | Y66: =IF($G66=0,0,S66/$G66) -> 6.4886133 | Z66: =IF($G66=0,0,L66/$G66) -> 0.92310094 | AA66: =S66*Parametreler!$B$12 -> 19.828618 | AB66: =AA66*F66 -> 892.28783 | AD66: STEP yok – resimden tahmin | AE66: =INDEX('İşçilik Özet'!$W$6:$W$200,MATCH($A66&"",'İşçilik Özet'!$A$6:$A$200,0)) -> 6.555 | AF66: =INDEX('İşçilik Özet'!$X$6:$X$200,MATCH($A66&"",'İşçilik Özet'!$A$6:$A$200,0)) -> 9.1625 | AG66: =INDEX('İşçilik Özet'!$Y$6:$Y$200,MATCH($A66&"",'İşçilik Özet'!$A$6:$A$200,0)) -> 3.75 | AH66: =(L66+P66)*F66+IF(E66="Kataforez",N(Q66)*F66,IF(E66="Yaş boya",ROUNDUP(F66/MAX(1,ROUND(IF(ISNUMBER(Q66),Q66,Parametreler!$B$11),0)),0)*Parametreler!$B$10,0)) -> 663.9775
A67: 561773 | B67: Konvertör Sehpası | C67: A.9 | D67: Resimden tahmin | E67: Yaş boya | F67: 19 | G67: 3.844 | H67: =INDEX('Sac Özet'!$L$5:$L$199,MATCH($A67&"",'Sac Özet'!$A$5:$A$199,0)) -> 4.8719548 | I67: =INDEX('Sac Özet'!$M$5:$M$199,MATCH($A67&"",'Sac Özet'!$A$5:$A$199,0)) -> 1.0279825 | J67: =INDEX('Sac Özet'!$N$5:$N$199,MATCH($A67&"",'Sac Özet'!$A$5:$A$199,0)) -> 3.5611332 | K67: =SUMPRODUCT((--'Satınalma Parçaları'!$A$2:$A$107=--$A67)*'Satınalma Parçaları'!$L$2:$L$107) -> 0 | L67: =J67+N(K67) -> 3.5611332 | M67: =AE67/100*Parametreler!$B$7 -> 3.933 | N67: =AF67/100*Parametreler!$B$8 -> 3.0825 | O67: =AG67/100*Parametreler!$B$9 -> 1.794 | P67: =SUM(M67:O67) -> 8.8095 | Q67: =VLOOKUP($A67,'Yaş Boya Listesi'!$B$6:$L$131,11,FALSE()) -> 4 | R67: =IF(E67="Kataforez",N(Q67),IF(E67="Yaş boya",Parametreler!$B$10/MAX(1,ROUND(IF(ISNUMBER(Q67),Q67,Parametreler!$B$11),0)),0)) -> 20 | S67: =L67+P67+R67 -> 32.370633 | T67: =IF(S67=0,0,L67/S67) -> 0.11001123 | U67: =IF(S67=0,0,P67/S67) -> 0.27214482 | V67: =IF(S67=0,0,R67/S67) -> 0.61784395 | W67: =SUM(AE67:AG67)/100*F67 -> 8.369025 | X67: =IF($G67=0,0,J67/$G67) -> 0.92641342 | Y67: =IF($G67=0,0,S67/$G67) -> 8.4210804 | Z67: =IF($G67=0,0,L67/$G67) -> 0.92641342 | AA67: =S67*Parametreler!$B$12 -> 46.290005 | AB67: =AA67*F67 -> 879.5101 | AD67: STEP yok – resimden tahmin | AE67: =INDEX('İşçilik Özet'!$W$6:$W$200,MATCH($A67&"",'İşçilik Özet'!$A$6:$A$200,0)) -> 19.665 | AF67: =INDEX('İşçilik Özet'!$X$6:$X$200,MATCH($A67&"",'İşçilik Özet'!$A$6:$A$200,0)) -> 15.4125 | AG67: =INDEX('İşçilik Özet'!$Y$6:$Y$200,MATCH($A67&"",'İşçilik Özet'!$A$6:$A$200,0)) -> 8.97 | AH67: =(L67+P67)*F67+IF(E67="Kataforez",N(Q67)*F67,IF(E67="Yaş boya",ROUNDUP(F67/MAX(1,ROUND(IF(ISNUMBER(Q67),Q67,Parametreler!$B$11),0)),0)*Parametreler!$B$10,0)) -> 635.04203
A68: 1298479 | B68: H58-7RRZ Bom Valf Sehpa Kaynak - 1 | C68: A.3 | D68: STEP | E68: Yaş boya | F68: 13 | G68: 8.86 | H68: =INDEX('Sac Özet'!$L$5:$L$199,MATCH($A68&"",'Sac Özet'!$A$5:$A$199,0)) -> 10.901098 | I68: =INDEX('Sac Özet'!$M$5:$M$199,MATCH($A68&"",'Sac Özet'!$A$5:$A$199,0)) -> 2.1943729 | J68: =INDEX('Sac Özet'!$N$5:$N$199,MATCH($A68&"",'Sac Özet'!$A$5:$A$199,0)) -> 8.0027203 | K68: =SUMPRODUCT((--'Satınalma Parçaları'!$A$2:$A$107=--$A68)*'Satınalma Parçaları'!$L$2:$L$107) -> 0.094363636 | L68: =J68+N(K68) -> 8.0970839 | M68: =AE68/100*Parametreler!$B$7 -> 2.60475 | N68: =AF68/100*Parametreler!$B$8 -> 8.0825 | O68: =AG68/100*Parametreler!$B$9 -> 7.49 | P68: =SUM(M68:O68) -> 18.17725 | Q68: =VLOOKUP($A68,'Yaş Boya Listesi'!$B$6:$L$131,11,FALSE()) -> 4 | R68: =IF(E68="Kataforez",N(Q68),IF(E68="Yaş boya",Parametreler!$B$10/MAX(1,ROUND(IF(ISNUMBER(Q68),Q68,Parametreler!$B$11),0)),0)) -> 20 | S68: =L68+P68+R68 -> 46.274334 | T68: =IF(S68=0,0,L68/S68) -> 0.17498002 | U68: =IF(S68=0,0,P68/S68) -> 0.39281495 | V68: =IF(S68=0,0,R68/S68) -> 0.43220503 | W68: =SUM(AE68:AG68)/100*F68 -> 11.815212 | X68: =IF($G68=0,0,J68/$G68) -> 0.90324157 | Y68: =IF($G68=0,0,S68/$G68) -> 5.2228368 | Z68: =IF($G68=0,0,L68/$G68) -> 0.91389209 | AA68: =S68*Parametreler!$B$12 -> 66.172298 | AB68: =AA68*F68 -> 860.23987 | AC68: 323753 DIN 929 M10 Kaynak Somunu ×1; H900.00267 SOMUN M12 DUZ BEYAZ DIN934 ×2 | AD68: 2 satınalma kalemi | AE68: =INDEX('İşçilik Özet'!$W$6:$W$200,MATCH($A68&"",'İşçilik Özet'!$A$6:$A$200,0)) -> 13.02375 | AF68: =INDEX('İşçilik Özet'!$X$6:$X$200,MATCH($A68&"",'İşçilik Özet'!$A$6:$A$200,0)) -> 40.4125 | AG68: =INDEX('İşçilik Özet'!$Y$6:$Y$200,MATCH($A68&"",'İşçilik Özet'!$A$6:$A$200,0)) -> 37.45 | AH68: =(L68+P68)*F68+IF(E68="Kataforez",N(Q68)*F68,IF(E68="Yaş boya",ROUNDUP(F68/MAX(1,ROUND(IF(ISNUMBER(Q68),Q68,Parametreler!$B$11),0)),0)*Parametreler!$B$10,0)) -> 661.56634
A69: 181720 | B69: Şase Kulakları (Mack Terra Pro) | C69: A.1 | D69: Resimden tahmin | E69: Yok | F69: 80 | G69: 4.093 | H69: =INDEX('Sac Özet'!$L$5:$L$199,MATCH($A69&"",'Sac Özet'!$A$5:$A$199,0)) -> 4.9914512 | I69: =INDEX('Sac Özet'!$M$5:$M$199,MATCH($A69&"",'Sac Özet'!$A$5:$A$199,0)) -> 0.89846122 | J69: =INDEX('Sac Özet'!$N$5:$N$199,MATCH($A69&"",'Sac Özet'!$A$5:$A$199,0)) -> 3.6991191 | K69: =SUMPRODUCT((--'Satınalma Parçaları'!$A$2:$A$107=--$A69)*'Satınalma Parçaları'!$L$2:$L$107) -> 0 | L69: =J69+N(K69) -> 3.6991191 | M69: =AE69/100*Parametreler!$B$7 -> 0 | N69: =AF69/100*Parametreler!$B$8 -> 2.5825 | O69: =AG69/100*Parametreler!$B$9 -> 1.36 | P69: =SUM(M69:O69) -> 3.9425 | R69: =IF(E69="Kataforez",N(Q69),IF(E69="Yaş boya",Parametreler!$B$10/MAX(1,ROUND(IF(ISNUMBER(Q69),Q69,Parametreler!$B$11),0)),0)) -> 0 | S69: =L69+P69+R69 -> 7.6416191 | T69: =IF(S69=0,0,L69/S69) -> 0.48407531 | U69: =IF(S69=0,0,P69/S69) -> 0.51592469 | V69: =IF(S69=0,0,R69/S69) -> 0 | W69: =SUM(AE69:AG69)/100*F69 -> 15.77 | X69: =IF($G69=0,0,J69/$G69) -> 0.90376719 | Y69: =IF($G69=0,0,S69/$G69) -> 1.8669971 | Z69: =IF($G69=0,0,L69/$G69) -> 0.90376719 | AA69: =S69*Parametreler!$B$12 -> 10.927515 | AB69: =AA69*F69 -> 874.20123 | AD69: STEP yok – resimden tahmin | AE69: =INDEX('İşçilik Özet'!$W$6:$W$200,MATCH($A69&"",'İşçilik Özet'!$A$6:$A$200,0)) -> 0 | AF69: =INDEX('İşçilik Özet'!$X$6:$X$200,MATCH($A69&"",'İşçilik Özet'!$A$6:$A$200,0)) -> 12.9125 | AG69: =INDEX('İşçilik Özet'!$Y$6:$Y$200,MATCH($A69&"",'İşçilik Özet'!$A$6:$A$200,0)) -> 6.8 | AH69: =(L69+P69)*F69+IF(E69="Kataforez",N(Q69)*F69,IF(E69="Yaş boya",ROUNDUP(F69/MAX(1,ROUND(IF(ISNUMBER(Q69),Q69,Parametreler!$B$11),0)),0)*Parametreler!$B$10,0)) -> 611.32953
A70: 236288 | B70: Su Tankı Sehpası Ayağı (H=80mm) | C70: A.6 | D70: Resimden tahmin | E70: Yaş boya | F70: 40 | G70: 1.384 | H70: =INDEX('Sac Özet'!$L$5:$L$199,MATCH($A70&"",'Sac Özet'!$A$5:$A$199,0)) -> 1.7356649 | I70: =INDEX('Sac Özet'!$M$5:$M$199,MATCH($A70&"",'Sac Özet'!$A$5:$A$199,0)) -> 0.35163142 | J70: =INDEX('Sac Özet'!$N$5:$N$199,MATCH($A70&"",'Sac Özet'!$A$5:$A$199,0)) -> 1.2734526 | K70: =SUMPRODUCT((--'Satınalma Parçaları'!$A$2:$A$107=--$A70)*'Satınalma Parçaları'!$L$2:$L$107) -> 0 | L70: =J70+N(K70) -> 1.2734526 | M70: =AE70/100*Parametreler!$B$7 -> 1.311 | N70: =AF70/100*Parametreler!$B$8 -> 2.0825 | O70: =AG70/100*Parametreler!$B$9 -> 1.28 | P70: =SUM(M70:O70) -> 4.6735 | Q70: =VLOOKUP($A70,'Yaş Boya Listesi'!$B$6:$L$131,11,FALSE()) -> 10 | R70: =IF(E70="Kataforez",N(Q70),IF(E70="Yaş boya",Parametreler!$B$10/MAX(1,ROUND(IF(ISNUMBER(Q70),Q70,Parametreler!$B$11),0)),0)) -> 8 | S70: =L70+P70+R70 -> 13.946953 | T70: =IF(S70=0,0,L70/S70) -> 0.091306868 | U70: =IF(S70=0,0,P70/S70) -> 0.33509112 | V70: =IF(S70=0,0,R70/S70) -> 0.57360201 | W70: =SUM(AE70:AG70)/100*F70 -> 9.347 | X70: =IF($G70=0,0,J70/$G70) -> 0.92012468 | Y70: =IF($G70=0,0,S70/$G70) -> 10.077278 | Z70: =IF($G70=0,0,L70/$G70) -> 0.92012468 | AA70: =S70*Parametreler!$B$12 -> 19.944142 | AB70: =AA70*F70 -> 797.76569 | AD70: STEP yok – resimden tahmin | AE70: =INDEX('İşçilik Özet'!$W$6:$W$200,MATCH($A70&"",'İşçilik Özet'!$A$6:$A$200,0)) -> 6.555 | AF70: =INDEX('İşçilik Özet'!$X$6:$X$200,MATCH($A70&"",'İşçilik Özet'!$A$6:$A$200,0)) -> 10.4125 | AG70: =INDEX('İşçilik Özet'!$Y$6:$Y$200,MATCH($A70&"",'İşçilik Özet'!$A$6:$A$200,0)) -> 6.4 | AH70: =(L70+P70)*F70+IF(E70="Kataforez",N(Q70)*F70,IF(E70="Yaş boya",ROUNDUP(F70/MAX(1,ROUND(IF(ISNUMBER(Q70),Q70,Parametreler!$B$11),0)),0)*Parametreler!$B$10,0)) -> 557.8781
A71: 213350 | B71: H43-H47 Koruma Sacı - Dış | C71: A.2 | D71: Resimden tahmin | E71: Yaş boya | F71: 27 | G71: 3.156 | H71: =INDEX('Sac Özet'!$L$5:$L$199,MATCH($A71&"",'Sac Özet'!$A$5:$A$199,0)) -> 3.9812917 | I71: =INDEX('Sac Özet'!$M$5:$M$199,MATCH($A71&"",'Sac Özet'!$A$5:$A$199,0)) -> 0.8253091 | J71: =INDEX('Sac Özet'!$N$5:$N$199,MATCH($A71&"",'Sac Özet'!$A$5:$A$199,0)) -> 2.9149322 | K71: =SUMPRODUCT((--'Satınalma Parçaları'!$A$2:$A$107=--$A71)*'Satınalma Parçaları'!$L$2:$L$107) -> 0 | L71: =J71+N(K71) -> 2.9149322 | M71: =AE71/100*Parametreler!$B$7 -> 1.311 | N71: =AF71/100*Parametreler!$B$8 -> 2.0825 | O71: =AG71/100*Parametreler!$B$9 -> 0.736 | P71: =SUM(M71:O71) -> 4.1295 | Q71: =VLOOKUP($A71,'Yaş Boya Listesi'!$B$6:$L$131,11,FALSE()) -> 6 | R71: =IF(E71="Kataforez",N(Q71),IF(E71="Yaş boya",Parametreler!$B$10/MAX(1,ROUND(IF(ISNUMBER(Q71),Q71,Parametreler!$B$11),0)),0)) -> 13.333333 | S71: =L71+P71+R71 -> 20.377766 | T71: =IF(S71=0,0,L71/S71) -> 0.14304474 | U71: =IF(S71=0,0,P71/S71) -> 0.20264734 | V71: =IF(S71=0,0,R71/S71) -> 0.65430792 | W71: =SUM(AE71:AG71)/100*F71 -> 5.574825 | X71: =IF($G71=0,0,J71/$G71) -> 0.92361603 | Y71: =IF($G71=0,0,S71/$G71) -> 6.4568332 | Z71: =IF($G71=0,0,L71/$G71) -> 0.92361603 | AA71: =S71*Parametreler!$B$12 -> 29.140205 | AB71: =AA71*F71 -> 786.78553 | AD71: STEP yok – resimden tahmin | AE71: =INDEX('İşçilik Özet'!$W$6:$W$200,MATCH($A71&"",'İşçilik Özet'!$A$6:$A$200,0)) -> 6.555 | AF71: =INDEX('İşçilik Özet'!$X$6:$X$200,MATCH($A71&"",'İşçilik Özet'!$A$6:$A$200,0)) -> 10.4125 | AG71: =INDEX('İşçilik Özet'!$Y$6:$Y$200,MATCH($A71&"",'İşçilik Özet'!$A$6:$A$200,0)) -> 3.68 | AH71: =(L71+P71)*F71+IF(E71="Kataforez",N(Q71)*F71,IF(E71="Yaş boya",ROUNDUP(F71/MAX(1,ROUND(IF(ISNUMBER(Q71),Q71,Parametreler!$B$11),0)),0)*Parametreler!$B$10,0)) -> 590.19967
A72: 109921 | B72: H58 Ön Bom Desteği | C72: A.10 | D72: STEP | E72: Yok | F72: 16 | G72: 26.131 | H72: =INDEX('Sac Özet'!$L$5:$L$199,MATCH($A72&"",'Sac Özet'!$A$5:$A$199,0)) -> 29.273545 | I72: =INDEX('Sac Özet'!$M$5:$M$199,MATCH($A72&"",'Sac Özet'!$A$5:$A$199,0)) -> 3.1359023 | J72: =INDEX('Sac Özet'!$N$5:$N$199,MATCH($A72&"",'Sac Özet'!$A$5:$A$199,0)) -> 22.392541 | K72: =SUMPRODUCT((--'Satınalma Parçaları'!$A$2:$A$107=--$A72)*'Satınalma Parçaları'!$L$2:$L$107) -> 0 | L72: =J72+N(K72) -> 22.392541 | M72: =AE72/100*Parametreler!$B$7 -> 3.68575 | N72: =AF72/100*Parametreler!$B$8 -> 5.5 | O72: =AG72/100*Parametreler!$B$9 -> 5.0046 | P72: =SUM(M72:O72) -> 14.19035 | R72: =IF(E72="Kataforez",N(Q72),IF(E72="Yaş boya",Parametreler!$B$10/MAX(1,ROUND(IF(ISNUMBER(Q72),Q72,Parametreler!$B$11),0)),0)) -> 0 | S72: =L72+P72+R72 -> 36.582891 | T72: =IF(S72=0,0,L72/S72) -> 0.61210419 | U72: =IF(S72=0,0,P72/S72) -> 0.38789581 | V72: =IF(S72=0,0,R72/S72) -> 0 | W72: =SUM(AE72:AG72)/100*F72 -> 11.35228 | X72: =IF($G72=0,0,J72/$G72) -> 0.85693393 | Y72: =IF($G72=0,0,S72/$G72) -> 1.3999805 | Z72: =IF($G72=0,0,L72/$G72) -> 0.85693393 | AA72: =S72*Parametreler!$B$12 -> 52.313534 | AB72: =AA72*F72 -> 837.01654 | AE72: =INDEX('İşçilik Özet'!$W$6:$W$200,MATCH($A72&"",'İşçilik Özet'!$A$6:$A$200,0)) -> 18.42875 | AF72: =INDEX('İşçilik Özet'!$X$6:$X$200,MATCH($A72&"",'İşçilik Özet'!$A$6:$A$200,0)) -> 27.5 | AG72: =INDEX('İşçilik Özet'!$Y$6:$Y$200,MATCH($A72&"",'İşçilik Özet'!$A$6:$A$200,0)) -> 25.023 | AH72: =(L72+P72)*F72+IF(E72="Kataforez",N(Q72)*F72,IF(E72="Yaş boya",ROUNDUP(F72/MAX(1,ROUND(IF(ISNUMBER(Q72),Q72,Parametreler!$B$11),0)),0)*Parametreler!$B$10,0)) -> 585.32625
A73: 448618 | B73: Sutem Sehpası | C73: A.6 | D73: Resimden tahmin | E73: Yaş boya | F73: 19 | G73: 3.061 | H73: =INDEX('Sac Özet'!$L$5:$L$199,MATCH($A73&"",'Sac Özet'!$A$5:$A$199,0)) -> 3.8401966 | I73: =INDEX('Sac Özet'!$M$5:$M$199,MATCH($A73&"",'Sac Özet'!$A$5:$A$199,0)) -> 0.77920688 | J73: =INDEX('Sac Özet'!$N$5:$N$199,MATCH($A73&"",'Sac Özet'!$A$5:$A$199,0)) -> 2.8171441 | K73: =SUMPRODUCT((--'Satınalma Parçaları'!$A$2:$A$107=--$A73)*'Satınalma Parçaları'!$L$2:$L$107) -> 0 | L73: =J73+N(K73) -> 2.8171441 | M73: =AE73/100*Parametreler!$B$7 -> 1.081 | N73: =AF73/100*Parametreler!$B$8 -> 2.5825 | O73: =AG73/100*Parametreler!$B$9 -> 1.64 | P73: =SUM(M73:O73) -> 5.3035 | Q73: =VLOOKUP($A73,'Yaş Boya Listesi'!$B$6:$L$131,11,FALSE()) -> 4 | R73: =IF(E73="Kataforez",N(Q73),IF(E73="Yaş boya",Parametreler!$B$10/MAX(1,ROUND(IF(ISNUMBER(Q73),Q73,Parametreler!$B$11),0)),0)) -> 20 | S73: =L73+P73+R73 -> 28.120644 | T73: =IF(S73=0,0,L73/S73) -> 0.10018064 | U73: =IF(S73=0,0,P73/S73) -> 0.1885981 | V73: =IF(S73=0,0,R73/S73) -> 0.71122126 | W73: =SUM(AE73:AG73)/100*F73 -> 5.038325 | X73: =IF($G73=0,0,J73/$G73) -> 0.92033458 | Y73: =IF($G73=0,0,S73/$G73) -> 9.1867508 | Z73: =IF($G73=0,0,L73/$G73) -> 0.92033458 | AA73: =S73*Parametreler!$B$12 -> 40.212521 | AB73: =AA73*F73 -> 764.0379 | AD73: STEP yok – resimden tahmin | AE73: =INDEX('İşçilik Özet'!$W$6:$W$200,MATCH($A73&"",'İşçilik Özet'!$A$6:$A$200,0)) -> 5.405 | AF73: =INDEX('İşçilik Özet'!$X$6:$X$200,MATCH($A73&"",'İşçilik Özet'!$A$6:$A$200,0)) -> 12.9125 | AG73: =INDEX('İşçilik Özet'!$Y$6:$Y$200,MATCH($A73&"",'İşçilik Özet'!$A$6:$A$200,0)) -> 8.2 | AH73: =(L73+P73)*F73+IF(E73="Kataforez",N(Q73)*F73,IF(E73="Yaş boya",ROUNDUP(F73/MAX(1,ROUND(IF(ISNUMBER(Q73),Q73,Parametreler!$B$11),0)),0)*Parametreler!$B$10,0)) -> 554.29224
A74: 722932 | B74: H58-7RRZ Su Tankı Sehpası | C74: B | D74: STEP | E74: Yok | F74: 16 | G74: 18.771 | H74: =INDEX('Sac Özet'!$L$5:$L$199,MATCH($A74&"",'Sac Özet'!$A$5:$A$199,0)) -> 45.946301 | I74: =INDEX('Sac Özet'!$M$5:$M$199,MATCH($A74&"",'Sac Özet'!$A$5:$A$199,0)) -> 27.14822 | J74: =INDEX('Sac Özet'!$N$5:$N$199,MATCH($A74&"",'Sac Özet'!$A$5:$A$199,0)) -> 27.872169 | K74: =SUMPRODUCT((--'Satınalma Parçaları'!$A$2:$A$107=--$A74)*'Satınalma Parçaları'!$L$2:$L$107) -> 0 | L74: =J74+N(K74) -> 27.872169 | M74: =AE74/100*Parametreler!$B$7 -> 2.83475 | N74: =AF74/100*Parametreler!$B$8 -> 3.0825 | O74: =AG74/100*Parametreler!$B$9 -> 2.6536 | P74: =SUM(M74:O74) -> 8.57085 | R74: =IF(E74="Kataforez",N(Q74),IF(E74="Yaş boya",Parametreler!$B$10/MAX(1,ROUND(IF(ISNUMBER(Q74),Q74,Parametreler!$B$11),0)),0)) -> 0 | S74: =L74+P74+R74 -> 36.443019 | T74: =IF(S74=0,0,L74/S74) -> 0.76481504 | U74: =IF(S74=0,0,P74/S74) -> 0.23518496 | V74: =IF(S74=0,0,R74/S74) -> 0 | W74: =SUM(AE74:AG74)/100*F74 -> 6.85668 | X74: =IF($G74=0,0,J74/$G74) -> 1.4848526 | Y74: =IF($G74=0,0,S74/$G74) -> 1.9414532 | Z74: =IF($G74=0,0,L74/$G74) -> 1.4848526 | AA74: =S74*Parametreler!$B$12 -> 52.113517 | AB74: =AA74*F74 -> 833.81627 | AE74: =INDEX('İşçilik Özet'!$W$6:$W$200,MATCH($A74&"",'İşçilik Özet'!$A$6:$A$200,0)) -> 14.17375 | AF74: =INDEX('İşçilik Özet'!$X$6:$X$200,MATCH($A74&"",'İşçilik Özet'!$A$6:$A$200,0)) -> 15.4125 | AG74: =INDEX('İşçilik Özet'!$Y$6:$Y$200,MATCH($A74&"",'İşçilik Özet'!$A$6:$A$200,0)) -> 13.268 | AH74: =(L74+P74)*F74+IF(E74="Kataforez",N(Q74)*F74,IF(E74="Yaş boya",ROUNDUP(F74/MAX(1,ROUND(IF(ISNUMBER(Q74),Q74,Parametreler!$B$11),0)),0)*Parametreler!$B$10,0)) -> 583.0883
A75: 232718 | B75: Aski Sag-sol Takoz | C75: A.3 | D75: Resimden tahmin | E75: Yok | F75: 174 | G75: 2.228 | H75: =INDEX('Sac Özet'!$L$5:$L$199,MATCH($A75&"",'Sac Özet'!$A$5:$A$199,0)) -> 0 | I75: =INDEX('Sac Özet'!$M$5:$M$199,MATCH($A75&"",'Sac Özet'!$A$5:$A$199,0)) -> 0 | J75: =INDEX('Sac Özet'!$N$5:$N$199,MATCH($A75&"",'Sac Özet'!$A$5:$A$199,0)) -> 0 | K75: =SUMPRODUCT((--'Satınalma Parçaları'!$A$2:$A$107=--$A75)*'Satınalma Parçaları'!$L$2:$L$107) -> 0 | L75: =J75+N(K75) -> 0 | M75: =AE75/100*Parametreler!$B$7 -> 0 | N75: =AF75/100*Parametreler!$B$8 -> 1.8325 | O75: =AG75/100*Parametreler!$B$9 -> 1.0908 | P75: =SUM(M75:O75) -> 2.9233 | R75: =IF(E75="Kataforez",N(Q75),IF(E75="Yaş boya",Parametreler!$B$10/MAX(1,ROUND(IF(ISNUMBER(Q75),Q75,Parametreler!$B$11),0)),0)) -> 0 | S75: =L75+P75+R75 -> 2.9233 | T75: =IF(S75=0,0,L75/S75) -> 0 | U75: =IF(S75=0,0,P75/S75) -> 1 | V75: =IF(S75=0,0,R75/S75) -> 0 | W75: =SUM(AE75:AG75)/100*F75 -> 25.43271 | X75: =IF($G75=0,0,J75/$G75) -> 0 | Y75: =IF($G75=0,0,S75/$G75) -> 1.3120736 | Z75: =IF($G75=0,0,L75/$G75) -> 0 | AA75: =S75*Parametreler!$B$12 -> 4.180319 | AB75: =AA75*F75 -> 727.37551 | AC75: 232731 Aski Takozu ×1; 232735 Takoz Mili ×1 | AD75: STEP VEYA DETAY RESİM GEREKLİ. İŞLEMELİ PARÇALAR. | AE75: =INDEX('İşçilik Özet'!$W$6:$W$200,MATCH($A75&"",'İşçilik Özet'!$A$6:$A$200,0)) -> 0 | AF75: =INDEX('İşçilik Özet'!$X$6:$X$200,MATCH($A75&"",'İşçilik Özet'!$A$6:$A$200,0)) -> 9.1625 | AG75: =INDEX('İşçilik Özet'!$Y$6:$Y$200,MATCH($A75&"",'İşçilik Özet'!$A$6:$A$200,0)) -> 5.454 | AH75: =(L75+P75)*F75+IF(E75="Kataforez",N(Q75)*F75,IF(E75="Yaş boya",ROUNDUP(F75/MAX(1,ROUND(IF(ISNUMBER(Q75),Q75,Parametreler!$B$11),0)),0)*Parametreler!$B$10,0)) -> 508.6542
A76: 404570 | B76: Kaynak | C76: A.8 | D76: Resimden tahmin | E76: Kataforez | F76: 119 | G76: 0.363 | H76: =INDEX('Sac Özet'!$L$5:$L$199,MATCH($A76&"",'Sac Özet'!$A$5:$A$199,0)) -> 0.45717226 | I76: =INDEX('Sac Özet'!$M$5:$M$199,MATCH($A76&"",'Sac Özet'!$A$5:$A$199,0)) -> 0.094156865 | J76: =INDEX('Sac Özet'!$N$5:$N$199,MATCH($A76&"",'Sac Özet'!$A$5:$A$199,0)) -> 0.33492284 | K76: =SUMPRODUCT((--'Satınalma Parçaları'!$A$2:$A$107=--$A76)*'Satınalma Parçaları'!$L$2:$L$107) -> 0 | L76: =J76+N(K76) -> 0.33492284 | M76: =AE76/100*Parametreler!$B$7 -> 1.081 | N76: =AF76/100*Parametreler!$B$8 -> 1.8325 | O76: =AG76/100*Parametreler!$B$9 -> 0.61 | P76: =SUM(M76:O76) -> 3.5235 | Q76: =IFERROR(INDEX('Kataforez Teklifleri'!$G$6:$G$50,MATCH($A76&"",'Kataforez Teklifleri'!$A$6:$A$50,0)),"") -> 0.29 | R76: =IF(E76="Kataforez",N(Q76),IF(E76="Yaş boya",Parametreler!$B$10/MAX(1,ROUND(IF(ISNUMBER(Q76),Q76,Parametreler!$B$11),0)),0)) -> 0.29 | S76: =L76+P76+R76 -> 4.1484228 | T76: =IF(S76=0,0,L76/S76) -> 0.080734981 | U76: =IF(S76=0,0,P76/S76) -> 0.84935893 | V76: =IF(S76=0,0,R76/S76) -> 0.069906085 | W76: =SUM(AE76:AG76)/100*F76 -> 20.964825 | X76: =IF($G76=0,0,J76/$G76) -> 0.92265245 | Y76: =IF($G76=0,0,S76/$G76) -> 11.428162 | Z76: =IF($G76=0,0,L76/$G76) -> 0.92265245 | AA76: =S76*Parametreler!$B$12 -> 5.9322447 | AB76: =AA76*F76 -> 705.93711 | AD76: STEP yok – resimden tahmin | AE76: =INDEX('İşçilik Özet'!$W$6:$W$200,MATCH($A76&"",'İşçilik Özet'!$A$6:$A$200,0)) -> 5.405 | AF76: =INDEX('İşçilik Özet'!$X$6:$X$200,MATCH($A76&"",'İşçilik Özet'!$A$6:$A$200,0)) -> 9.1625 | AG76: =INDEX('İşçilik Özet'!$Y$6:$Y$200,MATCH($A76&"",'İşçilik Özet'!$A$6:$A$200,0)) -> 3.05 | AH76: =(L76+P76)*F76+IF(E76="Kataforez",N(Q76)*F76,IF(E76="Yaş boya",ROUNDUP(F76/MAX(1,ROUND(IF(ISNUMBER(Q76),Q76,Parametreler!$B$11),0)),0)*Parametreler!$B$10,0)) -> 493.66232
A77: 110032 | B77: H52-58 Elektrik Pano Sehpası | C77: A.3 | D77: Resimden tahmin | E77: Yaş boya | F77: 13 | G77: 4.421 | H77: =INDEX('Sac Özet'!$L$5:$L$199,MATCH($A77&"",'Sac Özet'!$A$5:$A$199,0)) -> 5.6032982 | I77: =INDEX('Sac Özet'!$M$5:$M$199,MATCH($A77&"",'Sac Özet'!$A$5:$A$199,0)) -> 1.1822959 | J77: =INDEX('Sac Özet'!$N$5:$N$199,MATCH($A77&"",'Sac Özet'!$A$5:$A$199,0)) -> 4.0957053 | K77: =SUMPRODUCT((--'Satınalma Parçaları'!$A$2:$A$107=--$A77)*'Satınalma Parçaları'!$L$2:$L$107) -> 0 | L77: =J77+N(K77) -> 4.0957053 | M77: =AE77/100*Parametreler!$B$7 -> 3.082 | N77: =AF77/100*Parametreler!$B$8 -> 2.3325 | O77: =AG77/100*Parametreler!$B$9 -> 1.24 | P77: =SUM(M77:O77) -> 6.6545 | Q77: =VLOOKUP($A77,'Yaş Boya Listesi'!$B$6:$L$131,11,FALSE()) -> 3 | R77: =IF(E77="Kataforez",N(Q77),IF(E77="Yaş boya",Parametreler!$B$10/MAX(1,ROUND(IF(ISNUMBER(Q77),Q77,Parametreler!$B$11),0)),0)) -> 26.666667 | S77: =L77+P77+R77 -> 37.416872 | T77: =IF(S77=0,0,L77/S77) -> 0.10946146 | U77: =IF(S77=0,0,P77/S77) -> 0.17784758 | V77: =IF(S77=0,0,R77/S77) -> 0.71269097 | W77: =SUM(AE77:AG77)/100*F77 -> 4.325425 | X77: =IF($G77=0,0,J77/$G77) -> 0.92642057 | Y77: =IF($G77=0,0,S77/$G77) -> 8.4634408 | Z77: =IF($G77=0,0,L77/$G77) -> 0.92642057 | AA77: =S77*Parametreler!$B$12 -> 53.506127 | AB77: =AA77*F77 -> 695.57965 | AD77: STEP yok – resimden tahmin | AE77: =INDEX('İşçilik Özet'!$W$6:$W$200,MATCH($A77&"",'İşçilik Özet'!$A$6:$A$200,0)) -> 15.41 | AF77: =INDEX('İşçilik Özet'!$X$6:$X$200,MATCH($A77&"",'İşçilik Özet'!$A$6:$A$200,0)) -> 11.6625 | AG77: =INDEX('İşçilik Özet'!$Y$6:$Y$200,MATCH($A77&"",'İşçilik Özet'!$A$6:$A$200,0)) -> 6.2 | AH77: =(L77+P77)*F77+IF(E77="Kataforez",N(Q77)*F77,IF(E77="Yaş boya",ROUNDUP(F77/MAX(1,ROUND(IF(ISNUMBER(Q77),Q77,Parametreler!$B$11),0)),0)*Parametreler!$B$10,0)) -> 539.75267
A78: 207243 | B78: Çıkrık Tabanca Taşıma Aparatı | C78: B.6 | D78: Resimden tahmin | E78: Yaş boya | F78: 55 | G78: 0.801 | H78: =INDEX('Sac Özet'!$L$5:$L$199,MATCH($A78&"",'Sac Özet'!$A$5:$A$199,0)) -> 0.11660583 | I78: =INDEX('Sac Özet'!$M$5:$M$199,MATCH($A78&"",'Sac Özet'!$A$5:$A$199,0)) -> 0.02460383 | J78: =INDEX('Sac Özet'!$N$5:$N$199,MATCH($A78&"",'Sac Özet'!$A$5:$A$199,0)) -> 0.085232502 | K78: =SUMPRODUCT((--'Satınalma Parçaları'!$A$2:$A$107=--$A78)*'Satınalma Parçaları'!$L$2:$L$107) -> 1.01 | L78: =J78+N(K78) -> 1.0952325 | M78: =AE78/100*Parametreler!$B$7 -> 1.081 | N78: =AF78/100*Parametreler!$B$8 -> 1.8325 | O78: =AG78/100*Parametreler!$B$9 -> 0.568 | P78: =SUM(M78:O78) -> 3.4815 | Q78: =VLOOKUP($A78,'Yaş Boya Listesi'!$B$6:$L$131,11,FALSE()) -> 20 | R78: =IF(E78="Kataforez",N(Q78),IF(E78="Yaş boya",Parametreler!$B$10/MAX(1,ROUND(IF(ISNUMBER(Q78),Q78,Parametreler!$B$11),0)),0)) -> 4 | S78: =L78+P78+R78 -> 8.5767325 | T78: =IF(S78=0,0,L78/S78) -> 0.12769811 | U78: =IF(S78=0,0,P78/S78) -> 0.40592382 | V78: =IF(S78=0,0,R78/S78) -> 0.46637808 | W78: =SUM(AE78:AG78)/100*F78 -> 9.574125 | X78: =IF($G78=0,0,J78/$G78) -> 0.10640762 | Y78: =IF($G78=0,0,S78/$G78) -> 10.707531 | Z78: =IF($G78=0,0,L78/$G78) -> 1.3673315 | AA78: =S78*Parametreler!$B$12 -> 12.264727 | AB78: =AA78*F78 -> 674.56001 | AC78: 0899901 ÇIKRIK APARAT BORU Ø63.5x5 L=100 mm ×1 | AD78: STEP yok – resimden tahmin · 1 satınalma kalemi | AE78: =INDEX('İşçilik Özet'!$W$6:$W$200,MATCH($A78&"",'İşçilik Özet'!$A$6:$A$200,0)) -> 5.405 | AF78: =INDEX('İşçilik Özet'!$X$6:$X$200,MATCH($A78&"",'İşçilik Özet'!$A$6:$A$200,0)) -> 9.1625 | AG78: =INDEX('İşçilik Özet'!$Y$6:$Y$200,MATCH($A78&"",'İşçilik Özet'!$A$6:$A$200,0)) -> 2.84 | AH78: =(L78+P78)*F78+IF(E78="Kataforez",N(Q78)*F78,IF(E78="Yaş boya",ROUNDUP(F78/MAX(1,ROUND(IF(ISNUMBER(Q78),Q78,Parametreler!$B$11),0)),0)*Parametreler!$B$10,0)) -> 491.72029
A79: 235743 | B79: H51 Pano Sehpası Altlıgı | C79: A.6 | D79: STEP | E79: Yaş boya | F79: 10 | G79: 9.488 | H79: =INDEX('Sac Özet'!$L$5:$L$199,MATCH($A79&"",'Sac Özet'!$A$5:$A$199,0)) -> 24.28481 | I79: =INDEX('Sac Özet'!$M$5:$M$199,MATCH($A79&"",'Sac Özet'!$A$5:$A$199,0)) -> 14.790125 | J79: =INDEX('Sac Özet'!$N$5:$N$199,MATCH($A79&"",'Sac Özet'!$A$5:$A$199,0)) -> 14.587443 | K79: =SUMPRODUCT((--'Satınalma Parçaları'!$A$2:$A$107=--$A79)*'Satınalma Parçaları'!$L$2:$L$107) -> 0 | L79: =J79+N(K79) -> 14.587443 | M79: =AE79/100*Parametreler!$B$7 -> 2.14475 | N79: =AF79/100*Parametreler!$B$8 -> 3.0825 | O79: =AG79/100*Parametreler!$B$9 -> 2.3178 | P79: =SUM(M79:O79) -> 7.54505 | Q79: =VLOOKUP($A79,'Yaş Boya Listesi'!$B$6:$L$131,11,FALSE()) -> 3 | R79: =IF(E79="Kataforez",N(Q79),IF(E79="Yaş boya",Parametreler!$B$10/MAX(1,ROUND(IF(ISNUMBER(Q79),Q79,Parametreler!$B$11),0)),0)) -> 26.666667 | S79: =L79+P79+R79 -> 48.79916 | T79: =IF(S79=0,0,L79/S79) -> 0.29892816 | U79: =IF(S79=0,0,P79/S79) -> 0.15461434 | V79: =IF(S79=0,0,R79/S79) -> 0.54645749 | W79: =SUM(AE79:AG79)/100*F79 -> 3.772525 | X79: =IF($G79=0,0,J79/$G79) -> 1.5374624 | Y79: =IF($G79=0,0,S79/$G79) -> 5.1432504 | Z79: =IF($G79=0,0,L79/$G79) -> 1.5374624 | AA79: =S79*Parametreler!$B$12 -> 69.782799 | AB79: =AA79*F79 -> 697.82799 | AE79: =INDEX('İşçilik Özet'!$W$6:$W$200,MATCH($A79&"",'İşçilik Özet'!$A$6:$A$200,0)) -> 10.72375 | AF79: =INDEX('İşçilik Özet'!$X$6:$X$200,MATCH($A79&"",'İşçilik Özet'!$A$6:$A$200,0)) -> 15.4125 | AG79: =INDEX('İşçilik Özet'!$Y$6:$Y$200,MATCH($A79&"",'İşçilik Özet'!$A$6:$A$200,0)) -> 11.589 | AH79: =(L79+P79)*F79+IF(E79="Kataforez",N(Q79)*F79,IF(E79="Yaş boya",ROUNDUP(F79/MAX(1,ROUND(IF(ISNUMBER(Q79),Q79,Parametreler!$B$11),0)),0)*Parametreler!$B$10,0)) -> 541.32493
A80: 216696 | B80: 5,5" Kelepçe | C80: A.3 | D80: Resimden tahmin | E80: Yok | F80: 114 | G80: 5.564 | H80: =INDEX('Sac Özet'!$L$5:$L$199,MATCH($A80&"",'Sac Özet'!$A$5:$A$199,0)) -> 2.8853537 | I80: =INDEX('Sac Özet'!$M$5:$M$199,MATCH($A80&"",'Sac Özet'!$A$5:$A$199,0)) -> 0.51936366 | J80: =INDEX('Sac Özet'!$N$5:$N$199,MATCH($A80&"",'Sac Özet'!$A$5:$A$199,0)) -> 2.1383094 | K80: =SUMPRODUCT((--'Satınalma Parçaları'!$A$2:$A$107=--$A80)*'Satınalma Parçaları'!$L$2:$L$107) -> 0 | L80: =J80+N(K80) -> 2.1383094 | M80: =AE80/100*Parametreler!$B$7 -> 0 | N80: =AF80/100*Parametreler!$B$8 -> 1.5825 | O80: =AG80/100*Parametreler!$B$9 -> 0.624 | P80: =SUM(M80:O80) -> 2.2065 | R80: =IF(E80="Kataforez",N(Q80),IF(E80="Yaş boya",Parametreler!$B$10/MAX(1,ROUND(IF(ISNUMBER(Q80),Q80,Parametreler!$B$11),0)),0)) -> 0 | S80: =L80+P80+R80 -> 4.3448094 | T80: =IF(S80=0,0,L80/S80) -> 0.49215263 | U80: =IF(S80=0,0,P80/S80) -> 0.50784737 | V80: =IF(S80=0,0,R80/S80) -> 0 | W80: =SUM(AE80:AG80)/100*F80 -> 12.57705 | X80: =IF($G80=0,0,J80/$G80) -> 0.38431153 | Y80: =IF($G80=0,0,S80/$G80) -> 0.78087875 | Z80: =IF($G80=0,0,L80/$G80) -> 0.38431153 | AA80: =S80*Parametreler!$B$12 -> 6.2130774 | AB80: =AA80*F80 -> 708.29082 | AC80: H411.00040 KELEPÇE 5,5" 2 CİVATALI ×1 | AD80: STEP yok – resimden tahmin · 1 satınalma kalemi | AE80: =INDEX('İşçilik Özet'!$W$6:$W$200,MATCH($A80&"",'İşçilik Özet'!$A$6:$A$200,0)) -> 0 | AF80: =INDEX('İşçilik Özet'!$X$6:$X$200,MATCH($A80&"",'İşçilik Özet'!$A$6:$A$200,0)) -> 7.9125 | AG80: =INDEX('İşçilik Özet'!$Y$6:$Y$200,MATCH($A80&"",'İşçilik Özet'!$A$6:$A$200,0)) -> 3.12 | AH80: =(L80+P80)*F80+IF(E80="Kataforez",N(Q80)*F80,IF(E80="Yaş boya",ROUNDUP(F80/MAX(1,ROUND(IF(ISNUMBER(Q80),Q80,Parametreler!$B$11),0)),0)*Parametreler!$B$10,0)) -> 495.30827
A81: 106857 | B81: Plazma H47 Kaide 35 Derece Dirsek Tutucu | C81: B.2 | D81: Resimden tahmin | E81: Yaş boya | F81: 25 | G81: 5.099 | H81: =INDEX('Sac Özet'!$L$5:$L$199,MATCH($A81&"",'Sac Özet'!$A$5:$A$199,0)) -> 6.4300272 | I81: =INDEX('Sac Özet'!$M$5:$M$199,MATCH($A81&"",'Sac Özet'!$A$5:$A$199,0)) -> 1.3311068 | J81: =INDEX('Sac Özet'!$N$5:$N$199,MATCH($A81&"",'Sac Özet'!$A$5:$A$199,0)) -> 4.7083868 | K81: =SUMPRODUCT((--'Satınalma Parçaları'!$A$2:$A$107=--$A81)*'Satınalma Parçaları'!$L$2:$L$107) -> 0 | L81: =J81+N(K81) -> 4.7083868 | M81: =AE81/100*Parametreler!$B$7 -> 1.081 | N81: =AF81/100*Parametreler!$B$8 -> 2.5825 | O81: =AG81/100*Parametreler!$B$9 -> 2.66 | P81: =SUM(M81:O81) -> 6.3235 | Q81: =VLOOKUP($A81,'Yaş Boya Listesi'!$B$6:$L$131,11,FALSE()) -> 10 | R81: =IF(E81="Kataforez",N(Q81),IF(E81="Yaş boya",Parametreler!$B$10/MAX(1,ROUND(IF(ISNUMBER(Q81),Q81,Parametreler!$B$11),0)),0)) -> 8 | S81: =L81+P81+R81 -> 19.031887 | T81: =IF(S81=0,0,L81/S81) -> 0.24739464 | U81: =IF(S81=0,0,P81/S81) -> 0.33225818 | V81: =IF(S81=0,0,R81/S81) -> 0.42034718 | W81: =SUM(AE81:AG81)/100*F81 -> 7.904375 | X81: =IF($G81=0,0,J81/$G81) -> 0.92339416 | Y81: =IF($G81=0,0,S81/$G81) -> 3.7324744 | Z81: =IF($G81=0,0,L81/$G81) -> 0.92339416 | AA81: =S81*Parametreler!$B$12 -> 27.215598 | AB81: =AA81*F81 -> 680.38995 | AD81: STEP yok – resimden tahmin | AE81: =INDEX('İşçilik Özet'!$W$6:$W$200,MATCH($A81&"",'İşçilik Özet'!$A$6:$A$200,0)) -> 5.405 | AF81: =INDEX('İşçilik Özet'!$X$6:$X$200,MATCH($A81&"",'İşçilik Özet'!$A$6:$A$200,0)) -> 12.9125 | AG81: =INDEX('İşçilik Özet'!$Y$6:$Y$200,MATCH($A81&"",'İşçilik Özet'!$A$6:$A$200,0)) -> 13.3 | AH81: =(L81+P81)*F81+IF(E81="Kataforez",N(Q81)*F81,IF(E81="Yaş boya",ROUNDUP(F81/MAX(1,ROUND(IF(ISNUMBER(Q81),Q81,Parametreler!$B$11),0)),0)*Parametreler!$B$10,0)) -> 515.79717
A82: 1254954 | B82: H68 Arka Bom Desteği | C82: A.2 | D82: STEP | E82: Yok | F82: 5 | G82: 52.161 | H82: =INDEX('Sac Özet'!$L$5:$L$199,MATCH($A82&"",'Sac Özet'!$A$5:$A$199,0)) -> 98.918418 | I82: =INDEX('Sac Özet'!$M$5:$M$199,MATCH($A82&"",'Sac Özet'!$A$5:$A$199,0)) -> 46.773443 | J82: =INDEX('Sac Özet'!$N$5:$N$199,MATCH($A82&"",'Sac Özet'!$A$5:$A$199,0)) -> 63.827062 | K82: =SUMPRODUCT((--'Satınalma Parçaları'!$A$2:$A$107=--$A82)*'Satınalma Parçaları'!$L$2:$L$107) -> 0.093818182 | L82: =J82+N(K82) -> 63.920881 | M82: =AE82/100*Parametreler!$B$7 -> 9.6025 | N82: =AF82/100*Parametreler!$B$8 -> 11.25 | O82: =AG82/100*Parametreler!$B$9 -> 13.5762 | P82: =SUM(M82:O82) -> 34.4287 | R82: =IF(E82="Kataforez",N(Q82),IF(E82="Yaş boya",Parametreler!$B$10/MAX(1,ROUND(IF(ISNUMBER(Q82),Q82,Parametreler!$B$11),0)),0)) -> 0 | S82: =L82+P82+R82 -> 98.349581 | T82: =IF(S82=0,0,L82/S82) -> 0.64993547 | U82: =IF(S82=0,0,P82/S82) -> 0.35006453 | V82: =IF(S82=0,0,R82/S82) -> 0 | W82: =SUM(AE82:AG82)/100*F82 -> 8.607175 | X82: =IF($G82=0,0,J82/$G82) -> 1.2236549 | Y82: =IF($G82=0,0,S82/$G82) -> 1.8855003 | Z82: =IF($G82=0,0,L82/$G82) -> 1.2254535 | AA82: =S82*Parametreler!$B$12 -> 140.6399 | AB82: =AA82*F82 -> 703.1995 | AC82: H900.00030 SOMUN M10 BEYAZ DIN934 ×4 | AD82: 1 satınalma kalemi | AE82: =INDEX('İşçilik Özet'!$W$6:$W$200,MATCH($A82&"",'İşçilik Özet'!$A$6:$A$200,0)) -> 48.0125 | AF82: =INDEX('İşçilik Özet'!$X$6:$X$200,MATCH($A82&"",'İşçilik Özet'!$A$6:$A$200,0)) -> 56.25 | AG82: =INDEX('İşçilik Özet'!$Y$6:$Y$200,MATCH($A82&"",'İşçilik Özet'!$A$6:$A$200,0)) -> 67.881 | AH82: =(L82+P82)*F82+IF(E82="Kataforez",N(Q82)*F82,IF(E82="Yaş boya",ROUNDUP(F82/MAX(1,ROUND(IF(ISNUMBER(Q82),Q82,Parametreler!$B$11),0)),0)*Parametreler!$B$10,0)) -> 491.7479
A83: 103113 | B83: Arocs Ceki Sacı | C83: A.6 | D83: STEP | E83: Yaş boya | F83: 10 | G83: 21.646 | H83: =INDEX('Sac Özet'!$L$5:$L$199,MATCH($A83&"",'Sac Özet'!$A$5:$A$199,0)) -> 27.98576 | I83: =INDEX('Sac Özet'!$M$5:$M$199,MATCH($A83&"",'Sac Özet'!$A$5:$A$199,0)) -> 6.3354917 | J83: =INDEX('Sac Özet'!$N$5:$N$199,MATCH($A83&"",'Sac Özet'!$A$5:$A$199,0)) -> 20.315175 | K83: =SUMPRODUCT((--'Satınalma Parçaları'!$A$2:$A$107=--$A83)*'Satınalma Parçaları'!$L$2:$L$107) -> 0 | L83: =J83+N(K83) -> 20.315175 | M83: =AE83/100*Parametreler!$B$7 -> 0 | N83: =AF83/100*Parametreler!$B$8 -> 2.0825 | O83: =AG83/100*Parametreler!$B$9 -> 3.9588 | P83: =SUM(M83:O83) -> 6.0413 | Q83: =VLOOKUP($A83,'Yaş Boya Listesi'!$B$6:$L$131,11,FALSE()) -> 4 | R83: =IF(E83="Kataforez",N(Q83),IF(E83="Yaş boya",Parametreler!$B$10/MAX(1,ROUND(IF(ISNUMBER(Q83),Q83,Parametreler!$B$11),0)),0)) -> 20 | S83: =L83+P83+R83 -> 46.356475 | T83: =IF(S83=0,0,L83/S83) -> 0.43823813 | U83: =IF(S83=0,0,P83/S83) -> 0.13032268 | V83: =IF(S83=0,0,R83/S83) -> 0.43143919 | W83: =SUM(AE83:AG83)/100*F83 -> 3.02065 | X83: =IF($G83=0,0,J83/$G83) -> 0.93851864 | Y83: =IF($G83=0,0,S83/$G83) -> 2.1415723 | Z83: =IF($G83=0,0,L83/$G83) -> 0.93851864 | AA83: =S83*Parametreler!$B$12 -> 66.289759 | AB83: =AA83*F83 -> 662.89759 | AE83: =INDEX('İşçilik Özet'!$W$6:$W$200,MATCH($A83&"",'İşçilik Özet'!$A$6:$A$200,0)) -> 0 | AF83: =INDEX('İşçilik Özet'!$X$6:$X$200,MATCH($A83&"",'İşçilik Özet'!$A$6:$A$200,0)) -> 10.4125 | AG83: =INDEX('İşçilik Özet'!$Y$6:$Y$200,MATCH($A83&"",'İşçilik Özet'!$A$6:$A$200,0)) -> 19.794 | AH83: =(L83+P83)*F83+IF(E83="Kataforez",N(Q83)*F83,IF(E83="Yaş boya",ROUNDUP(F83/MAX(1,ROUND(IF(ISNUMBER(Q83),Q83,Parametreler!$B$11),0)),0)*Parametreler!$B$10,0)) -> 503.56475
A84: 543414 | B84: Ayarlı Yatay Hat Baglantısı | C84: A.1 | D84: Resimden tahmin | E84: Yaş boya | F84: 56 | G84: 0.809 | H84: =INDEX('Sac Özet'!$L$5:$L$199,MATCH($A84&"",'Sac Özet'!$A$5:$A$199,0)) -> 0.4743889 | I84: =INDEX('Sac Özet'!$M$5:$M$199,MATCH($A84&"",'Sac Özet'!$A$5:$A$199,0)) -> 0.085390002 | J84: =INDEX('Sac Özet'!$N$5:$N$199,MATCH($A84&"",'Sac Özet'!$A$5:$A$199,0)) -> 0.3515653 | K84: =SUMPRODUCT((--'Satınalma Parçaları'!$A$2:$A$107=--$A84)*'Satınalma Parçaları'!$L$2:$L$107) -> 0.4 | L84: =J84+N(K84) -> 0.7515653 | M84: =AE84/100*Parametreler!$B$7 -> 0 | N84: =AF84/100*Parametreler!$B$8 -> 2.0825 | O84: =AG84/100*Parametreler!$B$9 -> 0.862 | P84: =SUM(M84:O84) -> 2.9445 | Q84: =VLOOKUP($A84,'Yaş Boya Listesi'!$B$6:$L$131,11,FALSE()) -> 20 | R84: =IF(E84="Kataforez",N(Q84),IF(E84="Yaş boya",Parametreler!$B$10/MAX(1,ROUND(IF(ISNUMBER(Q84),Q84,Parametreler!$B$11),0)),0)) -> 4 | S84: =L84+P84+R84 -> 7.6960653 | T84: =IF(S84=0,0,L84/S84) -> 0.097655786 | U84: =IF(S84=0,0,P84/S84) -> 0.3825981 | V84: =IF(S84=0,0,R84/S84) -> 0.51974611 | W84: =SUM(AE84:AG84)/100*F84 -> 8.2446 | X84: =IF($G84=0,0,J84/$G84) -> 0.43456774 | Y84: =IF($G84=0,0,S84/$G84) -> 9.5130597 | Z84: =IF($G84=0,0,L84/$G84) -> 0.92900532 | AA84: =S84*Parametreler!$B$12 -> 11.005373 | AB84: =AA84*F84 -> 616.30091 | AC84: 543419 Kutu Profil 40x40x4 L=110 mm ×1 | AD84: STEP yok – resimden tahmin · 1 satınalma kalemi | AE84: =INDEX('İşçilik Özet'!$W$6:$W$200,MATCH($A84&"",'İşçilik Özet'!$A$6:$A$200,0)) -> 0 | AF84: =INDEX('İşçilik Özet'!$X$6:$X$200,MATCH($A84&"",'İşçilik Özet'!$A$6:$A$200,0)) -> 10.4125 | AG84: =INDEX('İşçilik Özet'!$Y$6:$Y$200,MATCH($A84&"",'İşçilik Özet'!$A$6:$A$200,0)) -> 4.31 | AH84: =(L84+P84)*F84+IF(E84="Kataforez",N(Q84)*F84,IF(E84="Yaş boya",ROUNDUP(F84/MAX(1,ROUND(IF(ISNUMBER(Q84),Q84,Parametreler!$B$11),0)),0)*Parametreler!$B$10,0)) -> 446.97966
A85: 108027 | B85: H58.6 Rrz Pedestal Kule Merkezleme | C85: A.3 | D85: STEP | E85: Yaş boya | F85: 16 | G85: 8.074 | H85: =INDEX('Sac Özet'!$L$5:$L$199,MATCH($A85&"",'Sac Özet'!$A$5:$A$199,0)) -> 8.7981657 | I85: =INDEX('Sac Özet'!$M$5:$M$199,MATCH($A85&"",'Sac Özet'!$A$5:$A$199,0)) -> 0.5979615 | J85: =INDEX('Sac Özet'!$N$5:$N$199,MATCH($A85&"",'Sac Özet'!$A$5:$A$199,0)) -> 6.8428361 | K85: =SUMPRODUCT((--'Satınalma Parçaları'!$A$2:$A$107=--$A85)*'Satınalma Parçaları'!$L$2:$L$107) -> 0 | L85: =J85+N(K85) -> 6.8428361 | M85: =AE85/100*Parametreler!$B$7 -> 0 | N85: =AF85/100*Parametreler!$B$8 -> 3.0825 | O85: =AG85/100*Parametreler!$B$9 -> 4.2364 | P85: =SUM(M85:O85) -> 7.3189 | Q85: =VLOOKUP($A85,'Yaş Boya Listesi'!$B$6:$L$131,11,FALSE()) -> 6 | R85: =IF(E85="Kataforez",N(Q85),IF(E85="Yaş boya",Parametreler!$B$10/MAX(1,ROUND(IF(ISNUMBER(Q85),Q85,Parametreler!$B$11),0)),0)) -> 13.333333 | S85: =L85+P85+R85 -> 27.495069 | T85: =IF(S85=0,0,L85/S85) -> 0.24887502 | U85: =IF(S85=0,0,P85/S85) -> 0.26618954 | V85: =IF(S85=0,0,R85/S85) -> 0.48493543 | W85: =SUM(AE85:AG85)/100*F85 -> 5.85512 | X85: =IF($G85=0,0,J85/$G85) -> 0.847515 | Y85: =IF($G85=0,0,S85/$G85) -> 3.4053839 | Z85: =IF($G85=0,0,L85/$G85) -> 0.847515 | AA85: =S85*Parametreler!$B$12 -> 39.317949 | AB85: =AA85*F85 -> 629.08719 | AE85: =INDEX('İşçilik Özet'!$W$6:$W$200,MATCH($A85&"",'İşçilik Özet'!$A$6:$A$200,0)) -> 0 | AF85: =INDEX('İşçilik Özet'!$X$6:$X$200,MATCH($A85&"",'İşçilik Özet'!$A$6:$A$200,0)) -> 15.4125 | AG85: =INDEX('İşçilik Özet'!$Y$6:$Y$200,MATCH($A85&"",'İşçilik Özet'!$A$6:$A$200,0)) -> 21.182 | AH85: =(L85+P85)*F85+IF(E85="Kataforez",N(Q85)*F85,IF(E85="Yaş boya",ROUNDUP(F85/MAX(1,ROUND(IF(ISNUMBER(Q85),Q85,Parametreler!$B$11),0)),0)*Parametreler!$B$10,0)) -> 466.58778
A86: 105774 | B86: Pto 180 Hd Pompa Salıncağı | C86: B.7 | D86: STEP | E86: Yaş boya | F86: 5 | G86: 30.943 | H86: =INDEX('Sac Özet'!$L$5:$L$199,MATCH($A86&"",'Sac Özet'!$A$5:$A$199,0)) -> 40.495991 | I86: =INDEX('Sac Özet'!$M$5:$M$199,MATCH($A86&"",'Sac Özet'!$A$5:$A$199,0)) -> 9.510275 | J86: =INDEX('Sac Özet'!$N$5:$N$199,MATCH($A86&"",'Sac Özet'!$A$5:$A$199,0)) -> 29.284339 | K86: =SUMPRODUCT((--'Satınalma Parçaları'!$A$2:$A$107=--$A86)*'Satınalma Parçaları'!$L$2:$L$107) -> 0 | L86: =J86+N(K86) -> 29.284339 | M86: =AE86/100*Parametreler!$B$7 -> 4.2895 | N86: =AF86/100*Parametreler!$B$8 -> 9 | O86: =AG86/100*Parametreler!$B$9 -> 5.9744 | P86: =SUM(M86:O86) -> 19.2639 | Q86: =VLOOKUP($A86,'Yaş Boya Listesi'!$B$6:$L$131,11,FALSE()) -> 2 | R86: =IF(E86="Kataforez",N(Q86),IF(E86="Yaş boya",Parametreler!$B$10/MAX(1,ROUND(IF(ISNUMBER(Q86),Q86,Parametreler!$B$11),0)),0)) -> 40 | S86: =L86+P86+R86 -> 88.548239 | T86: =IF(S86=0,0,L86/S86) -> 0.33071622 | U86: =IF(S86=0,0,P86/S86) -> 0.2175526 | V86: =IF(S86=0,0,R86/S86) -> 0.45173117 | W86: =SUM(AE86:AG86)/100*F86 -> 4.815975 | X86: =IF($G86=0,0,J86/$G86) -> 0.94639626 | Y86: =IF($G86=0,0,S86/$G86) -> 2.8616566 | Z86: =IF($G86=0,0,L86/$G86) -> 0.94639626 | AA86: =S86*Parametreler!$B$12 -> 126.62398 | AB86: =AA86*F86 -> 633.11991 | AE86: =INDEX('İşçilik Özet'!$W$6:$W$200,MATCH($A86&"",'İşçilik Özet'!$A$6:$A$200,0)) -> 21.4475 | AF86: =INDEX('İşçilik Özet'!$X$6:$X$200,MATCH($A86&"",'İşçilik Özet'!$A$6:$A$200,0)) -> 45 | AG86: =INDEX('İşçilik Özet'!$Y$6:$Y$200,MATCH($A86&"",'İşçilik Özet'!$A$6:$A$200,0)) -> 29.872 | AH86: =(L86+P86)*F86+IF(E86="Kataforez",N(Q86)*F86,IF(E86="Yaş boya",ROUNDUP(F86/MAX(1,ROUND(IF(ISNUMBER(Q86),Q86,Parametreler!$B$11),0)),0)*Parametreler!$B$10,0)) -> 482.7412
A87: 1091740 | B87: 1091740 | C87: — | D87: Resimden tahmin | E87: Yok | F87: 50 | G87: 5.056 | H87: =INDEX('Sac Özet'!$L$5:$L$199,MATCH($A87&"",'Sac Özet'!$A$5:$A$199,0)) -> 6.1657921 | I87: =INDEX('Sac Özet'!$M$5:$M$199,MATCH($A87&"",'Sac Özet'!$A$5:$A$199,0)) -> 1.1098426 | J87: =INDEX('Sac Özet'!$N$5:$N$199,MATCH($A87&"",'Sac Özet'!$A$5:$A$199,0)) -> 4.5694125 | K87: =SUMPRODUCT((--'Satınalma Parçaları'!$A$2:$A$107=--$A87)*'Satınalma Parçaları'!$L$2:$L$107) -> 0 | L87: =J87+N(K87) -> 4.5694125 | M87: =AE87/100*Parametreler!$B$7 -> 0 | N87: =AF87/100*Parametreler!$B$8 -> 2.5825 | O87: =AG87/100*Parametreler!$B$9 -> 1.4272 | P87: =SUM(M87:O87) -> 4.0097 | R87: =IF(E87="Kataforez",N(Q87),IF(E87="Yaş boya",Parametreler!$B$10/MAX(1,ROUND(IF(ISNUMBER(Q87),Q87,Parametreler!$B$11),0)),0)) -> 0 | S87: =L87+P87+R87 -> 8.5791125 | T87: =IF(S87=0,0,L87/S87) -> 0.53262065 | U87: =IF(S87=0,0,P87/S87) -> 0.46737935 | V87: =IF(S87=0,0,R87/S87) -> 0 | W87: =SUM(AE87:AG87)/100*F87 -> 10.02425 | X87: =IF($G87=0,0,J87/$G87) -> 0.90376037 | Y87: =IF($G87=0,0,S87/$G87) -> 1.6968181 | Z87: =IF($G87=0,0,L87/$G87) -> 0.90376037 | AA87: =S87*Parametreler!$B$12 -> 12.268131 | AB87: =AA87*F87 -> 613.40654 | AD87: STEP yok – resimden tahmin | AE87: =INDEX('İşçilik Özet'!$W$6:$W$200,MATCH($A87&"",'İşçilik Özet'!$A$6:$A$200,0)) -> 0 | AF87: =INDEX('İşçilik Özet'!$X$6:$X$200,MATCH($A87&"",'İşçilik Özet'!$A$6:$A$200,0)) -> 12.9125 | AG87: =INDEX('İşçilik Özet'!$Y$6:$Y$200,MATCH($A87&"",'İşçilik Özet'!$A$6:$A$200,0)) -> 7.136 | AH87: =(L87+P87)*F87+IF(E87="Kataforez",N(Q87)*F87,IF(E87="Yaş boya",ROUNDUP(F87/MAX(1,ROUND(IF(ISNUMBER(Q87),Q87,Parametreler!$B$11),0)),0)*Parametreler!$B$10,0)) -> 428.95562
A88: 553127 | B88: Ayarlı Yatay Hat Baglantısı Kaynak 2 | C88: A.1 | D88: Resimden tahmin | E88: Yaş boya | F88: 47 | G88: 0.686 | H88: =INDEX('Sac Özet'!$L$5:$L$199,MATCH($A88&"",'Sac Özet'!$A$5:$A$199,0)) -> 0.83659939 | I88: =INDEX('Sac Özet'!$M$5:$M$199,MATCH($A88&"",'Sac Özet'!$A$5:$A$199,0)) -> 0.15058789 | J88: =INDEX('Sac Özet'!$N$5:$N$199,MATCH($A88&"",'Sac Özet'!$A$5:$A$199,0)) -> 0.6199962 | K88: =SUMPRODUCT((--'Satınalma Parçaları'!$A$2:$A$107=--$A88)*'Satınalma Parçaları'!$L$2:$L$107) -> 0 | L88: =J88+N(K88) -> 0.6199962 | M88: =AE88/100*Parametreler!$B$7 -> 0 | N88: =AF88/100*Parametreler!$B$8 -> 2.5825 | O88: =AG88/100*Parametreler!$B$9 -> 0.968 | P88: =SUM(M88:O88) -> 3.5505 | Q88: =VLOOKUP($A88,'Yaş Boya Listesi'!$B$6:$L$131,11,FALSE()) -> 20 | R88: =IF(E88="Kataforez",N(Q88),IF(E88="Yaş boya",Parametreler!$B$10/MAX(1,ROUND(IF(ISNUMBER(Q88),Q88,Parametreler!$B$11),0)),0)) -> 4 | S88: =L88+P88+R88 -> 8.1704962 | T88: =IF(S88=0,0,L88/S88) -> 0.075882319 | U88: =IF(S88=0,0,P88/S88) -> 0.43455133 | V88: =IF(S88=0,0,R88/S88) -> 0.48956635 | W88: =SUM(AE88:AG88)/100*F88 -> 8.343675 | X88: =IF($G88=0,0,J88/$G88) -> 0.90378455 | Y88: =IF($G88=0,0,S88/$G88) -> 11.910344 | Z88: =IF($G88=0,0,L88/$G88) -> 0.90378455 | AA88: =S88*Parametreler!$B$12 -> 11.68381 | AB88: =AA88*F88 -> 549.13905 | AD88: STEP yok – resimden tahmin | AE88: =INDEX('İşçilik Özet'!$W$6:$W$200,MATCH($A88&"",'İşçilik Özet'!$A$6:$A$200,0)) -> 0 | AF88: =INDEX('İşçilik Özet'!$X$6:$X$200,MATCH($A88&"",'İşçilik Özet'!$A$6:$A$200,0)) -> 12.9125 | AG88: =INDEX('İşçilik Özet'!$Y$6:$Y$200,MATCH($A88&"",'İşçilik Özet'!$A$6:$A$200,0)) -> 4.84 | AH88: =(L88+P88)*F88+IF(E88="Kataforez",N(Q88)*F88,IF(E88="Yaş boya",ROUNDUP(F88/MAX(1,ROUND(IF(ISNUMBER(Q88),Q88,Parametreler!$B$11),0)),0)*Parametreler!$B$10,0)) -> 436.01332
A89: 1162215 | B89: 1162215 | C89: A.2 | D89: Resimden tahmin | E89: Yok | F89: 48 | G89: 4.027 | H89: =INDEX('Sac Özet'!$L$5:$L$199,MATCH($A89&"",'Sac Özet'!$A$5:$A$199,0)) -> 4.9110366 | I89: =INDEX('Sac Özet'!$M$5:$M$199,MATCH($A89&"",'Sac Özet'!$A$5:$A$199,0)) -> 0.88398659 | J89: =INDEX('Sac Özet'!$N$5:$N$199,MATCH($A89&"",'Sac Özet'!$A$5:$A$199,0)) -> 3.6395246 | K89: =SUMPRODUCT((--'Satınalma Parçaları'!$A$2:$A$107=--$A89)*'Satınalma Parçaları'!$L$2:$L$107) -> 0 | L89: =J89+N(K89) -> 3.6395246 | M89: =AE89/100*Parametreler!$B$7 -> 0 | N89: =AF89/100*Parametreler!$B$8 -> 2.5825 | O89: =AG89/100*Parametreler!$B$9 -> 1.36 | P89: =SUM(M89:O89) -> 3.9425 | R89: =IF(E89="Kataforez",N(Q89),IF(E89="Yaş boya",Parametreler!$B$10/MAX(1,ROUND(IF(ISNUMBER(Q89),Q89,Parametreler!$B$11),0)),0)) -> 0 | S89: =L89+P89+R89 -> 7.5820246 | T89: =IF(S89=0,0,L89/S89) -> 0.48002015 | U89: =IF(S89=0,0,P89/S89) -> 0.51997985 | V89: =IF(S89=0,0,R89/S89) -> 0 | W89: =SUM(AE89:AG89)/100*F89 -> 9.462 | X89: =IF($G89=0,0,J89/$G89) -> 0.90378062 | Y89: =IF($G89=0,0,S89/$G89) -> 1.8827973 | Z89: =IF($G89=0,0,L89/$G89) -> 0.90378062 | AA89: =S89*Parametreler!$B$12 -> 10.842295 | AB89: =AA89*F89 -> 520.43017 | AD89: STEP yok – resimden tahmin | AE89: =INDEX('İşçilik Özet'!$W$6:$W$200,MATCH($A89&"",'İşçilik Özet'!$A$6:$A$200,0)) -> 0 | AF89: =INDEX('İşçilik Özet'!$X$6:$X$200,MATCH($A89&"",'İşçilik Özet'!$A$6:$A$200,0)) -> 12.9125 | AG89: =INDEX('İşçilik Özet'!$Y$6:$Y$200,MATCH($A89&"",'İşçilik Özet'!$A$6:$A$200,0)) -> 6.8 | AH89: =(L89+P89)*F89+IF(E89="Kataforez",N(Q89)*F89,IF(E89="Yaş boya",ROUNDUP(F89/MAX(1,ROUND(IF(ISNUMBER(Q89),Q89,Parametreler!$B$11),0)),0)*Parametreler!$B$10,0)) -> 363.93718
A90: 110067 | B90: H52 - H58 Motor Koruma Sacı | C90: — | D90: STEP | E90: Yok | F90: 16 | G90: 8.482 | H90: =INDEX('Sac Özet'!$L$5:$L$199,MATCH($A90&"",'Sac Özet'!$A$5:$A$199,0)) -> 11.257173 | I90: =INDEX('Sac Özet'!$M$5:$M$199,MATCH($A90&"",'Sac Özet'!$A$5:$A$199,0)) -> 2.835128 | J90: =INDEX('Sac Özet'!$N$5:$N$199,MATCH($A90&"",'Sac Özet'!$A$5:$A$199,0)) -> 8.0778785 | K90: =SUMPRODUCT((--'Satınalma Parçaları'!$A$2:$A$107=--$A90)*'Satınalma Parçaları'!$L$2:$L$107) -> 0 | L90: =J90+N(K90) -> 8.0778785 | M90: =AE90/100*Parametreler!$B$7 -> 0 | N90: =AF90/100*Parametreler!$B$8 -> 8.8325 | O90: =AG90/100*Parametreler!$B$9 -> 5.0122 | P90: =SUM(M90:O90) -> 13.8447 | R90: =IF(E90="Kataforez",N(Q90),IF(E90="Yaş boya",Parametreler!$B$10/MAX(1,ROUND(IF(ISNUMBER(Q90),Q90,Parametreler!$B$11),0)),0)) -> 0 | S90: =L90+P90+R90 -> 21.922578 | T90: =IF(S90=0,0,L90/S90) -> 0.36847301 | U90: =IF(S90=0,0,P90/S90) -> 0.63152699 | V90: =IF(S90=0,0,R90/S90) -> 0 | W90: =SUM(AE90:AG90)/100*F90 -> 11.07576 | X90: =IF($G90=0,0,J90/$G90) -> 0.9523554 | Y90: =IF($G90=0,0,S90/$G90) -> 2.5846002 | Z90: =IF($G90=0,0,L90/$G90) -> 0.9523554 | AA90: =S90*Parametreler!$B$12 -> 31.349287 | AB90: =AA90*F90 -> 501.5886 | AC90: H900_1424046 Parça ×4; H900.00013 Parça ×4 | AD90: 2 satınalma kalemi | AE90: =INDEX('İşçilik Özet'!$W$6:$W$200,MATCH($A90&"",'İşçilik Özet'!$A$6:$A$200,0)) -> 0 | AF90: =INDEX('İşçilik Özet'!$X$6:$X$200,MATCH($A90&"",'İşçilik Özet'!$A$6:$A$200,0)) -> 44.1625 | AG90: =INDEX('İşçilik Özet'!$Y$6:$Y$200,MATCH($A90&"",'İşçilik Özet'!$A$6:$A$200,0)) -> 25.061 | AH90: =(L90+P90)*F90+IF(E90="Kataforez",N(Q90)*F90,IF(E90="Yaş boya",ROUNDUP(F90/MAX(1,ROUND(IF(ISNUMBER(Q90),Q90,Parametreler!$B$11),0)),0)*Parametreler!$B$10,0)) -> 350.76126
A91: 1091748 | B91: Mack GU-BST51 Full Heıght (200MM) | C91: — | D91: STEP | E91: Yok | F91: 30 | G91: 10.333 | H91: =INDEX('Sac Özet'!$L$5:$L$199,MATCH($A91&"",'Sac Özet'!$A$5:$A$199,0)) -> 11.3668 | I91: =INDEX('Sac Özet'!$M$5:$M$199,MATCH($A91&"",'Sac Özet'!$A$5:$A$199,0)) -> 1.033688 | J91: =INDEX('Sac Özet'!$N$5:$N$199,MATCH($A91&"",'Sac Özet'!$A$5:$A$199,0)) -> 8.7551421 | K91: =SUMPRODUCT((--'Satınalma Parçaları'!$A$2:$A$107=--$A91)*'Satınalma Parçaları'!$L$2:$L$107) -> 0 | L91: =J91+N(K91) -> 8.7551421 | M91: =AE91/100*Parametreler!$B$7 -> 0 | N91: =AF91/100*Parametreler!$B$8 -> 2.0825 | O91: =AG91/100*Parametreler!$B$9 -> 1.268 | P91: =SUM(M91:O91) -> 3.3505 | R91: =IF(E91="Kataforez",N(Q91),IF(E91="Yaş boya",Parametreler!$B$10/MAX(1,ROUND(IF(ISNUMBER(Q91),Q91,Parametreler!$B$11),0)),0)) -> 0 | S91: =L91+P91+R91 -> 12.105642 | T91: =IF(S91=0,0,L91/S91) -> 0.72322823 | U91: =IF(S91=0,0,P91/S91) -> 0.27677177 | V91: =IF(S91=0,0,R91/S91) -> 0 | W91: =SUM(AE91:AG91)/100*F91 -> 5.02575 | X91: =IF($G91=0,0,J91/$G91) -> 0.84729915 | Y91: =IF($G91=0,0,S91/$G91) -> 1.1715515 | Z91: =IF($G91=0,0,L91/$G91) -> 0.84729915 | AA91: =S91*Parametreler!$B$12 -> 17.311068 | AB91: =AA91*F91 -> 519.33205 | AE91: =INDEX('İşçilik Özet'!$W$6:$W$200,MATCH($A91&"",'İşçilik Özet'!$A$6:$A$200,0)) -> 0 | AF91: =INDEX('İşçilik Özet'!$X$6:$X$200,MATCH($A91&"",'İşçilik Özet'!$A$6:$A$200,0)) -> 10.4125 | AG91: =INDEX('İşçilik Özet'!$Y$6:$Y$200,MATCH($A91&"",'İşçilik Özet'!$A$6:$A$200,0)) -> 6.34 | AH91: =(L91+P91)*F91+IF(E91="Kataforez",N(Q91)*F91,IF(E91="Yaş boya",ROUNDUP(F91/MAX(1,ROUND(IF(ISNUMBER(Q91),Q91,Parametreler!$B$11),0)),0)*Parametreler!$B$10,0)) -> 363.16926
A92: 694385 | B92: H24.90 - H30.14S - H47.16 Su Kutusu Askısı | C92: A.1 | D92: STEP | E92: Yok | F92: 22 | G92: 15.52 | H92: =INDEX('Sac Özet'!$L$5:$L$199,MATCH($A92&"",'Sac Özet'!$A$5:$A$199,0)) -> 21.544153 | I92: =INDEX('Sac Özet'!$M$5:$M$199,MATCH($A92&"",'Sac Özet'!$A$5:$A$199,0)) -> 9.4647697 | J92: =INDEX('Sac Özet'!$N$5:$N$199,MATCH($A92&"",'Sac Özet'!$A$5:$A$199,0)) -> 14.137762 | K92: =SUMPRODUCT((--'Satınalma Parçaları'!$A$2:$A$107=--$A92)*'Satınalma Parçaları'!$L$2:$L$107) -> 0 | L92: =J92+N(K92) -> 14.137762 | M92: =AE92/100*Parametreler!$B$7 -> 0 | N92: =AF92/100*Parametreler!$B$8 -> 2.0825 | O92: =AG92/100*Parametreler!$B$9 -> 0.6366 | P92: =SUM(M92:O92) -> 2.7191 | R92: =IF(E92="Kataforez",N(Q92),IF(E92="Yaş boya",Parametreler!$B$10/MAX(1,ROUND(IF(ISNUMBER(Q92),Q92,Parametreler!$B$11),0)),0)) -> 0 | S92: =L92+P92+R92 -> 16.856862 | T92: =IF(S92=0,0,L92/S92) -> 0.83869477 | U92: =IF(S92=0,0,P92/S92) -> 0.16130523 | V92: =IF(S92=0,0,R92/S92) -> 0 | W92: =SUM(AE92:AG92)/100*F92 -> 2.99101 | X92: =IF($G92=0,0,J92/$G92) -> 0.91093826 | Y92: =IF($G92=0,0,S92/$G92) -> 1.086138 | Z92: =IF($G92=0,0,L92/$G92) -> 0.91093826 | AA92: =S92*Parametreler!$B$12 -> 24.105312 | AB92: =AA92*F92 -> 530.31687 | AC92: 105263 ASKI MİLİ 135mm ×2 | AD92: 1 satınalma kalemi | AE92: =INDEX('İşçilik Özet'!$W$6:$W$200,MATCH($A92&"",'İşçilik Özet'!$A$6:$A$200,0)) -> 0 | AF92: =INDEX('İşçilik Özet'!$X$6:$X$200,MATCH($A92&"",'İşçilik Özet'!$A$6:$A$200,0)) -> 10.4125 | AG92: =INDEX('İşçilik Özet'!$Y$6:$Y$200,MATCH($A92&"",'İşçilik Özet'!$A$6:$A$200,0)) -> 3.183 | AH92: =(L92+P92)*F92+IF(E92="Kataforez",N(Q92)*F92,IF(E92="Yaş boya",ROUNDUP(F92/MAX(1,ROUND(IF(ISNUMBER(Q92),Q92,Parametreler!$B$11),0)),0)*Parametreler!$B$10,0)) -> 370.85096
A93: 113487 | B93: H58-7RZ 4.BOM Ön Destek | C93: A.6 | D93: Resimden tahmin | E93: Yaş boya | F93: 13 | G93: 6.606 | H93: =INDEX('Sac Özet'!$L$5:$L$199,MATCH($A93&"",'Sac Özet'!$A$5:$A$199,0)) -> 8.3107598 | I93: =INDEX('Sac Özet'!$M$5:$M$199,MATCH($A93&"",'Sac Özet'!$A$5:$A$199,0)) -> 1.704765 | J93: =INDEX('Sac Özet'!$N$5:$N$199,MATCH($A93&"",'Sac Özet'!$A$5:$A$199,0)) -> 6.0906847 | K93: =SUMPRODUCT((--'Satınalma Parçaları'!$A$2:$A$107=--$A93)*'Satınalma Parçaları'!$L$2:$L$107) -> 0 | L93: =J93+N(K93) -> 6.0906847 | M93: =AE93/100*Parametreler!$B$7 -> 2.37475 | N93: =AF93/100*Parametreler!$B$8 -> 1.5825 | O93: =AG93/100*Parametreler!$B$9 -> 1.64 | P93: =SUM(M93:O93) -> 5.59725 | Q93: =VLOOKUP($A93,'Yaş Boya Listesi'!$B$6:$L$131,11,FALSE()) -> 6 | R93: =IF(E93="Kataforez",N(Q93),IF(E93="Yaş boya",Parametreler!$B$10/MAX(1,ROUND(IF(ISNUMBER(Q93),Q93,Parametreler!$B$11),0)),0)) -> 13.333333 | S93: =L93+P93+R93 -> 25.021268 | T93: =IF(S93=0,0,L93/S93) -> 0.24342031 | U93: =IF(S93=0,0,P93/S93) -> 0.22369969 | V93: =IF(S93=0,0,R93/S93) -> 0.53288 | W93: =SUM(AE93:AG93)/100*F93 -> 3.6382125 | X93: =IF($G93=0,0,J93/$G93) -> 0.92199285 | Y93: =IF($G93=0,0,S93/$G93) -> 3.7876579 | Z93: =IF($G93=0,0,L93/$G93) -> 0.92199285 | AA93: =S93*Parametreler!$B$12 -> 35.780413 | AB93: =AA93*F93 -> 465.14537 | AD93: STEP yok – resimden tahmin | AE93: =INDEX('İşçilik Özet'!$W$6:$W$200,MATCH($A93&"",'İşçilik Özet'!$A$6:$A$200,0)) -> 11.87375 | AF93: =INDEX('İşçilik Özet'!$X$6:$X$200,MATCH($A93&"",'İşçilik Özet'!$A$6:$A$200,0)) -> 7.9125 | AG93: =INDEX('İşçilik Özet'!$Y$6:$Y$200,MATCH($A93&"",'İşçilik Özet'!$A$6:$A$200,0)) -> 8.2 | AH93: =(L93+P93)*F93+IF(E93="Kataforez",N(Q93)*F93,IF(E93="Yaş boya",ROUNDUP(F93/MAX(1,ROUND(IF(ISNUMBER(Q93),Q93,Parametreler!$B$11),0)),0)*Parametreler!$B$10,0)) -> 391.94315
A94: 680921 | B94: Su Tankı Sehpası Ayağı (H=120MM) | C94: A.1 | D94: Resimden tahmin | E94: Yaş boya | F94: 20 | G94: 1.647 | H94: =INDEX('Sac Özet'!$L$5:$L$199,MATCH($A94&"",'Sac Özet'!$A$5:$A$199,0)) -> 2.0690064 | I94: =INDEX('Sac Özet'!$M$5:$M$199,MATCH($A94&"",'Sac Özet'!$A$5:$A$199,0)) -> 0.42196647 | J94: =INDEX('Sac Özet'!$N$5:$N$199,MATCH($A94&"",'Sac Özet'!$A$5:$A$199,0)) -> 1.517107 | K94: =SUMPRODUCT((--'Satınalma Parçaları'!$A$2:$A$107=--$A94)*'Satınalma Parçaları'!$L$2:$L$107) -> 0 | L94: =J94+N(K94) -> 1.517107 | M94: =AE94/100*Parametreler!$B$7 -> 1.311 | N94: =AF94/100*Parametreler!$B$8 -> 2.0825 | O94: =AG94/100*Parametreler!$B$9 -> 1.61 | P94: =SUM(M94:O94) -> 5.0035 | Q94: =VLOOKUP($A94,'Yaş Boya Listesi'!$B$6:$L$131,11,FALSE()) -> 10 | R94: =IF(E94="Kataforez",N(Q94),IF(E94="Yaş boya",Parametreler!$B$10/MAX(1,ROUND(IF(ISNUMBER(Q94),Q94,Parametreler!$B$11),0)),0)) -> 8 | S94: =L94+P94+R94 -> 14.520607 | T94: =IF(S94=0,0,L94/S94) -> 0.10447958 | U94: =IF(S94=0,0,P94/S94) -> 0.34457926 | V94: =IF(S94=0,0,R94/S94) -> 0.55094116 | W94: =SUM(AE94:AG94)/100*F94 -> 5.0035 | X94: =IF($G94=0,0,J94/$G94) -> 0.92113356 | Y94: =IF($G94=0,0,S94/$G94) -> 8.8163977 | Z94: =IF($G94=0,0,L94/$G94) -> 0.92113356 | AA94: =S94*Parametreler!$B$12 -> 20.764468 | AB94: =AA94*F94 -> 415.28936 | AD94: STEP yok – resimden tahmin | AE94: =INDEX('İşçilik Özet'!$W$6:$W$200,MATCH($A94&"",'İşçilik Özet'!$A$6:$A$200,0)) -> 6.555 | AF94: =INDEX('İşçilik Özet'!$X$6:$X$200,MATCH($A94&"",'İşçilik Özet'!$A$6:$A$200,0)) -> 10.4125 | AG94: =INDEX('İşçilik Özet'!$Y$6:$Y$200,MATCH($A94&"",'İşçilik Özet'!$A$6:$A$200,0)) -> 8.05 | AH94: =(L94+P94)*F94+IF(E94="Kataforez",N(Q94)*F94,IF(E94="Yaş boya",ROUNDUP(F94/MAX(1,ROUND(IF(ISNUMBER(Q94),Q94,Parametreler!$B$11),0)),0)*Parametreler!$B$10,0)) -> 290.41214
A95: 388529 | B95: Su Tankı Sehpası Ayağı (H=110MM) | C95: A.3 | D95: Resimden tahmin | E95: Yaş boya | F95: 20 | G95: 1.743 | H95: =INDEX('Sac Özet'!$L$5:$L$199,MATCH($A95&"",'Sac Özet'!$A$5:$A$199,0)) -> 2.1828479 | I95: =INDEX('Sac Özet'!$M$5:$M$199,MATCH($A95&"",'Sac Özet'!$A$5:$A$199,0)) -> 0.43986529 | J95: =INDEX('Sac Özet'!$N$5:$N$199,MATCH($A95&"",'Sac Özet'!$A$5:$A$199,0)) -> 1.6023224 | K95: =SUMPRODUCT((--'Satınalma Parçaları'!$A$2:$A$107=--$A95)*'Satınalma Parçaları'!$L$2:$L$107) -> 0 | L95: =J95+N(K95) -> 1.6023224 | M95: =AE95/100*Parametreler!$B$7 -> 1.311 | N95: =AF95/100*Parametreler!$B$8 -> 2.0825 | O95: =AG95/100*Parametreler!$B$9 -> 1.5 | P95: =SUM(M95:O95) -> 4.8935 | Q95: =VLOOKUP($A95,'Yaş Boya Listesi'!$B$6:$L$131,11,FALSE()) -> 10 | R95: =IF(E95="Kataforez",N(Q95),IF(E95="Yaş boya",Parametreler!$B$10/MAX(1,ROUND(IF(ISNUMBER(Q95),Q95,Parametreler!$B$11),0)),0)) -> 8 | S95: =L95+P95+R95 -> 14.495822 | T95: =IF(S95=0,0,L95/S95) -> 0.11053684 | U95: =IF(S95=0,0,P95/S95) -> 0.33758002 | V95: =IF(S95=0,0,R95/S95) -> 0.55188314 | W95: =SUM(AE95:AG95)/100*F95 -> 4.8935 | X95: =IF($G95=0,0,J95/$G95) -> 0.91928996 | Y95: =IF($G95=0,0,S95/$G95) -> 8.3165935 | Z95: =IF($G95=0,0,L95/$G95) -> 0.91928996 | AA95: =S95*Parametreler!$B$12 -> 20.729026 | AB95: =AA95*F95 -> 414.58052 | AD95: STEP yok – resimden tahmin | AE95: =INDEX('İşçilik Özet'!$W$6:$W$200,MATCH($A95&"",'İşçilik Özet'!$A$6:$A$200,0)) -> 6.555 | AF95: =INDEX('İşçilik Özet'!$X$6:$X$200,MATCH($A95&"",'İşçilik Özet'!$A$6:$A$200,0)) -> 10.4125 | AG95: =INDEX('İşçilik Özet'!$Y$6:$Y$200,MATCH($A95&"",'İşçilik Özet'!$A$6:$A$200,0)) -> 7.5 | AH95: =(L95+P95)*F95+IF(E95="Kataforez",N(Q95)*F95,IF(E95="Yaş boya",ROUNDUP(F95/MAX(1,ROUND(IF(ISNUMBER(Q95),Q95,Parametreler!$B$11),0)),0)*Parametreler!$B$10,0)) -> 289.91645
A96: 543659 | B96: Sol Kazan Basamagı | C96: B | D96: Resimden tahmin | E96: Kataforez | F96: 12 | G96: 8.649 | H96: =INDEX('Sac Özet'!$L$5:$L$199,MATCH($A96&"",'Sac Özet'!$A$5:$A$199,0)) -> 4.9018063 | I96: =INDEX('Sac Özet'!$M$5:$M$199,MATCH($A96&"",'Sac Özet'!$A$5:$A$199,0)) -> 1.0188195 | J96: =INDEX('Sac Özet'!$N$5:$N$199,MATCH($A96&"",'Sac Özet'!$A$5:$A$199,0)) -> 3.5880132 | K96: =SUMPRODUCT((--'Satınalma Parçaları'!$A$2:$A$107=--$A96)*'Satınalma Parçaları'!$L$2:$L$107) -> 3.12 | L96: =J96+N(K96) -> 6.7080132 | M96: =AE96/100*Parametreler!$B$7 -> 3.933 | N96: =AF96/100*Parametreler!$B$8 -> 3.5825 | O96: =AG96/100*Parametreler!$B$9 -> 2.064 | P96: =SUM(M96:O96) -> 9.5795 | Q96: =IFERROR(INDEX('Kataforez Teklifleri'!$G$6:$G$50,MATCH($A96&"",'Kataforez Teklifleri'!$A$6:$A$50,0)),"") -> 6.92 | R96: =IF(E96="Kataforez",N(Q96),IF(E96="Yaş boya",Parametreler!$B$10/MAX(1,ROUND(IF(ISNUMBER(Q96),Q96,Parametreler!$B$11),0)),0)) -> 6.92 | S96: =L96+P96+R96 -> 23.207513 | T96: =IF(S96=0,0,L96/S96) -> 0.28904489 | U96: =IF(S96=0,0,P96/S96) -> 0.41277581 | V96: =IF(S96=0,0,R96/S96) -> 0.2981793 | W96: =SUM(AE96:AG96)/100*F96 -> 5.7477 | X96: =IF($G96=0,0,J96/$G96) -> 0.41484717 | Y96: =IF($G96=0,0,S96/$G96) -> 2.6832597 | Z96: =IF($G96=0,0,L96/$G96) -> 0.77558252 | AA96: =S96*Parametreler!$B$12 -> 33.186744 | AB96: =AA96*F96 -> 398.24093 | AC96: 475200 KUTU PROFİL : 60x40x5 L:700 mm ×1 | AD96: STEP yok – resimden tahmin · 1 satınalma kalemi | AE96: =INDEX('İşçilik Özet'!$W$6:$W$200,MATCH($A96&"",'İşçilik Özet'!$A$6:$A$200,0)) -> 19.665 | AF96: =INDEX('İşçilik Özet'!$X$6:$X$200,MATCH($A96&"",'İşçilik Özet'!$A$6:$A$200,0)) -> 17.9125 | AG96: =INDEX('İşçilik Özet'!$Y$6:$Y$200,MATCH($A96&"",'İşçilik Özet'!$A$6:$A$200,0)) -> 10.32 | AH96: =(L96+P96)*F96+IF(E96="Kataforez",N(Q96)*F96,IF(E96="Yaş boya",ROUNDUP(F96/MAX(1,ROUND(IF(ISNUMBER(Q96),Q96,Parametreler!$B$11),0)),0)*Parametreler!$B$10,0)) -> 278.49016
A97: 109984 | B97: H58-H52 Yatay Hat Pedestal Bağlantı Montaj | C97: A.7 | D97: Resimden tahmin | E97: Yaş boya | F97: 16 | G97: 1.959 | H97: =INDEX('Sac Özet'!$L$5:$L$199,MATCH($A97&"",'Sac Özet'!$A$5:$A$199,0)) -> 2.4828684 | I97: =INDEX('Sac Özet'!$M$5:$M$199,MATCH($A97&"",'Sac Özet'!$A$5:$A$199,0)) -> 0.52388524 | J97: =INDEX('Sac Özet'!$N$5:$N$199,MATCH($A97&"",'Sac Özet'!$A$5:$A$199,0)) -> 1.8148414 | K97: =SUMPRODUCT((--'Satınalma Parçaları'!$A$2:$A$107=--$A97)*'Satınalma Parçaları'!$L$2:$L$107) -> 0 | L97: =J97+N(K97) -> 1.8148414 | M97: =AE97/100*Parametreler!$B$7 -> 3.473 | N97: =AF97/100*Parametreler!$B$8 -> 2.5825 | O97: =AG97/100*Parametreler!$B$9 -> 1.24 | P97: =SUM(M97:O97) -> 7.2955 | Q97: =VLOOKUP($A97,'Yaş Boya Listesi'!$B$6:$L$131,11,FALSE()) -> 10 | R97: =IF(E97="Kataforez",N(Q97),IF(E97="Yaş boya",Parametreler!$B$10/MAX(1,ROUND(IF(ISNUMBER(Q97),Q97,Parametreler!$B$11),0)),0)) -> 8 | S97: =L97+P97+R97 -> 17.110341 | T97: =IF(S97=0,0,L97/S97) -> 0.10606693 | U97: =IF(S97=0,0,P97/S97) -> 0.42637957 | V97: =IF(S97=0,0,R97/S97) -> 0.4675535 | W97: =SUM(AE97:AG97)/100*F97 -> 5.8364 | X97: =IF($G97=0,0,J97/$G97) -> 0.92641215 | Y97: =IF($G97=0,0,S97/$G97) -> 8.7342223 | Z97: =IF($G97=0,0,L97/$G97) -> 0.92641215 | AA97: =S97*Parametreler!$B$12 -> 24.467788 | AB97: =AA97*F97 -> 391.48461 | AD97: STEP yok – resimden tahmin | AE97: =INDEX('İşçilik Özet'!$W$6:$W$200,MATCH($A97&"",'İşçilik Özet'!$A$6:$A$200,0)) -> 17.365 | AF97: =INDEX('İşçilik Özet'!$X$6:$X$200,MATCH($A97&"",'İşçilik Özet'!$A$6:$A$200,0)) -> 12.9125 | AG97: =INDEX('İşçilik Özet'!$Y$6:$Y$200,MATCH($A97&"",'İşçilik Özet'!$A$6:$A$200,0)) -> 6.2 | AH97: =(L97+P97)*F97+IF(E97="Kataforez",N(Q97)*F97,IF(E97="Yaş boya",ROUNDUP(F97/MAX(1,ROUND(IF(ISNUMBER(Q97),Q97,Parametreler!$B$11),0)),0)*Parametreler!$B$10,0)) -> 305.76546
A98: 238114 | B98: H51 Bom Valfi Baglantı Parcası | C98: A.6 | D98: Resimden tahmin | E98: Yaş boya | F98: 10 | G98: 6.813 | H98: =INDEX('Sac Özet'!$L$5:$L$199,MATCH($A98&"",'Sac Özet'!$A$5:$A$199,0)) -> 8.5853102 | I98: =INDEX('Sac Özet'!$M$5:$M$199,MATCH($A98&"",'Sac Özet'!$A$5:$A$199,0)) -> 1.7723345 | J98: =INDEX('Sac Özet'!$N$5:$N$199,MATCH($A98&"",'Sac Özet'!$A$5:$A$199,0)) -> 6.2882114 | K98: =SUMPRODUCT((--'Satınalma Parçaları'!$A$2:$A$107=--$A98)*'Satınalma Parçaları'!$L$2:$L$107) -> 0 | L98: =J98+N(K98) -> 6.2882114 | M98: =AE98/100*Parametreler!$B$7 -> 2.392 | N98: =AF98/100*Parametreler!$B$8 -> 3.5825 | O98: =AG98/100*Parametreler!$B$9 -> 2.1408 | P98: =SUM(M98:O98) -> 8.1153 | Q98: =VLOOKUP($A98,'Yaş Boya Listesi'!$B$6:$L$131,11,FALSE()) -> 6 | R98: =IF(E98="Kataforez",N(Q98),IF(E98="Yaş boya",Parametreler!$B$10/MAX(1,ROUND(IF(ISNUMBER(Q98),Q98,Parametreler!$B$11),0)),0)) -> 13.333333 | S98: =L98+P98+R98 -> 27.736845 | T98: =IF(S98=0,0,L98/S98) -> 0.22670969 | U98: =IF(S98=0,0,P98/S98) -> 0.29258195 | V98: =IF(S98=0,0,R98/S98) -> 0.48070837 | W98: =SUM(AE98:AG98)/100*F98 -> 4.05765 | X98: =IF($G98=0,0,J98/$G98) -> 0.92297247 | Y98: =IF($G98=0,0,S98/$G98) -> 4.0711647 | Z98: =IF($G98=0,0,L98/$G98) -> 0.92297247 | AA98: =S98*Parametreler!$B$12 -> 39.663688 | AB98: =AA98*F98 -> 396.63688 | AD98: STEP yok – resimden tahmin | AE98: =INDEX('İşçilik Özet'!$W$6:$W$200,MATCH($A98&"",'İşçilik Özet'!$A$6:$A$200,0)) -> 11.96 | AF98: =INDEX('İşçilik Özet'!$X$6:$X$200,MATCH($A98&"",'İşçilik Özet'!$A$6:$A$200,0)) -> 17.9125 | AG98: =INDEX('İşçilik Özet'!$Y$6:$Y$200,MATCH($A98&"",'İşçilik Özet'!$A$6:$A$200,0)) -> 10.704 | AH98: =(L98+P98)*F98+IF(E98="Kataforez",N(Q98)*F98,IF(E98="Yaş boya",ROUNDUP(F98/MAX(1,ROUND(IF(ISNUMBER(Q98),Q98,Parametreler!$B$11),0)),0)*Parametreler!$B$10,0)) -> 304.03511
A99: 1162344 | B99: H58 Yatay Hat U Bolt BAĞLATI-1 | C99: A.1 | D99: Resimden tahmin | E99: Yaş boya | F99: 16 | G99: 1.832 | H99: =INDEX('Sac Özet'!$L$5:$L$199,MATCH($A99&"",'Sac Özet'!$A$5:$A$199,0)) -> 2.3219285 | I99: =INDEX('Sac Özet'!$M$5:$M$199,MATCH($A99&"",'Sac Özet'!$A$5:$A$199,0)) -> 0.48992692 | J99: =INDEX('Sac Özet'!$N$5:$N$199,MATCH($A99&"",'Sac Özet'!$A$5:$A$199,0)) -> 1.6972031 | K99: =SUMPRODUCT((--'Satınalma Parçaları'!$A$2:$A$107=--$A99)*'Satınalma Parçaları'!$L$2:$L$107) -> 0 | L99: =J99+N(K99) -> 1.6972031 | M99: =AE99/100*Parametreler!$B$7 -> 3.473 | N99: =AF99/100*Parametreler!$B$8 -> 2.5825 | O99: =AG99/100*Parametreler!$B$9 -> 1.24 | P99: =SUM(M99:O99) -> 7.2955 | Q99: =VLOOKUP($A99,'Yaş Boya Listesi'!$B$6:$L$131,11,FALSE()) -> 10 | R99: =IF(E99="Kataforez",N(Q99),IF(E99="Yaş boya",Parametreler!$B$10/MAX(1,ROUND(IF(ISNUMBER(Q99),Q99,Parametreler!$B$11),0)),0)) -> 8 | S99: =L99+P99+R99 -> 16.992703 | T99: =IF(S99=0,0,L99/S99) -> 0.099878347 | U99: =IF(S99=0,0,P99/S99) -> 0.42933134 | V99: =IF(S99=0,0,R99/S99) -> 0.47079031 | W99: =SUM(AE99:AG99)/100*F99 -> 5.8364 | X99: =IF($G99=0,0,J99/$G99) -> 0.9264209 | Y99: =IF($G99=0,0,S99/$G99) -> 9.275493 | Z99: =IF($G99=0,0,L99/$G99) -> 0.9264209 | AA99: =S99*Parametreler!$B$12 -> 24.299565 | AB99: =AA99*F99 -> 388.79305 | AD99: STEP yok – resimden tahmin | AE99: =INDEX('İşçilik Özet'!$W$6:$W$200,MATCH($A99&"",'İşçilik Özet'!$A$6:$A$200,0)) -> 17.365 | AF99: =INDEX('İşçilik Özet'!$X$6:$X$200,MATCH($A99&"",'İşçilik Özet'!$A$6:$A$200,0)) -> 12.9125 | AG99: =INDEX('İşçilik Özet'!$Y$6:$Y$200,MATCH($A99&"",'İşçilik Özet'!$A$6:$A$200,0)) -> 6.2 | AH99: =(L99+P99)*F99+IF(E99="Kataforez",N(Q99)*F99,IF(E99="Yaş boya",ROUNDUP(F99/MAX(1,ROUND(IF(ISNUMBER(Q99),Q99,Parametreler!$B$11),0)),0)*Parametreler!$B$10,0)) -> 303.88325
A100: 234404 | B100: H51 Ön Bom Desteği | C100: A.4 | D100: STEP | E100: Yok | F100: 10 | G100: 21.361 | H100: =INDEX('Sac Özet'!$L$5:$L$199,MATCH($A100&"",'Sac Özet'!$A$5:$A$199,0)) -> 23.556958 | I100: =INDEX('Sac Özet'!$M$5:$M$199,MATCH($A100&"",'Sac Özet'!$A$5:$A$199,0)) -> 2.1939839 | J100: =INDEX('Sac Özet'!$N$5:$N$199,MATCH($A100&"",'Sac Özet'!$A$5:$A$199,0)) -> 18.127535 | K100: =SUMPRODUCT((--'Satınalma Parçaları'!$A$2:$A$107=--$A100)*'Satınalma Parçaları'!$L$2:$L$107) -> 0 | L100: =J100+N(K100) -> 18.127535 | M100: =AE100/100*Parametreler!$B$7 -> 2.37475 | N100: =AF100/100*Parametreler!$B$8 -> 4.5825 | O100: =AG100/100*Parametreler!$B$9 -> 3.7336 | P100: =SUM(M100:O100) -> 10.69085 | R100: =IF(E100="Kataforez",N(Q100),IF(E100="Yaş boya",Parametreler!$B$10/MAX(1,ROUND(IF(ISNUMBER(Q100),Q100,Parametreler!$B$11),0)),0)) -> 0 | S100: =L100+P100+R100 -> 28.818385 | T100: =IF(S100=0,0,L100/S100) -> 0.62902675 | U100: =IF(S100=0,0,P100/S100) -> 0.37097325 | V100: =IF(S100=0,0,R100/S100) -> 0 | W100: =SUM(AE100:AG100)/100*F100 -> 5.345425 | X100: =IF($G100=0,0,J100/$G100) -> 0.84862766 | Y100: =IF($G100=0,0,S100/$G100) -> 1.3491122 | Z100: =IF($G100=0,0,L100/$G100) -> 0.84862766 | AA100: =S100*Parametreler!$B$12 -> 41.210291 | AB100: =AA100*F100 -> 412.10291 | AE100: =INDEX('İşçilik Özet'!$W$6:$W$200,MATCH($A100&"",'İşçilik Özet'!$A$6:$A$200,0)) -> 11.87375 | AF100: =INDEX('İşçilik Özet'!$X$6:$X$200,MATCH($A100&"",'İşçilik Özet'!$A$6:$A$200,0)) -> 22.9125 | AG100: =INDEX('İşçilik Özet'!$Y$6:$Y$200,MATCH($A100&"",'İşçilik Özet'!$A$6:$A$200,0)) -> 18.668 | AH100: =(L100+P100)*F100+IF(E100="Kataforez",N(Q100)*F100,IF(E100="Yaş boya",ROUNDUP(F100/MAX(1,ROUND(IF(ISNUMBER(Q100),Q100,Parametreler!$B$11),0)),0)*Parametreler!$B$10,0)) -> 288.18385
...

Sheet Parametreler
A1: Parametreler – ST52 maliyet analizi
A2: Sarı hücreler değiştirilebilir; Maliyet Analizi sayfası yeniden hesaplanır.
A4: Parametre | B4: Değer | C4: Kaynak
A5: Sac satınalma fiyatı (€/kg) | B5: 0.8 | C5: Sac Parametreleri B4 buna bağlı
A6: Hurda (fire) satış fiyatı (€/kg) | B6: =18/55 -> 0.32727273 | C6: Sac Parametreleri B5 buna bağlı
A7: Büküm saat ücreti (€/h) | B7: ='İşçilik Parametreleri'!B9 -> 20 | C7: İşçilik Parametreleri B9 (bağlı)
A8: Puntalama saat ücreti (€/h) | B8: ='İşçilik Parametreleri'!B17 -> 20 | C8: İşçilik Parametreleri B17 (bağlı)
A9: Kaynak saat ücreti (€/h) | B9: ='İşçilik Parametreleri'!B25 -> 20 | C9: İşçilik Parametreleri B25 (bağlı)
A10: Yaş boya araba maliyeti (€/araba) | B10: 80 | C10: Kullanıcı girdisi (31.10.2026) – Yaş Boya Listesi ve İşçilik Parametreleri buna bağlı
A11: Yaş boya varsayılan parça/araba | B11: 1 | C11: Değer boşsa kullanılır (ST52_ozet_guncel B7)
A12: Satış fiyatı katsayısı (birim maliyet ×) | B12: 1.43 | C12: Kullanıcı girdisi (20.10.2026)
A13: Kataforez tahmini – küçük sac parça €/kg (yüksek senaryo) | B13: =MAX('Kataforez Teklifleri'!G19,'Kataforez Teklifleri'!K19)/'Kataforez Teklifleri'!D19 -> 1.6944444 | C13: Teklifi olmayan küçük parçalar için: en yakın emsal 404570 Stop Braket (0,36 kg), iki teklifin yükseği / ağırlık
A14: Notlar
A15: • Sac maliyeti = Brüt sac (kg) × sac €/kg − Fire (kg) × hurda €/kg. Brüt sac, fire ve sac maliyeti "Sac Özet" sayfasından formülle gelir (Sac Parça Detay toplamları).
A16: Kalınlık bazlı ve Hardox fiyatı "Sac Parametreleri" sayfasında girilir; Maliyet Analizi otomatik güncellenir.
A17: • Büküm / punta / kaynak süreleri (ch = saatin yüzde biri) "İşçilik Özet" sayfasından (W–Y) formülle çekilir; saat ücretleri İşçilik Parametreleri sayfasında. € = ch / 100 × saat ücreti.
A18: • Boya: Kataforez → değer = €/parça (elle girilir). Yaş boya → €/parça = araba maliyeti / parça-araba; sipariş boya = YUKARIYUVARLA(adet / parça-araba) × araba maliyeti.
A19: • "Satınalma malzeme" = Satınalma Parçaları sayfasında adet × fiyat (L sütunu) ürün bazında toplamı; fiyatı sayı olmayan kalemler 0 sayılır.
A20: Hangi kalemlerin satın alınacağı "Satınalma Kalemleri" sayfasında listelendi (kaynak: ST52_sac_maliyet_ozet.xlsx › Hesap Dışı Parçalar; "Resimde yok" satırları hariç).
A21: • Sac (31.10.2026 güncel) ve işçilik bu dosyadaki İşçilik sayfalarından canlı hesaplanır (birleştirme 31.10.2026).

Sheet İşçilik Özet
A1: Kaynaklı ST52 Maliyet Özeti – İşçilik (ST52_ozet_guncel_iscilikler.xlsx, birleştirildi 31.10.2026)
A2: 195 ürün (58 STEP modelinden, 137 STEP olmadan teknik resimden tahmin: "Kaynak" sütunu) · oluşturma 2026-10-19 · parametreler "Parametreler" sayfasında · sarı hücreler girdi (boya yöntemi, değer, adet)
A4: ÜRÜN | H4: MODEL | Q4: DİKİŞ BOYU | W4: SÜRE (PARÇA BAŞI, CH) | AA4: BOYA / KAPLAMA | AD4: MALİYET
A5: Kod | B5: Kaynak | C5: Ürün | D5: Rev. | E5: Yüzey (resim) | F5: Bulgu: fark | G5: Bulgu: eksik/çelişki | H5: Parça | I5: Puntalanan parça | J5: Büküm | K5: kg resim | L5: kg model | M5: Fark % | N5: Birleşim (temas hariç) | O5: Dikiş sayısı | P5: Punta | Q5: Dikiş a≤4 (mm) | R5: a5 (mm) | S5: a6 (mm) | T5: a7 (mm) | U5: a≥8 (mm) | V5: Toplam (m) | W5: Büküm | X5: Punta | Y5: Kaynak | Z5: Toplam dk | AA5: Yöntem | AB5: Değer (€/parça ya da parça/araba) | AC5: Parça başı € | AD5: İşçilik € | AE5: Birim € | AF5: Adet | AG5: Sipariş € | AH5: Saat
A6: 1343489 | B6: STEP modeli | C6: Izgara 1202X839 (Yeni Switch) | D6: B | E6: Epoksi astar 50+20 µm | F6: 2 | G6: 8 | H6: 100 | I6: 64 | J6: 16 | K6: 58.013 | L6: 59.956 | M6: =IF(ISNUMBER(K6),(L6-K6)/K6,"") -> 0.033492493 | N6: 5 | O6: 5 | P6: 0 | Q6: 536 | R6: 0 | S6: 0 | T6: 0 | U6: 0 | V6: =SUM(Q6:U6)*'İşçilik Parametreleri'!$B$28/1000 -> 0.536 | W6: =SUMIF('Büküm Parçaları'!$A$2:$A$213,A6,'Büküm Parçaları'!$I$2:$I$213) -> 52.44 | X6: =(I6*'İşçilik Parametreleri'!$B$18+IF(L6>'İşçilik Parametreleri'!$B$21,'İşçilik Parametreleri'!$B$20,'İşçilik Parametreleri'!$B$19)+N6*'İşçilik Parametreleri'!$B$22)*'İşçilik Parametreleri'!$B$23 -> 95 | Y6: =(IF('İşçilik Parametreleri'!$B$27="Resme göre",(Q6*INDEX('İşçilik Parametreleri'!$F$16:$I$20,1,MATCH('İşçilik Parametreleri'!$B$26,{"Manuel","Robot","HTD","Lazer"},0))+R6*INDEX('İşçilik Parametreleri'!$F$16:$I$20,2,MATCH('İşçilik Parametreleri'!$B$26,{"Manuel","Robot","HTD","Lazer"},0))+S6*INDEX('İşçilik Parametreleri'!$F$16:$I$20,3,MATCH('İşçilik Parametreleri'!$B$26,{"Manuel","Robot","HTD","Lazer"},0))+T6*INDEX('İşçilik Parametreleri'!$F$16:$I$20,4,MATCH('İşçilik Parametreleri'!$B$26,{"Manuel","Robot","HTD","Lazer"},0))+U6*INDEX('İşçilik Parametreleri'!$F$16:$I$20,5,MATCH('İşçilik Parametreleri'!$B$26,{"Manuel","Robot","HTD","Lazer"},0))),SUM(Q6:U6)*INDEX('İşçilik Parametreleri'!$F$16:$I$20,MATCH(VALUE('İşçilik Parametreleri'!$B$27),'İşçilik Parametreleri'!$E$16:$E$20,0),MATCH('İşçilik Parametreleri'!$B$26,{"Manuel","Robot","HTD","Lazer"},0)))*'İşçilik Parametreleri'!$B$28/1000+O6*IF(OR('İşçilik Parametreleri'!$B$26="Robot",'İşçilik Parametreleri'!$B$26="HTD"),'İşçilik Parametreleri'!$B$30,'İşçilik Parametreleri'!$B$29))*'İşçilik Parametreleri'!$B$31 -> 8.752 | Z6: =(W6+X6+Y6)*0.6 -> 93.7152 | AA6: Yaş boya | AB6: 10000 | AC6: =IF(AA6="Kataforez",N(AB6),IF(AA6="Yaş boya",'İşçilik Parametreleri'!$B$6/MAX(1,ROUND(IF(ISNUMBER(AB6),AB6,'İşçilik Parametreleri'!$B$7),0)),0)) -> 0.008 | AD6: =W6/100*'İşçilik Parametreleri'!$B$9+X6/100*'İşçilik Parametreleri'!$B$17+Y6/100*'İşçilik Parametreleri'!$B$25 -> 31.2384 | AE6: =AD6+AC6 -> 31.2464 | AF6: 119 | AG6: =AD6*AF6+IF(AA6="Kataforez",N(AB6)*AF6,IF(AA6="Yaş boya",ROUNDUP(AF6/MAX(1,ROUND(IF(ISNUMBER(AB6),AB6,'İşçilik Parametreleri'!$B$7),0)),0)*'İşçilik Parametreleri'!$B$6,0)) -> 3797.3696 | AH6: =(W6+X6+Y6)*AF6/100 -> 185.86848
A7: 112616 | B7: Resimden tahmin | C7: Tampon Basamağı | D7: B.4 | E7: Astar: EPOKSI 50+20 μm | F7: 1 | G7: 2 | H7: 17 | I7: 17 | J7: 10 | K7: 4.083 | L7: 4.078 | M7: =IF(ISNUMBER(K7),(L7-K7)/K7,"") -> -0.0012245898 | N7: 26 | O7: 26 | P7: 0 | Q7: 910 | R7: 0 | S7: 0 | T7: 0 | U7: 0 | V7: =SUM(Q7:U7)*'İşçilik Parametreleri'!$B$28/1000 -> 0.91 | W7: =SUMIF('Büküm Parçaları'!$A$2:$A$213,A7,'Büküm Parçaları'!$I$2:$I$213) -> 32.775 | X7: =(I7*'İşçilik Parametreleri'!$B$18+IF(L7>'İşçilik Parametreleri'!$B$21,'İşçilik Parametreleri'!$B$20,'İşçilik Parametreleri'!$B$19)+N7*'İşçilik Parametreleri'!$B$22)*'İşçilik Parametreleri'!$B$23 -> 57.9125 | Y7: =(IF('İşçilik Parametreleri'!$B$27="Resme göre",(Q7*INDEX('İşçilik Parametreleri'!$F$16:$I$20,1,MATCH('İşçilik Parametreleri'!$B$26,{"Manuel","Robot","HTD","Lazer"},0))+R7*INDEX('İşçilik Parametreleri'!$F$16:$I$20,2,MATCH('İşçilik Parametreleri'!$B$26,{"Manuel","Robot","HTD","Lazer"},0))+S7*INDEX('İşçilik Parametreleri'!$F$16:$I$20,3,MATCH('İşçilik Parametreleri'!$B$26,{"Manuel","Robot","HTD","Lazer"},0))+T7*INDEX('İşçilik Parametreleri'!$F$16:$I$20,4,MATCH('İşçilik Parametreleri'!$B$26,{"Manuel","Robot","HTD","Lazer"},0))+U7*INDEX('İşçilik Parametreleri'!$F$16:$I$20,5,MATCH('İşçilik Parametreleri'!$B$26,{"Manuel","Robot","HTD","Lazer"},0))),SUM(Q7:U7)*INDEX('İşçilik Parametreleri'!$F$16:$I$20,MATCH(VALUE('İşçilik Parametreleri'!$B$27),'İşçilik Parametreleri'!$E$16:$E$20,0),MATCH('İşçilik Parametreleri'!$B$26,{"Manuel","Robot","HTD","Lazer"},0)))*'İşçilik Parametreleri'!$B$28/1000+O7*IF(OR('İşçilik Parametreleri'!$B$26="Robot",'İşçilik Parametreleri'!$B$26="HTD"),'İşçilik Parametreleri'!$B$30,'İşçilik Parametreleri'!$B$29))*'İşçilik Parametreleri'!$B$31 -> 32.37 | Z7: =(W7+X7+Y7)*0.6 -> 73.8345 | AA7: Yaş boya | AB7: 10000 | AC7: =IF(AA7="Kataforez",N(AB7),IF(AA7="Yaş boya",'İşçilik Parametreleri'!$B$6/MAX(1,ROUND(IF(ISNUMBER(AB7),AB7,'İşçilik Parametreleri'!$B$7),0)),0)) -> 0.008 | AD7: =W7/100*'İşçilik Parametreleri'!$B$9+X7/100*'İşçilik Parametreleri'!$B$17+Y7/100*'İşçilik Parametreleri'!$B$25 -> 24.6115 | AE7: =AD7+AC7 -> 24.6195 | AF7: 139 | AG7: =AD7*AF7+IF(AA7="Kataforez",N(AB7)*AF7,IF(AA7="Yaş boya",ROUNDUP(AF7/MAX(1,ROUND(IF(ISNUMBER(AB7),AB7,'İşçilik Parametreleri'!$B$7),0)),0)*'İşçilik Parametreleri'!$B$6,0)) -> 3500.9985 | AH7: =(W7+X7+Y7)*AF7/100 -> 171.04993
A8: 404443 | B8: Resimden tahmin | C8: Bisikletlik Şase Bağlantı Profili (60010086) | D8: A.7 | E8: Kataforez | F8: 1 | G8: 2 | H8: 4 | I8: 4 | J8: 0 | K8: 4.058 | L8: 4.059 | M8: =IF(ISNUMBER(K8),(L8-K8)/K8,"") -> 0.00024642681 | N8: 4 | O8: 4 | P8: 0 | Q8: 472 | R8: 0 | S8: 0 | T8: 0 | U8: 0 | V8: =SUM(Q8:U8)*'İşçilik Parametreleri'!$B$28/1000 -> 0.472 | W8: =SUMIF('Büküm Parçaları'!$A$2:$A$213,A8,'Büküm Parçaları'!$I$2:$I$213) -> 0 | X8: =(I8*'İşçilik Parametreleri'!$B$18+IF(L8>'İşçilik Parametreleri'!$B$21,'İşçilik Parametreleri'!$B$20,'İşçilik Parametreleri'!$B$19)+N8*'İşçilik Parametreleri'!$B$22)*'İşçilik Parametreleri'!$B$23 -> 14.1625 | Y8: =(IF('İşçilik Parametreleri'!$B$27="Resme göre",(Q8*INDEX('İşçilik Parametreleri'!$F$16:$I$20,1,MATCH('İşçilik Parametreleri'!$B$26,{"Manuel","Robot","HTD","Lazer"},0))+R8*INDEX('İşçilik Parametreleri'!$F$16:$I$20,2,MATCH('İşçilik Parametreleri'!$B$26,{"Manuel","Robot","HTD","Lazer"},0))+S8*INDEX('İşçilik Parametreleri'!$F$16:$I$20,3,MATCH('İşçilik Parametreleri'!$B$26,{"Manuel","Robot","HTD","Lazer"},0))+T8*INDEX('İşçilik Parametreleri'!$F$16:$I$20,4,MATCH('İşçilik Parametreleri'!$B$26,{"Manuel","Robot","HTD","Lazer"},0))+U8*INDEX('İşçilik Parametreleri'!$F$16:$I$20,5,MATCH('İşçilik Parametreleri'!$B$26,{"Manuel","Robot","HTD","Lazer"},0))),SUM(Q8:U8)*INDEX('İşçilik Parametreleri'!$F$16:$I$20,MATCH(VALUE('İşçilik Parametreleri'!$B$27),'İşçilik Parametreleri'!$E$16:$E$20,0),MATCH('İşçilik Parametreleri'!$B$26,{"Manuel","Robot","HTD","Lazer"},0)))*'İşçilik Parametreleri'!$B$28/1000+O8*IF(OR('İşçilik Parametreleri'!$B$26="Robot",'İşçilik Parametreleri'!$B$26="HTD"),'İşçilik Parametreleri'!$B$30,'İşçilik Parametreleri'!$B$29))*'İşçilik Parametreleri'!$B$31 -> 7.304 | Z8: =(W8+X8+Y8)*0.6 -> 12.8799 | AA8: Kataforez | AC8: =IF(AA8="Kataforez",N(AB8),IF(AA8="Yaş boya",'İşçilik Parametreleri'!$B$6/MAX(1,ROUND(IF(ISNUMBER(AB8),AB8,'İşçilik Parametreleri'!$B$7),0)),0)) -> 0 | AD8: =W8/100*'İşçilik Parametreleri'!$B$9+X8/100*'İşçilik Parametreleri'!$B$17+Y8/100*'İşçilik Parametreleri'!$B$25 -> 4.2933 | AE8: =AD8+AC8 -> 4.2933 | AF8: 652 | AG8: =AD8*AF8+IF(AA8="Kataforez",N(AB8)*AF8,IF(AA8="Yaş boya",ROUNDUP(AF8/MAX(1,ROUND(IF(ISNUMBER(AB8),AB8,'İşçilik Parametreleri'!$B$7),0)),0)*'İşçilik Parametreleri'!$B$6,0)) -> 2799.2316 | AH8: =(W8+X8+Y8)*AF8/100 -> 139.96158
A9: 0913348 | B9: STEP modeli | C9: H40 Arka Bom Desteği | D9: A.2 | E9: Kataforez | F9: 2 | G9: 4 | H9: 19 | I9: 19 | J9: 12 | K9: 57.446 | L9: 62.123 | M9: =IF(ISNUMBER(K9),(L9-K9)/K9,"") -> 0.08141559 | N9: 29 | O9: 18 | P9: 11 | Q9: 10468 | R9: 0 | S9: 0 | T9: 0 | U9: 0 | V9: =SUM(Q9:U9)*'İşçilik Parametreleri'!$B$28/1000 -> 10.468 | W9: =SUMIF('Büküm Parçaları'!$A$2:$A$213,A9,'Büküm Parçaları'!$I$2:$I$213) -> 52.095 | X9: =(I9*'İşçilik Parametreleri'!$B$18+IF(L9>'İşçilik Parametreleri'!$B$21,'İşçilik Parametreleri'!$B$20,'İşçilik Parametreleri'!$B$19)+N9*'İşçilik Parametreleri'!$B$22)*'İşçilik Parametreleri'!$B$23 -> 68.75 | Y9: =(IF('İşçilik Parametreleri'!$B$27="Resme göre",(Q9*INDEX('İşçilik Parametreleri'!$F$16:$I$20,1,MATCH('İşçilik Parametreleri'!$B$26,{"Manuel","Robot","HTD","Lazer"},0))+R9*INDEX('İşçilik Parametreleri'!$F$16:$I$20,2,MATCH('İşçilik Parametreleri'!$B$26,{"Manuel","Robot","HTD","Lazer"},0))+S9*INDEX('İşçilik Parametreleri'!$F$16:$I$20,3,MATCH('İşçilik Parametreleri'!$B$26,{"Manuel","Robot","HTD","Lazer"},0))+T9*INDEX('İşçilik Parametreleri'!$F$16:$I$20,4,MATCH('İşçilik Parametreleri'!$B$26,{"Manuel","Robot","HTD","Lazer"},0))+U9*INDEX('İşçilik Parametreleri'!$F$16:$I$20,5,MATCH('İşçilik Parametreleri'!$B$26,{"Manuel","Robot","HTD","Lazer"},0))),SUM(Q9:U9)*INDEX('İşçilik Parametreleri'!$F$16:$I$20,MATCH(VALUE('İşçilik Parametreleri'!$B$27),'İşçilik Parametreleri'!$E$16:$E$20,0),MATCH('İşçilik Parametreleri'!$B$26,{"Manuel","Robot","HTD","Lazer"},0)))*'İşçilik Parametreleri'!$B$28/1000+O9*IF(OR('İşçilik Parametreleri'!$B$26="Robot",'İşçilik Parametreleri'!$B$26="HTD"),'İşçilik Parametreleri'!$B$30,'İşçilik Parametreleri'!$B$29))*'İşçilik Parametreleri'!$B$31 -> 91.276 | Z9: =(W9+X9+Y9)*0.6 -> 127.2726 | AA9: Kataforez | AB9: 4 | AC9: =IF(AA9="Kataforez",N(AB9),IF(AA9="Yaş boya",'İşçilik Parametreleri'!$B$6/MAX(1,ROUND(IF(ISNUMBER(AB9),AB9,'İşçilik Parametreleri'!$B$7),0)),0)) -> 4 | AD9: =W9/100*'İşçilik Parametreleri'!$B$9+X9/100*'İşçilik Parametreleri'!$B$17+Y9/100*'İşçilik Parametreleri'!$B$25 -> 42.4242 | AE9: =AD9+AC9 -> 46.4242 | AF9: 56 | AG9: =AD9*AF9+IF(AA9="Kataforez",N(AB9)*AF9,IF(AA9="Yaş boya",ROUNDUP(AF9/MAX(1,ROUND(IF(ISNUMBER(AB9),AB9,'İşçilik Parametreleri'!$B$7),0)),0)*'İşçilik Parametreleri'!$B$6,0)) -> 2599.7552 | AH9: =(W9+X9+Y9)*AF9/100 -> 118.78776
A10: 103116 | B10: STEP modeli | C10: Pto Pompa Salıncağı | D10: A.19 | E10: Epoksi astar 50+20 µm | F10: 3 | G10: 5 | H10: 11 | I10: 9 | J10: 4 | K10: 32.556 | L10: 33.158 | M10: =IF(ISNUMBER(K10),(L10-K10)/K10,"") -> 0.018491215 | N10: 16 | O10: 16 | P10: 0 | Q10: 0 | R10: 2925 | S10: 0 | T10: 0 | U10: 0 | V10: =SUM(Q10:U10)*'İşçilik Parametreleri'!$B$28/1000 -> 2.925 | W10: =SUMIF('Büküm Parçaları'!$A$2:$A$213,A10,'Büküm Parçaları'!$I$2:$I$213) -> 32.2575 | X10: =(I10*'İşçilik Parametreleri'!$B$18+IF(L10>'İşçilik Parametreleri'!$B$21,'İşçilik Parametreleri'!$B$20,'İşçilik Parametreleri'!$B$19)+N10*'İşçilik Parametreleri'!$B$22)*'İşçilik Parametreleri'!$B$23 -> 40 | Y10: =(IF('İşçilik Parametreleri'!$B$27="Resme göre",(Q10*INDEX('İşçilik Parametreleri'!$F$16:$I$20,1,MATCH('İşçilik Parametreleri'!$B$26,{"Manuel","Robot","HTD","Lazer"},0))+R10*INDEX('İşçilik Parametreleri'!$F$16:$I$20,2,MATCH('İşçilik Parametreleri'!$B$26,{"Manuel","Robot","HTD","Lazer"},0))+S10*INDEX('İşçilik Parametreleri'!$F$16:$I$20,3,MATCH('İşçilik Parametreleri'!$B$26,{"Manuel","Robot","HTD","Lazer"},0))+T10*INDEX('İşçilik Parametreleri'!$F$16:$I$20,4,MATCH('İşçilik Parametreleri'!$B$26,{"Manuel","Robot","HTD","Lazer"},0))+U10*INDEX('İşçilik Parametreleri'!$F$16:$I$20,5,MATCH('İşçilik Parametreleri'!$B$26,{"Manuel","Robot","HTD","Lazer"},0))),SUM(Q10:U10)*INDEX('İşçilik Parametreleri'!$F$16:$I$20,MATCH(VALUE('İşçilik Parametreleri'!$B$27),'İşçilik Parametreleri'!$E$16:$E$20,0),MATCH('İşçilik Parametreleri'!$B$26,{"Manuel","Robot","HTD","Lazer"},0)))*'İşçilik Parametreleri'!$B$28/1000+O10*IF(OR('İşçilik Parametreleri'!$B$26="Robot",'İşçilik Parametreleri'!$B$26="HTD"),'İşçilik Parametreleri'!$B$30,'İşçilik Parametreleri'!$B$29))*'İşçilik Parametreleri'!$B$31 -> 48.175 | Z10: =(W10+X10+Y10)*0.6 -> 72.2595 | AA10: Yaş boya | AB10: 10000 | AC10: =IF(AA10="Kataforez",N(AB10),IF(AA10="Yaş boya",'İşçilik Parametreleri'!$B$6/MAX(1,ROUND(IF(ISNUMBER(AB10),AB10,'İşçilik Parametreleri'!$B$7),0)),0)) -> 0.008 | AD10: =W10/100*'İşçilik Parametreleri'!$B$9+X10/100*'İşçilik Parametreleri'!$B$17+Y10/100*'İşçilik Parametreleri'!$B$25 -> 24.0865 | AE10: =AD10+AC10 -> 24.0945 | AF10: 83 | AG10: =AD10*AF10+IF(AA10="Kataforez",N(AB10)*AF10,IF(AA10="Yaş boya",ROUNDUP(AF10/MAX(1,ROUND(IF(ISNUMBER(AB10),AB10,'İşçilik Parametreleri'!$B$7),0)),0)*'İşçilik Parametreleri'!$B$6,0)) -> 2079.1795 | AH10: =(W10+X10+Y10)*AF10/100 -> 99.958975
A11: 475599 | B11: STEP modeli | C11: 60MM Takozluk | D11: F | E11: Kataforez | F11: 1 | G11: 5 | H11: 6 | I11: 6 | J11: 6 | K11: 17.854 | L11: 17.844 | M11: =IF(ISNUMBER(K11),(L11-K11)/K11,"") -> -0.00056009858 | N11: 8 | O11: 8 | P11: 0 | Q11: 120 | R11: 640 | S11: 0 | T11: 0 | U11: 0 | V11: =SUM(Q11:U11)*'İşçilik Parametreleri'!$B$28/1000 -> 0.76 | W11: =SUMIF('Büküm Parçaları'!$A$2:$A$213,A11,'Büküm Parçaları'!$I$2:$I$213) -> 34.5575 | X11: =(I11*'İşçilik Parametreleri'!$B$18+IF(L11>'İşçilik Parametreleri'!$B$21,'İşçilik Parametreleri'!$B$20,'İşçilik Parametreleri'!$B$19)+N11*'İşçilik Parametreleri'!$B$22)*'İşçilik Parametreleri'!$B$23 -> 21.6625 | Y11: =(IF('İşçilik Parametreleri'!$B$27="Resme göre",(Q11*INDEX('İşçilik Parametreleri'!$F$16:$I$20,1,MATCH('İşçilik Parametreleri'!$B$26,{"Manuel","Robot","HTD","Lazer"},0))+R11*INDEX('İşçilik Parametreleri'!$F$16:$I$20,2,MATCH('İşçilik Parametreleri'!$B$26,{"Manuel","Robot","HTD","Lazer"},0))+S11*INDEX('İşçilik Parametreleri'!$F$16:$I$20,3,MATCH('İşçilik Parametreleri'!$B$26,{"Manuel","Robot","HTD","Lazer"},0))+T11*INDEX('İşçilik Parametreleri'!$F$16:$I$20,4,MATCH('İşçilik Parametreleri'!$B$26,{"Manuel","Robot","HTD","Lazer"},0))+U11*INDEX('İşçilik Parametreleri'!$F$16:$I$20,5,MATCH('İşçilik Parametreleri'!$B$26,{"Manuel","Robot","HTD","Lazer"},0))),SUM(Q11:U11)*INDEX('İşçilik Parametreleri'!$F$16:$I$20,MATCH(VALUE('İşçilik Parametreleri'!$B$27),'İşçilik Parametreleri'!$E$16:$E$20,0),MATCH('İşçilik Parametreleri'!$B$26,{"Manuel","Robot","HTD","Lazer"},0)))*'İşçilik Parametreleri'!$B$28/1000+O11*IF(OR('İşçilik Parametreleri'!$B$26="Robot",'İşçilik Parametreleri'!$B$26="HTD"),'İşçilik Parametreleri'!$B$30,'İşçilik Parametreleri'!$B$29))*'İşçilik Parametreleri'!$B$31 -> 15.88 | Z11: =(W11+X11+Y11)*0.6 -> 43.26 | AA11: Kataforez | AC11: =IF(AA11="Kataforez",N(AB11),IF(AA11="Yaş boya",'İşçilik Parametreleri'!$B$6/MAX(1,ROUND(IF(ISNUMBER(AB11),AB11,'İşçilik Parametreleri'!$B$7),0)),0)) -> 0 | AD11: =W11/100*'İşçilik Parametreleri'!$B$9+X11/100*'İşçilik Parametreleri'!$B$17+Y11/100*'İşçilik Parametreleri'!$B$25 -> 14.42 | AE11: =AD11+AC11 -> 14.42 | AF11: 124 | AG11: =AD11*AF11+IF(AA11="Kataforez",N(AB11)*AF11,IF(AA11="Yaş boya",ROUNDUP(AF11/MAX(1,ROUND(IF(ISNUMBER(AB11),AB11,'İşçilik Parametreleri'!$B$7),0)),0)*'İşçilik Parametreleri'!$B$6,0)) -> 1788.08 | AH11: =(W11+X11+Y11)*AF11/100 -> 89.404
